Workbook

Sheet Bijlage_1
A1: Bijlage 1 - Uitbreiding en/of wijziging gebiedsaanvraag 2027 | G1: afronding getallen tbv verdere rekensommen
A2: Behorende bij: model uitbreiding en/of wijziging gebiedsaanvraag | C2: Alle getallen afronden op maximaal 2 cijfers achter de komma | G2: deze kolom gaat verborgen worden
A4: Lopende beschikking 2026 | B4: Leefgebied | C4: Minimum hectares | D4: Maximum hectares | E4: Gemiddeld bedrag per hectare | F4: Jaarbedrag | G4: afgeronde bedragen
B5: A11 - Open grasland | G5: =ROUND(F5,2) -> 0
B6: A12 - Open akkerland | G6: =ROUND(F6,2) -> 0
B7: A15 - Dooradering | G7: =ROUND(F7,2) -> 0
B8: W01 - Waterbeheergebieden | G8: =ROUND(F8,2) -> 0
B9: K01 - Klimaatbeheergebieden | G9: =ROUND(F9,2) -> 0
A10: Totaal jaarbedrag 2026 | F10: =SUM(F5:F9) -> 0 | G10: =ROUND(F10,2) -> 0
A13: Uitbreiding 2027: prioritaire gebieden [budget A]
B14: A11 - Open grasland | C14: =ROUNDUP($D14/1.15,2) -> 0 | F14: =D14*E14 -> 0 | G14: =ROUND(F14,2) -> 0
B15: A12 - Open akkerland | C15: =ROUNDUP($D15/1.15,2) -> 0 | F15: =D15*E15 -> 0 | G15: =ROUND(F15,2) -> 0
B16: A15 - Dooradering | C16: =ROUNDUP($D16/1.15,2) -> 0 | F16: =D16*E16 -> 0 | G16: =ROUND(F16,2) -> 0
B17: W01 - Waterbeheergebieden | C17: =ROUNDUP($D17/1.15,2) -> 0 | F17: =D17*E17 -> 0 | G17: =ROUND(F17,2) -> 0
B18: K01 - Klimaatbeheergebieden | C18: =ROUNDUP($D18/1.15,2) -> 0 | F18: =D18*E18 -> 0 | G18: =ROUND(F18,2) -> 0
A19: Totaal uitbreiding | F19: =SUM(F14:F18) -> 0 | G19: =ROUND(F19,2) -> 0
A21: Uitbreiding 2027: extra doelen [budget B]
B22: A11 - Open grasland | C22: =ROUNDUP($D22/1.15,2) -> 0 | F22: =D22*E22 -> 0 | G22: =ROUND(F22,2) -> 0
B23: A12 - Open akkerland | C23: =ROUNDUP($D23/1.15,2) -> 0 | F23: =D23*E23 -> 0 | G23: =ROUND(F23,2) -> 0
B24: A15 - Dooradering | C24: =ROUNDUP($D24/1.15,2) -> 0 | F24: =D24*E24 -> 0 | G24: =ROUND(F24,2) -> 0
B25: W01 - Waterbeheergebieden | C25: =ROUNDUP($D25/1.15,2) -> 0 | F25: =D25*E25 -> 0 | G25: =ROUND(F25,2) -> 0
B26: K01 - Klimaatbeheergebieden | C26: =ROUNDUP($D26/1.15,2) -> 0 | F26: =D26*E26 -> 0 | G26: =ROUND(F26,2) -> 0
A27: Totaal uitbreiding | F27: =SUM(F22:F26) -> 0 | G27: =ROUND(F27,2) -> 0
A29: Bedragen 2027 (gemiddeld per hectare en jaarbedrag)
B30: A11 - Open grasland | C30: =C5+C14+C22 -> 0 | D30: =D5+D14+D22 -> 0 | G30: =ROUND(F30,2) -> 0
B31: A12 - Open akkerland | C31: =C6+C15+C23 -> 0 | D31: =D6+D15+D23 -> 0 | G31: =ROUND(F31,2) -> 0
B32: A15 - Dooradering | C32: =C7+C16+C24 -> 0 | D32: =D7+D16+D24 -> 0 | G32: =ROUND(F32,2) -> 0
B33: W01 - Waterbeheergebieden | C33: =C8+C17+C25 -> 0 | D33: =D8+D17+D25 -> 0 | G33: =ROUND(F33,2) -> 0
B34: K01 - Klimaatbeheergebieden | C34: =C9+C18+C26 -> 0 | D34: =D9+D18+D26 -> 0 | G34: =ROUND(F34,2) -> 0
A35: Totaal jaarbedrag 2027 | F35: =SUM(F30:F34) -> 0 | G35: =ROUND(F35,2) -> 0
A37: Jaarbedragen
A38: Jaarbedrag 2023 | G38: =ROUND(F38,2) -> 0
A39: Jaarbedrag 2024 | G39: =ROUND(F39,2) -> 0
A40: Jaarbedrag 2025 | G40: =ROUND(F40,2) -> 0
A41: Jaarbedrag 2026 | G41: =ROUND(F41,2) -> 0
A42: Jaarbedrag 2027 | F42: =SUM(F35) -> 0 | G42: =ROUND(F42,2) -> 0
A43: Jaarbedrag 2028* | F43: =SUM(F35) -> 0 | G43: =ROUND(F43,2) -> 0
A45: Totaal bedragen periode 2023-2028 | F45: =SUM(F38:F43) -> 0 | G45: =ROUND(F45,2) -> 0
A46: * De bedragen van 2027 gelden ook voor het jaar 2028.
A48: In te vullen door het collectief uit lopende beschikking
...

Sheet Bijl_2_Open Grasland
A1: Bijlage 2 - Berekening wijziging gebiedsaanvraag 2027
A2: Behorende bij: model uitbreiding en/of wijziging gebiedsaanvraag | D2: Alle getallen afronden op maximaal 2 cijfers achter de komma
A4: Wijzigingsverzoek leefgebied | B4: A11 - Open grasland
A7: Aangevraagde uitbreiding 2027 | B7: Minimum hectares | C7: Maximum hectares | D7: Gemiddeld bedrag per hectare | E7: Totaal subsidie bedrag uitbreiding per jaar | F7: Subsidiebedrag uitbreiding per leefgebied 2027 en 2028
A8: A: prioritaire gebieden | B8: =Bijlage_1!C14 -> 0 | C8: =Bijlage_1!D14 -> 0 | D8: =Bijlage_1!E14 -> 0 | E8: =Bijlage_1!G14 -> 0 | F8: =E8*2 -> 0
A9: B: extra doelen | B9: =Bijlage_1!C22 -> 0 | C9: =Bijlage_1!D22 -> 0 | D9: =Bijlage_1!E22 -> 0 | E9: =Bijlage_1!G22 -> 0 | F9: =E9*2 -> 0
A10: totaal | B10: =B8+B9 -> 0 | C10: =C8+C9 -> 0 | E10: =E8+E9 -> 0 | F10: =F8+F9 -> 0
A12: Lopende beschikking per jaar | B12: =Bijlage_1!C5 -> 0 | C12: =Bijlage_1!D5 -> 0 | D12: =Bijlage_1!E5 -> 0 | E12: =Bijlage_1!G5 -> 0
A14: Jaarbedrag 2023 leefgebied open grasland
A15: Jaarbedrag 2024 leefgebied open grasland
A16: Jaarbedrag 2025 leefgebied open grasland
A17: Jaarbedrag 2026 leefgebied open grasland
A18: Jaarbedrag 2027 leefgebied open grasland | B18: =Bijlage_1!G30 -> 0 | C18: (inclusief uitbreiding)
A19: Jaarbedrag 2028 leefgebied open grasland | B19: =Bijlage_1!G30 -> 0 | C19: (inclusief uitbreiding)
A20: totaal | B20: =SUM(B14:B19) -> 0 | C20: Totaalbedrag subsidie voor het leefgebied 2023 t/m 2028
A25: Gemiddeld bedrag per hectare per jaar
A26: Op basis van een onderbouwing per beheerfunctie
A28: Beheerfuncties | D28: Hectares | E28: Gemiddeld hectare-bedrag | F28: Subsidiebedrag | G28: Gemiddeld hectare-bedrag
A29: Optimaliseren fourageer- en broed- en opgroeimogelijkheden | B29: lopende beschikking | G29: =ROUND((F29+F30)/(D29+D30),2) -> #DIV/0!
A30: Creëren nat biotoop
A32: F01.12 - Optimaliseren foerageer-, en broed- en opgroeimogelijkheden (nieuw in prioritaire gebieden) | B32: A: prioritaire gebieden | G32: =ROUND((F32+F33)/(D32+D33),2) -> #DIV/0!
A33: F01.15 - Creëren nat biotoop (nieuw in prioritaire gebieden)
A35: F01.12 - Optimaliseren foerageer-, en broed- en opgroeimogelijkheden (nieuw extra budget) | B35: B: extra doelen | G35: =ROUND((F35+F36)/(D35+D36),2) -> #DIV/0!
A36: F01.15 - Creëren nat biotoop (nieuw extra budget)
A38: Totaal | D38: =SUM(D29:D36) -> 0 | F38: =SUM(F29:F36) -> 0
A41: Controle gemiddeld bedrag
A42: Controle gemiddeld bedrag= totaal subsidiebedrag / maximum hectares | E42: =F38/D38 -> #DIV/0! | F42: Gemiddeld bedrag per leefgebied per jaar
A44: Verschilanalyse tussen jaarbedragen:
A45: Totaal jaarbedrag beheerfuncties | E45: =F38 -> 0
A46: Berekend jaarbedrag 2027 (Bijlage_1) | E46: =Bijlage_1!F30 -> 0
A47: Verschil | E47: =E45-E46 -> 0
A49: Aansluiting kostenonderbouwing met jaarbedrag
A50: Verschilanalyse / Maximum hectares | B50: =E47/D38 -> #DIV/0! | C50: is: | D50: Afwijking
B51: 0.01 | C51: is: | D51: Maximaal toegestane afwijking
B52: =IF(ABS(B50)<=B51,"correct","niet correct") -> #DIV/0! | C52: is: | D52: Resultaat van controle

Sheet Bijl_2_Open Akkerland
A1: Bijlage 2 - Berekening wijziging gebiedsaanvraag 2027
A2: Behorende bij: model uitbreiding en/of wijziging gebiedsaanvraag | D2: Alle getallen afronden op maximaal 2 cijfers achter de komma
A4: Wijzigingsverzoek leefgebied | B4: A12 - Open akkerland
A7: Aangevraagde uitbreiding 2027 | B7: Minimum hectares | C7: Maximum hectares | D7: Gemiddeld bedrag per hectare | E7: Totaal subsidie bedrag uitbreiding per jaar | F7: Subsidiebedrag uitbreiding per leefgebied 2027 en 2028
A8: A: prioritaire gebieden | B8: =Bijlage_1!C15 -> 0 | C8: =Bijlage_1!D15 -> 0 | D8: =Bijlage_1!E15 -> 0 | E8: =Bijlage_1!G15 -> 0 | F8: =E8*2 -> 0
A9: B: extra doelen | B9: =Bijlage_1!C23 -> 0 | C9: =Bijlage_1!D23 -> 0 | D9: =Bijlage_1!E23 -> 0 | E9: =Bijlage_1!G23 -> 0 | F9: =E9*2 -> 0
A10: totaal | B10: =B8+B9 -> 0 | C10: =C8+C9 -> 0 | E10: =E8+E9 -> 0 | F10: =F8+F9 -> 0
A12: Lopende beschikking per jaar | B12: =Bijlage_1!C6 -> 0 | C12: =Bijlage_1!D6 -> 0 | D12: =Bijlage_1!E6 -> 0 | E12: =Bijlage_1!G6 -> 0
A14: Jaarbedrag 2023 leefgebied open akkerland
A15: Jaarbedrag 2024 leefgebied open akkerland
A16: Jaarbedrag 2025 leefgebied open akkerland
A17: Jaarbedrag 2026 leefgebied open akkerland
A18: Jaarbedrag 2027 leefgebied open akkerland | B18: =Bijlage_1!G31 -> 0 | C18: (inclusief uitbreiding)
A19: Jaarbedrag 2028 leefgebied open akkerland | B19: =Bijlage_1!G31 -> 0 | C19: (inclusief uitbreiding)
A20: totaal | B20: =SUM(B14:B19) -> 0 | C20: Totaalbedrag subsidie voor het leefgebied 2023 t/m 2028
A25: Gemiddeld bedrag per hectare per jaar
A26: Op basis van een onderbouwing per beheerfunctie
A28: Beheerfuncties | D28: Hectares | E28: Gemiddeld hectare-bedrag | F28: Subsidiebedrag | G28: Gemiddeld hectare-bedrag
A29: Creëren foerageergebied | B29: lopende beschikking | G29: =ROUND((F29+F30)/(D29+D30),2) -> #DIV/0!
A30: Optimaliseren voortplantingsmogelijkheden
A32: Creëren foerageergebied (uitbreiding in prioritaire gebieden) | B32: A: prioritaire gebieden | G32: =ROUND((F32+F33)/(D32+D33),2) -> #DIV/0!
A33: Optimaliseren voortplantingsmogelijkheden (uitbreiding in prioritaire gebieden)
A35: Creëren foerageergebied (uitbreiding extra doelen) | B35: B: extra doelen | G35: =ROUND((F35+F36)/(D35+D36),2) -> #DIV/0!
A36: Optimaliseren voortplantingsmogelijkheden (uitbreiding extra doelen)
A38: Totaal | D38: =SUM(D29:D36) -> 0 | F38: =SUM(F29:F36) -> 0
A41: Controle gemiddeld bedrag
A42: Controle gemiddeld bedrag= totaal subsidiebedrag / maximum hectares | E42: =F38/D38 -> #DIV/0! | F42: Gemiddeld bedrag per leefgebied per jaar
A44: Verschilanalyse tussen jaarbedragen:
A45: Totaal jaarbedrag beheerfuncties | E45: =F38 -> 0
A46: Berekend jaarbedrag 2027 (Bijlage_1) | E46: =Bijlage_1!G31 -> 0
A47: Verschil | E47: =E45-E46 -> 0
A49: Aansluiting kostenonderbouwing met jaarbedrag
A50: Verschilanalyse / Maximum hectares | B50: =E47/D38 -> #DIV/0! | C50: is: | D50: Afwijking
B51: 0.01 | C51: is: | D51: Maximaal toegestane afwijking
B52: =IF(ABS(B50)<=B51,"correct","niet correct") -> #DIV/0! | C52: is: | D52: Resultaat van controle

Sheet Bijl_2_Dooradering
A1: Bijlage 2 - Berekening wijziging gebiedsaanvraag 2027
A2: Behorende bij: model uitbreiding en/of wijziging gebiedsaanvraag | D2: Alle getallen afronden op maximaal 2 cijfers achter de komma
A4: Wijzigingsverzoek leefgebied | B4: A15 - Dooradering
A7: Aangevraagde uitbreiding 2027 | B7: Minimum hectares | C7: Maximum hectares | D7: Gemiddeld bedrag per hectare | E7: Totaal subsidie bedrag uitbreiding per jaar | F7: Subsidiebedrag uitbreiding per leefgebied 2027 en 2028
A8: A: prioritaire gebieden | B8: =Bijlage_1!C16 -> 0 | C8: =Bijlage_1!D16 -> 0 | D8: =Bijlage_1!E16 -> 0 | E8: =Bijlage_1!G16 -> 0 | F8: =E8*2 -> 0
A9: B: extra doelen | B9: =Bijlage_1!C24 -> 0 | C9: =Bijlage_1!D24 -> 0 | D9: =Bijlage_1!E24 -> 0 | E9: =Bijlage_1!G24 -> 0 | F9: =E9*2 -> 0
A10: totaal | B10: =B8+B9 -> 0 | C10: =C8+C9 -> 0 | E10: =E8+E9 -> 0 | F10: =F8+F9 -> 0
A12: Lopende beschikking per jaar | B12: =Bijlage_1!C7 -> 0 | C12: =Bijlage_1!D7 -> 0 | D12: =Bijlage_1!E7 -> 0 | E12: =Bijlage_1!G7 -> 0
A14: Jaarbedrag 2023 leefgebied dooradering
A15: Jaarbedrag 2024 leefgebied dooradering
A16: Jaarbedrag 2025 leefgebied dooradering
A17: Jaarbedrag 2026 leefgebied dooradering
A18: Jaarbedrag 2027 leefgebied dooradering | B18: =Bijlage_1!G32 -> 0 | C18: (inclusief uitbreiding)
A19: Jaarbedrag 2028 leefgebied dooradering | B19: =Bijlage_1!G32 -> 0 | C19: (inclusief uitbreiding)
A20: totaal | B20: =SUM(B14:B19) -> 0 | C20: Totaalbedrag subsidie voor het leefgebied 2023 t/m 2028
A25: Gemiddeld bedrag per hectare per jaar
A26: Op basis van een onderbouwing per beheerfunctie
A28: Beheerfuncties | D28: Hectares | E28: Gemiddeld hectare-bedrag | F28: Subsidiebedrag | G28: Gemiddeld hectare-bedrag
A29: Optimaliseren fourageer- en broed- en opgroeimogelijkheden | B29: lopende beschikking | G29: =ROUND((F29+F30)/(D29+D30),2) -> #DIV/0!
A30: Verschralen
A32: F01.12 - Optimaliseren foerageer-, en broed- en opgroeimogelijkheden (uitbreiding prioritaire gebieden) | B32: A: prioritaire gebieden | G32: =ROUND((F32+F33)/(D32+D33),2) -> #DIV/0!
A33: Verschralen (uitbreiding in prioritaire gebieden)
A35: F01.12 - Optimaliseren foerageer-, en broed- en opgroeimogelijkheden (uitbreiding extra doelen) | B35: B: extra doelen | G35: =ROUND((F35+F36)/(D35+D36),2) -> #DIV/0!
A36: Verschralen (uitbreiding extra doelen)
A38: Totaal | D38: =SUM(D29:D36) -> 0 | F38: =SUM(F29:F36) -> 0
A41: Controle gemiddeld bedrag
A42: Controle gemiddeld bedrag= totaal subsidiebedrag / maximum hectares | E42: =F38/D38 -> #DIV/0! | F42: Gemiddeld bedrag per leefgebied per jaar
A44: Verschilanalyse tussen jaarbedragen:
A45: Totaal jaarbedrag beheerfuncties | E45: =F38 -> 0
A46: Berekend jaarbedrag 2027 (Bijlage_1) | E46: =Bijlage_1!G30 -> 0
A47: Verschil | E47: =E45-E46 -> 0
A49: Aansluiting kostenonderbouwing met jaarbedrag
A50: Verschilanalyse / Maximum hectares | B50: =E47/D38 -> #DIV/0! | C50: is: | D50: Afwijking
B51: 0.01 | C51: is: | D51: Maximaal toegestane afwijking
B52: =IF(ABS(B50)<=B51,"correct","niet correct") -> #DIV/0! | C52: is: | D52: Resultaat van controle

Sheet Bijl_2_Water
A1: Bijlage 2 - Berekening wijziging gebiedsaanvraag 2027
A2: Behorende bij: model uitbreiding en/of wijziging gebiedsaanvraag | D2: Alle getallen afronden op maximaal 2 cijfers achter de komma
A4: Wijzigingsverzoek leefgebied | B4: W01 - waterbeheergebieden
A7: Aangevraagde uitbreiding 2027 | B7: Minimum hectares | C7: Maximum hectares | D7: Gemiddeld bedrag per hectare | E7: Totaal subsidie bedrag uitbreiding per jaar | F7: Subsidiebedrag uitbreiding per leefgebied 2027 en 2028
A8: A: prioritaire gebieden | B8: =Bijlage_1!C17 -> 0 | C8: =Bijlage_1!D17 -> 0 | D8: =Bijlage_1!E17 -> 0 | E8: =Bijlage_1!G17 -> 0 | F8: =E8*2 -> 0
A9: B: extra doelen | B9: =Bijlage_1!C25 -> 0 | C9: =Bijlage_1!D25 -> 0 | D9: =Bijlage_1!E25 -> 0 | E9: =Bijlage_1!G25 -> 0 | F9: =E9*2 -> 0
A10: totaal | B10: =B8+B9 -> 0 | C10: =C8+C9 -> 0 | E10: =E8+E9 -> 0 | F10: =F8+F9 -> 0
A12: Lopende beschikking per jaar | B12: =Bijlage_1!C8 -> 0 | C12: =Bijlage_1!D8 -> 0 | D12: =Bijlage_1!E8 -> 0 | E12: =Bijlage_1!G8 -> 0
A14: Jaarbedrag 2023 waterbeheergebieden
A15: Jaarbedrag 2024 waterbeheergebieden
A16: Jaarbedrag 2025 waterbeheergebieden
A17: Jaarbedrag 2026 waterbeheergebieden
A18: Jaarbedrag 2027 waterbeheergebieden | B18: =Bijlage_1!G33 -> 0 | C18: (inclusief uitbreiding)
A19: Jaarbedrag 2028 waterbeheergebieden | B19: =Bijlage_1!G33 -> 0 | C19: (inclusief uitbreiding)
A20: totaal | B20: =SUM(B14:B19) -> 0 | C20: Totaalbedrag subsidie voor het leefgebied 2023 t/m 2028
A25: Gemiddeld bedrag per hectare per jaar
A26: Op basis van een onderbouwing per beheerfunctie
A28: Beheerfuncties | D28: Hectares | E28: Gemiddeld hectare-bedrag | F28: Subsidiebedrag | G28: Gemiddeld hectare-bedrag
A29: Waterbergen | B29: lopende beschikking | G29: =ROUND(SUM(F29:F33)/SUM(D29:D33),2) -> #DIV/0!
A30: Vernatting
A31: Water vasthouden
A32: Verbeteren chemische waterkwaliteit
A33: Verbeteren ecologische waterkwaliteit
A35: Waterbergen (uitbreiding prioritaire gebieden) | B35: A: prioritaire gebieden | G35: =ROUND(SUM(F35:F39)/SUM(D35:D39),2) -> #DIV/0!
A36: Vernatting (uitbreiding prioritaire gebieden)
A37: Water vasthouden (uitbreiding prioritaire gebieden)
A38: Verbeteren chemische waterkwaliteit (uitbreiding prioritaire gebieden)
A39: Verbeteren ecologische waterkwaliteit (uitbreiding prioritaire gebieden)
A41: Waterbergen (uitbreiding extra doelen) | B41: B: extra doelen | G41: =ROUND(SUM(F41:F45)/SUM(D41:D45),2) -> #DIV/0!
A42: Vernatting (uitbreiding extra doelen)
A43: Water vasthouden (uitbreiding extra doelen)
A44: Verbeteren chemische waterkwaliteit (uitbreiding extra doelen)
A45: Verbeteren ecologische waterkwaliteit (uitbreiding extra doelen)
A47: Totaal | D47: =SUM(D29:D45) -> 0 | F47: =SUM(F29:F45) -> 0
A50: Controle gemiddeld bedrag
A51: Controle gemiddeld bedrag= totaal subsidiebedrag / maximum hectares | E51: =F47/D47 -> #DIV/0! | F51: Gemiddeld bedrag per leefgebied per jaar
A53: Verschilanalyse tussen jaarbedragen:
A54: Totaal jaarbedrag beheerfuncties | E54: =F47 -> 0
A55: Berekend jaarbedrag 2027 (Bijlage_1) | E55: =Bijlage_1!G33 -> 0
A56: Verschil | E56: =E54-E55 -> 0
...

Sheet Bijl_2_Klimaat
A1: Bijlage 2 - Berekening wijziging gebiedsaanvraag 2027
A2: Behorende bij: model uitbreiding en/of wijziging gebiedsaanvraag | D2: Alle getallen afronden op maximaal 2 cijfers achter de komma
A4: Wijzigingsverzoek leefgebied | B4: K01 - klimaatbeheergebieden
A7: Aangevraagde uitbreiding 2027 | B7: Minimum hectares | C7: Maximum hectares | D7: Gemiddeld bedrag per hectare | E7: Totaal subsidie bedrag uitbreiding per jaar | F7: Subsidiebedrag uitbreiding per leefgebied 2027 en 2028
A8: A: prioritaire gebieden | B8: =Bijlage_1!C18 -> 0 | C8: =Bijlage_1!D18 -> 0 | D8: =Bijlage_1!E18 -> 0 | E8: =Bijlage_1!G18 -> 0 | F8: =E8*2 -> 0
A9: B: extra doelen | B9: =Bijlage_1!C26 -> 0 | C9: =Bijlage_1!D26 -> 0 | D9: =Bijlage_1!E26 -> 0 | E9: =Bijlage_1!G26 -> 0 | F9: =E9*2 -> 0
A10: totaal | B10: =B8+B9 -> 0 | C10: =C8+C9 -> 0 | E10: =E8+E9 -> 0 | F10: =F8+F9 -> 0
A12: Lopende beschikking per jaar | B12: =Bijlage_1!C9 -> 0 | C12: =Bijlage_1!D9 -> 0 | D12: =Bijlage_1!E9 -> 0 | E12: =Bijlage_1!G9 -> 0
A14: Jaarbedrag 2023 klimaatbeheergebieden
A15: Jaarbedrag 2024 klimaatbeheergebieden
A16: Jaarbedrag 2025 klimaatbeheergebieden
A17: Jaarbedrag 2026 klimaatbeheergebieden
A18: Jaarbedrag 2027 klimaatbeheergebieden | B18: =Bijlage_1!G34 -> 0 | C18: (inclusief uitbreiding)
A19: Jaarbedrag 2028 klimaatbeheergebieden | B19: =Bijlage_1!G34 -> 0 | C19: (inclusief uitbreiding)
A20: totaal | B20: =SUM(B14:B19) -> 0 | C20: Totaalbedrag subsidie voor het leefgebied 2023 t/m 2028
A25: Gemiddeld bedrag per hectare per jaar
A26: Op basis van een onderbouwing per beheerfunctie
A28: Beheerfuncties | D28: Hectares | E28: Gemiddeld hectare-bedrag | F28: Subsidiebedrag | G28: Gemiddeld hectare-bedrag
A29: Vastleggen CO2 | B29: lopende beschikking | G29: =ROUND(SUM(F29:F33)/SUM(D29:D33),2) -> #DIV/0!
A30: Reduceren uitstoot broeikasgassen
A31: Vernatten
A32: Opvangen waterpieken en droogte
A33: Omgaan met verzilting
A35: Vastleggen CO2 (uitbreiding in prioritaire gebieden) | B35: A: prioritaire gebieden | G35: =ROUND(SUM(F35:F39)/SUM(D35:D39),2) -> #DIV/0!
A36: Reduceren uitstoot broeikasgassen (uitbreiding in prioritaire gebieden)
A37: Vernatten (uitbreiding in prioritaire gebieden)
A38: Opvangen waterpieken en droogte (uitbreiding in prioritaire gebieden)
A39: Omgaan met verzilting (uitbreiding in prioritaire gebieden)
A41: Vastleggen CO2 (uitbreiding extra doelen) | B41: B: extra doelen | G41: =ROUND(SUM(F41:F45)/SUM(D41:D45),2) -> #DIV/0!
A42: Reduceren uitstoot broeikasgassen (uitbreiding extra doelen)
A43: Vernatten (uitbreiding extra doelen)
A44: Opvangen waterpieken en droogte (uitbreiding extra doelen)
A45: Omgaan met verzilting (uitbreiding extra doelen)
A47: Totaal | D47: =SUM(D29:D42) -> 0 | F47: =SUM(F29:F42) -> 0
A50: Controle gemiddeld bedrag
A51: Controle gemiddeld bedrag= totaal subsidiebedrag / maximum hectares | E51: =F47/D47 -> #DIV/0! | F51: Gemiddeld bedrag per leefgebied per jaar
A53: Verschilanalyse tussen jaarbedragen:
A54: Totaal jaarbedrag beheerfuncties | E54: =F47 -> 0
A55: Berekend jaarbedrag 2027 (Bijlage_1) | E55: =Bijlage_1!G34 -> 0
A56: Verschil | E56: =E54-E55 -> 0
...

Sheet Bijlage_2_Open Akkerland
A1: Bijlage 2 - Berekening wijziging gebiedsaanvraag 2026
A2: Behorende bij: model uitbreiding en/of wijziging gebiedsaanvraag
A4: Wijzigingsverzoek leefgebied | B4: A12 Open Akkerland
B6: Minimum hectares | C6: Maximum hectares | D6: Gemiddeld bedrag per hectare | E6: Totaal subsidie bedrag | F6: Totaal
A7: Aangevraagde uitbreiding 2026 | B7: =Bijlage_1!$C$15 -> 0 | C7: =Bijlage_1!$D$15 -> 0 | D7: =Bijlage_1!$E$15 -> 0 | E7: =Bijlage_1!$F$15 -> 0
A9: Controleberekening maximum hectares
A10: Maximum hectares = Minimum hectares * 1,15% | F10: =SUM($B$7*115%) -> 0
A11: Afgerond op twee (2) decimalen naar beneden | F11: =ROUNDDOWN($F$10,2) -> 0 | G11: is: | H11: Maximum hectare uitbreiding (afgerond)
A13: Controleberekening subsidiebedrag (uitbreiding)
A14: Subsidiebedrag uitbreiding (per jaar) = maximum hectares * gemiddeld bedrag per hectare | F14: =SUM(C7*D7) -> 0 | G14: is: | H14: Subsidiebedrag uitbreiding per leefgebied per jaar
A15: Subsidiebedrag uitbreiding (totaal) = (maximum hectares * gemiddeld bedrag per hectare) * 3 jaar | F15: =SUM(C7*D7)*3 -> 0 | G15: is: | H15: Subsidiebedrag uitbreiding per leefgebied 2026, 2027, en 2028
A16: Afgerond op twee (2) decimalen naar beneden | F16: =ROUNDDOWN($F$15,2) -> 0 | G16: is: | H16: Subsidiebedrag uitbreiding afgerond per leefgebied 2026, 2027 en 2028
A18: Lopende beschikking per jaar plus ophoging | B18: =Bijlage_1!#REF! -> #REF! | C18: =Bijlage_1!#REF! -> #REF! | D18: =Bijlage_1!#REF! -> #REF! | E18: =Bijlage_1!#REF! -> #REF!
A19: Lopende beschikking = maximum hectares * gemiddeld bedrag per hectare | F19: =C18*D18 -> #REF!
A20: Afgerond op twee (2) decimalen naar beneden | F20: =ROUNDDOWN($F$19,2) -> #REF! | G20: is: | H20: Lopende beschikking per jaar plus verhoging (afgerond)
A21: Jaarbedrag 2023 | G21: is: | H21: Jaarbedrag 2023 (afgerond)
A22: Jaarbedrag 2024 | G22: is: | H22: Jaarbedrag 2024 (afgerond)
A23: Jaarbedrag 2025 | F23: =Bijlage_1!F6 -> 0 | G23: is: | H23: Jaarbedrag 2025 (afgerond)
A24: Jaarbedrag 2026 | F24: =Bijlage_1!#REF!+F14 -> #REF! | G24: is: | H24: Jaarbedrag 2026 (inclusief ophoging en uitbreiding)
A25: Jaarbedrag 2027 | F25: =F24 -> #REF! | G25: is: | H25: Jaarbedrag 2027 (inclusief ophoging en uitbreiding)
A26: Jaarbedrag 2028 | F26: =F24 -> #REF! | G26: is: | H26: Jaarbedrag 2028 (inclusief ophoging en uitbreiding)
A27: Totaalbedrag subsidie voor het leefgebied
A28: Het totale subsidiebedrag = Controle berekening subsidiebedrag (2026, 2027 en 2028) + Lopende beschikking per jaarbedrag (2023, 2024 en 2025) | F28: =F26+F25+F24+F23+F22+F21 -> #REF! | G28: is: | H28: Totaalbedrag subsidie per leefgebied 2023, 2024, 2025, 2026, 2027 en 2028
A30: Gemiddeld bedrag per hectare per jaar
A31: Op basis van de kostenonderbouwing
A33: Beheerfuncties | C33: Hectare | D33: Kosten | E33: Subsidiebedrag | F33: Totaal
A34: Creëren foerageergebied (bestaand+ophoging)
A35: Optimaliseren voortplantingsmogelijkheden (bestaand+ophoging)
A36: F01.11 - Creëren foerageergebied (nieuw)
A37: F01.13 - Optimaliseren voortplantingsmogelijkheden (nieuw)
A38: Totaal | C38: =SUM(C34:C37) -> 0 | D38: =SUM(D34:D37) -> 0 | E38: =SUM(E34:E37) -> 0
A41: Controle gemiddeld bedrag | H41: Gemiddeld bedrag per leefgebied per jaar.
A42: Controle gemiddeld bedrag= totaal subsidiebedrag / maximum hectares | F42: =SUM(E38/C38) -> #DIV/0!
A44: Verschilanalyse tussen jaarbedragen:
A45: Totaalsubsidiebedrag beheerfuncties | F45: =E38 -> 0
A46: Lopende beschikking per jaar inclusief ophoging | F46: =E18 -> #REF!
A47: Uitbreiding per jaar | F47: =F14 -> 0
A48: Verschil | F48: =F45-F46-F47 -> #REF!
A50: Aansluiting kostenonderbouwing met jaarbedrag
A51: Verschilanalyse / Maximum hectares gevraagde uitbreiding | F51: =SUM(F48/C7) -> #REF! | G51: is: | H51: Controle afwijking
...

Sheet Bijlage_2_Dooradering
A1: Bijlage 2 - Berekening wijziging gebiedsaanvraag 2026
A2: Behorende bij: model uitbreiding en/of wijziging gebiedsaanvraag
A4: Wijzigingsverzoek leefgebied | B4: A15 Dooradering
B6: Minimum hectares | C6: Maximum hectares | D6: Gemiddeld bedrag per hectare | E6: Totaal subsidie bedrag | F6: Totaal
A7: Aangevraagde uitbreiding 2026 | B7: =Bijlage_1!$C$16 -> 0 | C7: =Bijlage_1!$D$16 -> 0 | D7: =Bijlage_1!$E$16 -> 0 | E7: =Bijlage_1!$F$16 -> 0
A9: Controleberekening maximum hectares
A10: Maximum hectares = Minimum hectares * 1,15% | F10: =SUM($B$7*115%) -> 0
A11: Afgerond op twee (2) decimalen naar beneden | F11: =ROUNDDOWN($F$10,2) -> 0 | G11: is: | H11: Maximum hectare uitbreiding (afgerond)
A13: Controleberekening subsidiebedrag (uitbreiding)
A14: Subsidiebedrag uitbreiding (per jaar) = maximum hectares * gemiddeld bedrag per hectare | F14: =SUM(C7*D7) -> 0 | G14: is: | H14: Subsidiebedrag uitbreiding per leefgebied per jaar
A15: Subsidiebedrag uitbreiding (totaal) = (maximum hectares * gemiddeld bedrag per hectare) * 3 jaar | F15: =SUM(C7*D7)*3 -> 0 | G15: is: | H15: Subsidiebedrag uitbreiding per leefgebied 2026, 2027, en 2028
A16: Afgerond op twee (2) decimalen naar beneden | F16: =ROUNDDOWN($F$15,2) -> 0 | G16: is: | H16: Subsidiebedrag uitbreiding afgerond per leefgebied 2026, 2027 en 2028
A18: Lopende beschikking per jaar plus verhoging | B18: =Bijlage_1!#REF! -> #REF! | C18: =Bijlage_1!#REF! -> #REF! | D18: =Bijlage_1!#REF! -> #REF! | E18: =Bijlage_1!#REF! -> #REF!
A19: Lopende beschikking = maximum hectares * gemiddeld bedrag per hectare | F19: =C18*D18 -> #REF!
A20: Afgerond op twee (2) decimalen naar beneden | F20: =ROUNDDOWN($F$19,2) -> #REF! | G20: is: | H20: Lopende beschikking per jaar plus verhoging (afgerond)
A21: Jaarbedrag 2023 | G21: is: | H21: Jaarbedrag 2023 (afgerond)
A22: Jaarbedrag 2024 | G22: is: | H22: Jaarbedrag 2024 (afgerond)
A23: Jaarbedrag 2025 | F23: =Bijlage_1!F7 -> 0 | G23: is: | H23: Jaarbedrag 2025 (afgerond)
A24: Jaarbedrag 2026 | F24: =Bijlage_1!#REF!+F14 -> #REF! | G24: is: | H24: Jaarbedrag 2026 (inclusief ophoging en uitbreiding)
A25: Jaarbedrag 2027 | F25: =F24 -> #REF! | G25: is: | H25: Jaarbedrag 2027 (inclusief ophoging en uitbreiding)
A26: Jaarbedrag 2028 | F26: =F24 -> #REF! | G26: is: | H26: Jaarbedrag 2028 (inclusief ophoging en uitbreiding)
A27: Totaalbedrag subsidie voor het leefgebied
A28: Het totale subsidiebedrag = Controle berekening subsidiebedrag (2026, 2027 en 2028) + Lopende beschikking per jaarbedrag (2023, 2024 en 2025) | F28: =F26+F25+F24+F23+F22+F21 -> #REF! | G28: is: | H28: Totaalbedrag subsidie per leefgebied 2023, 2024, 2025, 2026, 2027 en 2028
A30: Gemiddeld bedrag per hectare per jaar
A31: Op basis van de kostenonderbouwing
A33: Beheerfuncties | C33: Hectare | D33: Kosten | E33: Subsidiebedrag | F33: Totaal
A34: Optimaliseren foerageer-, en broed- en opgroeimogelijkheden (bestaand inclusief ophoging)
A35: Verschralen (bestaand inclusief ophoging)
A36: F01.12 - Optimaliseren foerageer-, en broed- en opgroeimogelijkheden (nieuw)
A37: F01.14 - Verschralen (nieuw)
A38: Totaal | C38: =SUM(C34:C37) -> 0 | D38: =SUM(D34:D37) -> 0 | E38: =SUM(E34:E37) -> 0
A41: Controle gemiddeld bedrag | H41: Gemiddeld bedrag per leefgebied per jaar.
A42: Controle gemiddeld bedrag= totaal subsidiebedrag / maximum hectares | F42: =SUM(E38/C38) -> #DIV/0!
A44: Verschilanalyse tussen jaarbedragen:
A45: Totaalsubsidiebedrag beheerfuncties | F45: =E38 -> 0
A46: Lopende beschikking per jaar inclusief ophoging | F46: =F20 -> #REF!
A47: Uitbreiding per jaar | F47: =F14 -> 0
A48: Verschil | F48: =F45-F46-F47 -> #REF!
A50: Aansluiting kostenonderbouwing met jaarbedrag
A51: Verschilanalyse / Maximum hectares gevraagde uitbreiding | F51: =SUM(F48/C7) -> #REF! | G51: is: | H51: Controle afwijking
...

Sheet Bijlage_2_Waterbeheergebieden
A1: Bijlage 2 - Berekening wijziging gebiedsaanvraag 2026
A2: Behorende bij: model uitbreiding en/of wijziging gebiedsaanvraag
A4: Wijzigingsverzoek leefgebied | B4: W01 Waterbeheergebieden
B6: Minimum hectares | C6: Maximum hectares | D6: Gemiddeld bedrag per hectare | E6: Totaal subsidie bedrag | F6: Totaal
A7: Aangevraagde uitbreiding 2026 | B7: =Bijlage_1!$C$17 -> 0 | C7: =Bijlage_1!$D$17 -> 0 | D7: =Bijlage_1!$E$17 -> 0 | E7: =Bijlage_1!$F$17 -> 0
A9: Controleberekening maximum hectares
A10: Maximum hectares = Minimum hectares * 1,15% | F10: =SUM($B$7*115%) -> 0
A11: Afgerond op twee (2) decimalen naar beneden | F11: =ROUNDDOWN($F$10,2) -> 0 | G11: is: | H11: Maximum hectare uitbreiding (afgerond)
A13: Controleberekening subsidiebedrag (uitbreiding)
A14: Subsidiebedrag uitbreiding (per jaar) = maximum hectares * gemiddeld bedrag per hectare | F14: =SUM(C7*D7) -> 0 | G14: is: | H14: Subsidiebedrag uitbreiding per leefgebied per jaar
A15: Subsidiebedrag uitbreiding (totaal) = (maximum hectares * gemiddeld bedrag per hectare) * 3 jaar | F15: =SUM(C7*D7)*3 -> 0 | G15: is: | H15: Subsidiebedrag uitbreiding per leefgebied 2026, 2027, en 2028
A16: Afgerond op twee (2) decimalen naar beneden | F16: =ROUNDDOWN($F$15,2) -> 0 | G16: is: | H16: Subsidiebedrag uitbreiding afgerond per leefgebied 2026, 2027 en 2028
A18: Lopende beschikking per jaar plus verhoging | B18: =Bijlage_1!#REF! -> #REF! | C18: =Bijlage_1!#REF! -> #REF! | D18: =Bijlage_1!#REF! -> #REF! | E18: =Bijlage_1!#REF! -> #REF!
A19: Lopende beschikking = maximum hectares * gemiddeld bedrag per hectare | F19: =C18*D18 -> #REF!
A20: Afgerond op twee (2) decimalen naar beneden | F20: =ROUNDDOWN($F$19,2) -> #REF! | G20: is: | H20: Lopende beschikking per jaar plus verhoging (afgerond)
A21: Jaarbedrag 2023 | G21: is: | H21: Jaarbedrag 2023 (afgerond)
A22: Jaarbedrag 2024 | G22: is: | H22: Jaarbedrag 2024 (afgerond)
A23: Jaarbedrag 2025 | F23: =Bijlage_1!F8 -> 0 | G23: is: | H23: Jaarbedrag 2025 (afgerond)
A24: Jaarbedrag 2026 | F24: =Bijlage_1!#REF!+F14 -> #REF! | G24: is: | H24: Jaarbedrag 2026 (inclusief ophoging en uitbreiding)
A25: Jaarbedrag 2027 | F25: =F24 -> #REF! | G25: is: | H25: Jaarbedrag 2027 (inclusief ophoging en uitbreiding)
A26: Jaarbedrag 2028 | F26: =F24 -> #REF! | G26: is: | H26: Jaarbedrag 2028 (inclusief ophoging en uitbreiding)
A27: Totaalbedrag subsidie voor het leefgebied
A28: Het totale subsidiebedrag = Controle berekening subsidiebedrag (2026, 2027 en 2028) + Lopende beschikking per jaarbedrag (2023, 2024 en 2025) | F28: =F26+F25+F24+F23+F22+F21 -> #REF! | G28: is: | H28: Totaalbedrag subsidie per leefgebied 2023, 2024, 2025, 2026, 2027 en 2028
A30: Gemiddeld bedrag per hectare per jaar
A31: Op basis van de kostenonderbouwing
A33: Beheerfuncties | C33: Hectare | D33: Kosten | E33: Subsidiebedrag | F33: Totaal
A34: Waterbergen (bestaand inclusief ophoging)
A35: Vernatting (bestaand inclusief ophoging)
A36: Water vasthouden (bestaand)
A37: Verbeteren chemische waterkwaliteit (bestaand inclusief ophoging)
A38: Verbeteren ecologische waterkwaliteit (bestaand inclusief ophoging)
A39: F02.11 - Waterbergen (nieuw)
A40: F02.13 - Vernatting (nieuw)
A41: F02.14 - Water vasthouden (nieuw)
A42: F02.15 - Verbeteren chemische waterkwaliteit (nieuw)
A43: F02.16 - Verbeteren ecologische waterkwaliteit (nieuw)
A44: Totaal | C44: =SUM(C34:C43) -> 0 | D44: =SUM(D34:D43) -> 0 | E44: =SUM(E34:E43) -> 0
A47: Controle gemiddeld bedrag | H47: Gemiddeld bedrag per leefgebied per jaar.
A48: Controle gemiddeld bedrag= totaal subsidiebedrag / maximum hectares | F48: =SUM(E44/C44) -> #DIV/0!
A50: Verschilanalyse tussen jaarbedragen:
...

Sheet Bijlage_2_Klimaatbeheergebieden
A1: Bijlage 2 - Berekening wijziging gebiedsaanvraag 2026
A2: Behorende bij: model uitbreiding en/of wijziging gebiedsaanvraag
A4: Wijzigingsverzoek leefgebied | B4: K01 Klimaatbeheergebieden
B6: Minimum hectares | C6: Maximum hectares | D6: Gemiddeld bedrag per hectare | E6: Totaal subsidie bedrag | F6: Totaal
A7: Aangevraagde uitbreiding 2026 | B7: =Bijlage_1!$C$18 -> 0 | C7: =Bijlage_1!$D$18 -> 0 | D7: =Bijlage_1!$E$18 -> 0 | E7: =Bijlage_1!$F$18 -> 0
A9: Controleberekening maximum hectares
A10: Maximum hectares = Minimum hectares * 1,15% | F10: =SUM($B$7*115%) -> 0
A11: Afgerond op twee (2) decimalen naar beneden | F11: =ROUNDDOWN($F$10,2) -> 0 | G11: is: | H11: Maximum hectare uitbreiding (afgerond)
A13: Controleberekening subsidiebedrag (uitbreiding)
A14: Subsidiebedrag uitbreiding (per jaar) = maximum hectares * gemiddeld bedrag per hectare | F14: =SUM(C7*D7) -> 0 | G14: is: | H14: Subsidiebedrag uitbreiding per leefgebied per jaar
A15: Subsidiebedrag uitbreiding (totaal) = (maximum hectares * gemiddeld bedrag per hectare) * 3 jaar | F15: =SUM(C7*D7)*3 -> 0 | G15: is: | H15: Subsidiebedrag uitbreiding per leefgebied 2026, 2027, en 2028
A16: Afgerond op twee (2) decimalen naar beneden | F16: =ROUNDDOWN($F$15,2) -> 0 | G16: is: | H16: Subsidiebedrag uitbreiding afgerond per leefgebied 2026, 2027 en 2028
A18: Lopende beschikking per jaar plus verhoging | B18: =Bijlage_1!#REF! -> #REF! | C18: =Bijlage_1!#REF! -> #REF! | D18: =Bijlage_1!#REF! -> #REF! | E18: =Bijlage_1!#REF! -> #REF!
A19: Lopende beschikking = maximum hectares * gemiddeld bedrag per hectare | F19: =C18*D18 -> #REF!
A20: Afgerond op twee (2) decimalen naar beneden | F20: =ROUNDDOWN($F$19,2) -> #REF! | G20: is: | H20: Lopende beschikking per jaar plus verhoging (afgerond)
A21: Jaarbedrag 2023 | G21: is: | H21: Jaarbedrag 2023 (afgerond)
A22: Jaarbedrag 2024 | G22: is: | H22: Jaarbedrag 2024 (afgerond)
A23: Jaarbedrag 2025 | F23: =Bijlage_1!F9 -> 0 | G23: is: | H23: Jaarbedrag 2025 (afgerond)
A24: Jaarbedrag 2026 | F24: =Bijlage_1!#REF!+F14 -> #REF! | G24: is: | H24: Jaarbedrag 2026 (inclusief ophoging en uitbreiding)
A25: Jaarbedrag 2027 | F25: =F24 -> #REF! | G25: is: | H25: Jaarbedrag 2027 (inclusief ophoging en uitbreiding)
A26: Jaarbedrag 2028 | F26: =F24 -> #REF! | G26: is: | H26: Jaarbedrag 2028 (inclusief ophoging en uitbreiding)
A27: Totaalbedrag subsidie voor het leefgebied
A28: Het totale subsidiebedrag = Controle berekening subsidiebedrag (2026, 2027 en 2028) + Lopende beschikking per jaarbedrag (2023, 2024 en 2025) | F28: =F26+F25+F24+F23+F22+F21 -> #REF! | G28: is: | H28: Totaalbedrag subsidie per leefgebied 2023, 2024, 2025, 2026, 2027 en 2028
A30: Gemiddeld bedrag per hectare per jaar
A31: Op basis van de kostenonderbouwing
A33: Beheerfuncties | C33: Hectare | D33: Kosten | E33: Subsidiebedrag | F33: Totaal
A34: Vastleggen CO2 (bestaand)
A35: Reduceren uitstoot broeikasgassen (bestaand)
A36: Vernatten (bestaand)
A37: Opvangen waterpieken en droogte (bestaand)
A38: Omgaan met verzilting (bestaand)
A39: F03.11 - Vastleggen CO2 (nieuw)
A40: F03.12 - Reduceren Broeikasgassen (nieuw)
A41: F03.13 - Vernatten (nieuw)
A42: F03.14 - Opvangen waterpieken en droogte (nieuw)
A43: F03.15 - Omgaan met verzilting (nieuw)
A44: Totaal | C44: =SUM(C34:C43) -> 0 | D44: =SUM(D34:D43) -> 0 | E44: =SUM(E34:E43) -> 0
A47: Controle gemiddeld bedrag | H47: Gemiddeld bedrag per leefgebied per jaar.
A48: Controle gemiddeld bedrag= totaal subsidiebedrag / maximum hectares | F48: =SUM(E44/C44) -> #DIV/0!
A50: Verschilanalyse tussen jaarbedragen:
...
