Workbook

Sheet Handleiding tbv invullen
B2: Handleiding voor het invullen Standaard begrotingsmodel gebouwde rijksmonumenten provincie Zeeland
B4: Algemeen
C6: Alleen aanvragen waarbij gebruik wordt gemaakt van dit begrotingsmodel kunnen in behandeling worden genomen. Lees deze handleiding goed door voordat u het begrotingsmodel invult.
C8: Dit begrotingsmodel ten behoeve van het aanvragen van restauratiesubsidie voor een gebouwd rijksmonument is vastgesteld op grond van artikel 5.1.1, lid e, van de Subsidieregeling gebouwde rijksmonumenten provincie Zeeland.
C10: Vraagt u restauratiesubsidie aan voor een samenstel van groene monumenten, of betreft uw aanvraag een grote aanleg die u ten behoeve van het beheer heeft verdeeld in meerdere vakken, dan kunt u de verschillende invulbladen in dit model gebruiken voor de verschillende groene monumenten of vakken. Geeft u daarbij steeds duidelijk aan welk rijksmonument of vak elk tabblad betreft, met een verwijzing naar de door u meegestuurde overzichtskaart. Mocht u behoefte hebben aan meer invulbladen, neem dan contact op met de Infodesk van de Rijksdienst voor het Cultureel Erfgoed via ergoed@zeeland.nl
C11: Vraagt u subsidie aan voor één of meerdere groene monumenten? Gebruikt u daarvoor dan het aparte begrotingsmodel voor groene monumenten.
B13: Subsidiabele kosten voor gebouwde monumenten
C15: Om in aanmerking te komen voor subsidie, moeten werkzaamheden sober en doelmatig zijn, technisch noodzakelijk en gericht op maximaal behoud van aanwezige monumentale waarden, in het bijzonder historische materialen en constructies. Werkzaamheden aan niet-monumentale onderdelen (bijv. installaties, verduurzaming) en kosten voor reconstructie, comfortverbetering, verfraaiing en veranderd gebruik zijn in de regel niet subsidiabel op grond van deze regeling. Ook kosten van werkzaamheden die reeds zijn aangevangen of voltooid vóór de subsidieverlening zijn niet subsidiabel.
C17: De subsidiabele werkzaamheden zijn beschreven in de Leidraad subsidiabele instandhoudingskosten (hierna: de Leidraad). De Leidraad is een bijlage bij de Sim, en is te vinden via de volgende link:
C18: https://wetten.overheid.nl/BWBR0032075/#Bijlage
C20: De Leidraad is gebaseerd op de STABU-systematiek. De volgorde van de paragrafen in het begrotingsmodel correspondeert met de volgorde in de Leidraad.
C22: Indien u kosten opvoert voor restauratiewerkzaamheden uitgevoerd door eigen personeel dan dient u bij de eindverantwoording aan de hand van een urenadministratie of accountantsverklaring aan te kunnen tonen dat de kosten specifiek voor de uitvoering van dit plan gemaakt zijn. Dit is met inbegrip van de arbeidsuren voor de coördinatie (aansturing) van vrijwilligers die subsidiabele werkzaamheden uitvoeren.
C24: Werkzaamheden aan klinkende onderdelen van rijksmonumenten zoals orgels, luidklokken, beiaarden en uurwerken, zijn subsidiabel wanneer de klinkende onderdelen op de lijst staan zoals gepubliceerd op de website van de Rijksdienst voor het Cultureel Erfgoed: www.cultureelerfgoed.nl onder het onderwerp Subsidieregeling instandhouding monumenten.
B26: Met restauratie samenhangend onderhoud
C28: Naast restauratiewerkzaamheden kunt u ook de daarmee samenhangende reguliere onderhoudswerkzaamheden opvoeren. Dat onderhoud kan direct samenhangen met de restauratie, maar kan ook in dezelfde werkstroom worden meegenomen omdat het efficiënter is, bijvoorbeeld omdat voor de restauratiewerkzaamheden bepaald materieel nodig is dat ook ingezet kan worden voor specifieke onderhoudswerkzaamheden. Werkzaamheden waarvoor reeds Sim-subsidie is verleend mogen uiteraard niet nogmaals opgevoerd worden.
B30: Beperkingen t.a.v. maximale subsidiabele kosten
C32: Voor de aanvraagronde van 2026 geldt een maximum subsidiabel uurloon van € 56,30 exclusief algemene kosten, winst en risico en btw. Tijdens de beoordeling zal gecontroleerd worden of het ingevulde uurtarief voldoet aan dit maximale subsidiabele uurtarief. Dit tarief geldt voor de gehele activiteitenperiode. Voor volgende aanvraagrondes kan dit uurloon aangepast worden. Het maximale subsidiabele uurloon per ronde staat op de website www.cultureelerfgoed.nl.
C34: Voor sommige posten in de ‘staart’ (onderaan het invulblad) gelden beperkingen ten aanzien van het maximaal te subsidiëren percentage. Deze maximale percentages vindt u in de Leidraad subsidiabele instandhoudingskosten. Wat betreft de maximum percentages uit hoofdstuk 2 van de Leidraad geldt voor grote restauraties standaard het laagste percentage uit tabel 3, namelijk 10% voor plankosten (incl. aanvullende stukken) en begeleidingskosten samen.
B36: Algemene aanwijzingen voor het gebruik van dit Excel-document
C38: U kunt invulregels die u niet nodig heeft verbergen: u selecteert de regels en klikt vervolgens met de rechtermuisknop en kiest voor "verbergen". Ook zijn er per paragraaf uit de Leidraad verborgen regels voor het geval u méér ruimte nodig heeft dan het standaard aantal regels. Om deze verborgen regels, herkenbaar aan de niet doorlopende regelnummering in de linker kantlijn, weer zichtbaar en daarmee bruikbaar te maken, selecteert u de regel voor en na de verborgen regels. U klikt vervolgens met de rechtermuisknop en kiest voor "zichtbaar maken". Is het aantal regels nog steeds niet toereikend? Neem dan contact op met de Provincie Zeeland via erfgoed@zeeland.nl.
C40: Staat er een rood driehoekje rechtsboven in een cel? Dan is er een verborgen toelichting opgenomen. Door met de cursor op het driehoekje te gaan staan, kunt u die toelichting lezen.
C42: Enkele cellen geven een waarschuwing bij het overschrijden van een bepaald bedrag of percentage. De cel zal, bij het negeren van de waarschuwing, oranje kleuren en geeft daarmee aan dat de ingevoerde waarde afwijkt van de maximale waarde die in de Leidraad wordt genoemd.
B44: Invullen van de begroting
C46: Basisgegevens
C48: U vult de basisgegevens van het rijksmonument en deze begroting in de grijze blokken in, boven in het invulblad.
C50: Heeft het invulblad betrekking op een zelfstandig onderdeel van een rijksmonument? Vult u dan in om welk zelfstandig onderdeel het gaat, met een verwijzing naar de door u meegestuurde tekening.
C52: Directe kosten (paragrafen uit de Leidraad)
C54: U vult in de eerste kolom de omschrijving van de werkzaamheden in. Vervolgens vult u de kolommen Aantal en Eenheid in. De bij het aantal te gebruiken eenheid staat in kolom Eenheid: m1 (m1 strekkende meter), m2 (m2 vierkante meter), m3 (m3 kubieke meter), post, st (stuks), stpst (stelpost), dag, wk (week), vr (vracht), off (offerte), are, ha (hectare). De kosten van de werkzaamheden moeten gespecificeerd worden in uren, materialen, onderaanneming en stelposten. Let op: de bedragen voor arbeid in de begroting worden automatisch aangepast aan het door u gekozen standaard uurtarief.
C56: Er is geen aparte kolom voor materieel in de begroting opgenomen. Mocht u (groot) materieel toch willen begroten, gebruikt u daarvoor dan een aparte invulregel onder de desbetreffende paragraaf en vult u de kosten van het materieel in de kolom onderaanneming in.
C58: Indirecte kosten/staartkosten
C60: In de staart onderaan de begroting voert u o.a. de van toepassing zijnde percentages in voor onvoorzien, directiekosten, leges en btw in. Er is geen aparte regel voor het toepassen van indexering. Bij het invullen van de directe kosten dient u een realistische inschatting te maken van de kosten.
C62: Voor directiekosten gelden maximaal te subsidiëren percentages zoals opgenomen in de Leidraad subsidiabele instandhoudingskosten. Wat betreft de maximum percentages uit hoofdstuk 2 van de Leidraad geldt voor grote restauraties standaard het laagste percentage uit tabel 3, namelijk 10% voor plankosten (incl. aanvullende stukken) en begeleidingskosten samen.
C64: De kosten van een accountantsonderzoek en -verklaring zijn subsidiabel bij subsidiebedragen van €300.000,- of meer, tot een maximum van €5.000,- (inclusief btw).
C66: Werken buiten de aanneemsom
C68: Dit betreft onderaanneming buiten de aanneemsom (werkzaamheden die apart worden aanbesteed). Hier vult u de werkzaamheden met de bijbehorende kosten in.
... C75: Let op: kunt u de volledige 21% btw terugvorderen, dan vult u hier 100% in.
B77: Vragen
C79: Mocht u bij het invullen van dit model nog vragen hebben stuur die dan naar erfgoed@zeeland.nl

Sheet Invulblad 1
A1: BASISGEGEVENS | B1: Provincie Zeeland standaardbegrotingsmodel gebouwd rijksmonument (versie september 2026) | V1: verberg kolom | W1: verberg kolom | X1: verberg kolom
A3: Rijksmonumentnummer
A4: Monumentnaam (indien van toepassing)
A5: Zelfstandig onderdeel (indien van toepassing)
A6: Monumentadres
A7: Postcode en plaats | N7: Berekening subsidiabele kosten
N8: In te vullen door medewerker Provincie
A9: Peildatum begrotingsgegevens | M9: Naam adviseur
A10: Standaard uurtarief | M10: Datum
A11: Opsteller plan | M11: Zaaknummer
A13: STABU-code en omschrijving | B13: Aantal | C13: Een-heid | D13: Arbeid in uren | E13: Arbeid in uren totaal | F13: Materiaal | G13: Materiaal totaal | H13: Onderaan-neming | I13: Onderaan-neming totaal | J13: Stelposten | K13: Totaal | M13: TOTAAL t.b.v. staartkosten | N13: Specifieke opmerking of de reden waarom de kosten niet subsidiabel zijn of zijn aangepast (in te vullen door de Provincie Zeeland) | P13: Filter blad | S13: Maximaal volgens leidraad | T13: Check | V13: hulp1 | W13: hulp2 | X13: hulp3
P15: =IF(V15="staart","niet leeg",IF(OR(V15="h",V15="l"),IF(W15="sub","niet leeg","leeg"),IF(AND(AND(A15="",M15=0),SUM(B15:M15)=0),"leeg","niet leeg"))) -> leeg | W15: {=IF(V15="h",_xlfn.XLOOKUP(X15,X16:$X$2963,V16:$V$2963,""),IF(V15="l",IF(X14<>"","sub",""),""))} | X15: =IF(V15="h",LEFT(A15,2),IF(SUM(B15:M15)>0,IF(V15="sub",RIGHT(A15,2),""),""))
A16: 00 Algemeen | P16: =IF(V16="staart","niet leeg",IF(OR(V16="h",V16="l"),IF(W16="sub","niet leeg","leeg"),IF(AND(AND(A16="",M16=0),SUM(B16:M16)=0),"leeg","niet leeg"))) -> leeg | V16: h | W16: {=IF(V16="h",_xlfn.XLOOKUP(X16,X17:$X$2963,V17:$V$2963,""),IF(V16="l",IF(X15<>"","sub",""),""))} | X16: =IF(V16="h",LEFT(A16,2),IF(SUM(B16:M16)>0,IF(V16="sub",RIGHT(A16,2),""),"")) -> 00
E17: =B17*D17 -> 0 | G17: =B17*F17 -> 0 | I17: =B17*H17 -> 0 | K17: =(E17*$J$6)+G17+I17+J17 -> 0 | M17: =K17 -> 0 | P17: =IF(V17="staart","niet leeg",IF(OR(V17="h",V17="l"),IF(W17="sub","niet leeg","leeg"),IF(AND(AND(A17="",M17=0),SUM(B17:M17)=0),"leeg","niet leeg"))) -> leeg | W17: {=IF(V17="h",_xlfn.XLOOKUP(X17,X43:$X$2963,V43:$V$2963,""),IF(V17="l",IF(X16<>"","sub",""),""))} | X17: =IF(V17="h",LEFT(A17,2),IF(SUM(B17:M17)>0,IF(V17="sub",RIGHT(A17,2),""),""))
E18: =B18*D18 -> 0 | G18: =B18*F18 -> 0 | I18: =B18*H18 -> 0 | K18: =(E18*$J$6)+G18+I18+J18 -> 0 | M18: =K18 -> 0 | P18: =IF(V18="staart","niet leeg",IF(OR(V18="h",V18="l"),IF(W18="sub","niet leeg","leeg"),IF(AND(AND(A18="",M18=0),SUM(B18:M18)=0),"leeg","niet leeg"))) -> leeg | W18: {=IF(V18="h",_xlfn.XLOOKUP(X18,X19:$X$2963,V19:$V$2963,""),IF(V18="l",IF(#REF!<>"","sub",""),""))} | X18: =IF(V18="h",LEFT(A18,2),IF(SUM(B18:M18)>0,IF(V18="sub",RIGHT(A18,2),""),""))
E19: =B19*D19 -> 0 | G19: =B19*F19 -> 0 | I19: =B19*H19 -> 0 | K19: =(E19*$J$6)+G19+I19+J19 -> 0 | M19: =K19 -> 0 | P19: =IF(V19="staart","niet leeg",IF(OR(V19="h",V19="l"),IF(W19="sub","niet leeg","leeg"),IF(AND(AND(A19="",M19=0),SUM(B19:M19)=0),"leeg","niet leeg"))) -> leeg | W19: {=IF(V19="h",_xlfn.XLOOKUP(X19,X20:$X$2963,V20:$V$2963,""),IF(V19="l",IF(X18<>"","sub",""),""))} | X19: =IF(V19="h",LEFT(A19,2),IF(SUM(B19:M19)>0,IF(V19="sub",RIGHT(A19,2),""),""))
E20: =B20*D20 -> 0 | G20: =B20*F20 -> 0 | I20: =B20*H20 -> 0 | K20: =(E20*$J$6)+G20+I20+J20 -> 0 | M20: =K20 -> 0 | P20: =IF(V20="staart","niet leeg",IF(OR(V20="h",V20="l"),IF(W20="sub","niet leeg","leeg"),IF(AND(AND(A20="",M20=0),SUM(B20:M20)=0),"leeg","niet leeg"))) -> leeg | W20: {=IF(V20="h",_xlfn.XLOOKUP(X20,X21:$X$2963,V21:$V$2963,""),IF(V20="l",IF(X19<>"","sub",""),""))} | X20: =IF(V20="h",LEFT(A20,2),IF(SUM(B20:M20)>0,IF(V20="sub",RIGHT(A20,2),""),""))
E21: =B21*D21 -> 0 | G21: =B21*F21 -> 0 | I21: =B21*H21 -> 0 | K21: =(E21*$J$6)+G21+I21+J21 -> 0 | M21: =K21 -> 0 | P21: =IF(V21="staart","niet leeg",IF(OR(V21="h",V21="l"),IF(W21="sub","niet leeg","leeg"),IF(AND(AND(A21="",M21=0),SUM(B21:M21)=0),"leeg","niet leeg"))) -> leeg | W21: {=IF(V21="h",_xlfn.XLOOKUP(X21,X22:$X$2963,V22:$V$2963,""),IF(V21="l",IF(X20<>"","sub",""),""))} | X21: =IF(V21="h",LEFT(A21,2),IF(SUM(B21:M21)>0,IF(V21="sub",RIGHT(A21,2),""),""))
E22: =B22*D22 -> 0 | G22: =B22*F22 -> 0 | I22: =B22*H22 -> 0 | K22: =(E22*$J$6)+G22+I22+J22 -> 0 | M22: =K22 -> 0 | P22: =IF(V22="staart","niet leeg",IF(OR(V22="h",V22="l"),IF(W22="sub","niet leeg","leeg"),IF(AND(AND(A22="",M22=0),SUM(B22:M22)=0),"leeg","niet leeg"))) -> leeg | W22: {=IF(V22="h",_xlfn.XLOOKUP(X22,X23:$X$2963,V23:$V$2963,""),IF(V22="l",IF(X21<>"","sub",""),""))} | X22: =IF(V22="h",LEFT(A22,2),IF(SUM(B22:M22)>0,IF(V22="sub",RIGHT(A22,2),""),""))
E23: =B23*D23 -> 0 | G23: =B23*F23 -> 0 | I23: =B23*H23 -> 0 | K23: =(E23*$J$6)+G23+I23+J23 -> 0 | M23: =K23 -> 0 | P23: =IF(V23="staart","niet leeg",IF(OR(V23="h",V23="l"),IF(W23="sub","niet leeg","leeg"),IF(AND(AND(A23="",M23=0),SUM(B23:M23)=0),"leeg","niet leeg"))) -> leeg | W23: {=IF(V23="h",_xlfn.XLOOKUP(X23,X24:$X$2963,V24:$V$2963,""),IF(V23="l",IF(X22<>"","sub",""),""))} | X23: =IF(V23="h",LEFT(A23,2),IF(SUM(B23:M23)>0,IF(V23="sub",RIGHT(A23,2),""),""))
E24: =B24*D24 -> 0 | G24: =B24*F24 -> 0 | I24: =B24*H24 -> 0 | K24: =(E24*$J$6)+G24+I24+J24 -> 0 | M24: =K24 -> 0 | P24: =IF(V24="staart","niet leeg",IF(OR(V24="h",V24="l"),IF(W24="sub","niet leeg","leeg"),IF(AND(AND(A24="",M24=0),SUM(B24:M24)=0),"leeg","niet leeg"))) -> leeg | W24: {=IF(V24="h",_xlfn.XLOOKUP(X24,X25:$X$2963,V25:$V$2963,""),IF(V24="l",IF(X23<>"","sub",""),""))} | X24: =IF(V24="h",LEFT(A24,2),IF(SUM(B24:M24)>0,IF(V24="sub",RIGHT(A24,2),""),""))
E25: =B25*D25 -> 0 | G25: =B25*F25 -> 0 | I25: =B25*H25 -> 0 | K25: =(E25*$J$6)+G25+I25+J25 -> 0 | M25: =K25 -> 0 | P25: =IF(V25="staart","niet leeg",IF(OR(V25="h",V25="l"),IF(W25="sub","niet leeg","leeg"),IF(AND(AND(A25="",M25=0),SUM(B25:M25)=0),"leeg","niet leeg"))) -> leeg | W25: {=IF(V25="h",_xlfn.XLOOKUP(X25,X26:$X$2963,V26:$V$2963,""),IF(V25="l",IF(X24<>"","sub",""),""))} | X25: =IF(V25="h",LEFT(A25,2),IF(SUM(B25:M25)>0,IF(V25="sub",RIGHT(A25,2),""),""))
E26: =B26*D26 -> 0 | G26: =B26*F26 -> 0 | I26: =B26*H26 -> 0 | K26: =(E26*$J$6)+G26+I26+J26 -> 0 | M26: =K26 -> 0 | P26: =IF(V26="staart","niet leeg",IF(OR(V26="h",V26="l"),IF(W26="sub","niet leeg","leeg"),IF(AND(AND(A26="",M26=0),SUM(B26:M26)=0),"leeg","niet leeg"))) -> leeg | W26: {=IF(V26="h",_xlfn.XLOOKUP(X26,X27:$X$2963,V27:$V$2963,""),IF(V26="l",IF(X25<>"","sub",""),""))} | X26: =IF(V26="h",LEFT(A26,2),IF(SUM(B26:M26)>0,IF(V26="sub",RIGHT(A26,2),""),""))
E27: =B27*D27 -> 0 | G27: =B27*F27 -> 0 | I27: =B27*H27 -> 0 | K27: =(E27*$J$6)+G27+I27+J27 -> 0 | M27: =K27 -> 0 | P27: =IF(V27="staart","niet leeg",IF(OR(V27="h",V27="l"),IF(W27="sub","niet leeg","leeg"),IF(AND(AND(A27="",M27=0),SUM(B27:M27)=0),"leeg","niet leeg"))) -> leeg | W27: {=IF(V27="h",_xlfn.XLOOKUP(X27,X28:$X$2963,V28:$V$2963,""),IF(V27="l",IF(X26<>"","sub",""),""))} | X27: =IF(V27="h",LEFT(A27,2),IF(SUM(B27:M27)>0,IF(V27="sub",RIGHT(A27,2),""),""))
E28: =B28*D28 -> 0 | G28: =B28*F28 -> 0 | I28: =B28*H28 -> 0 | K28: =(E28*$J$6)+G28+I28+J28 -> 0 | M28: =K28 -> 0 | P28: =IF(V28="staart","niet leeg",IF(OR(V28="h",V28="l"),IF(W28="sub","niet leeg","leeg"),IF(AND(AND(A28="",M28=0),SUM(B28:M28)=0),"leeg","niet leeg"))) -> leeg | W28: {=IF(V28="h",_xlfn.XLOOKUP(X28,X29:$X$2963,V29:$V$2963,""),IF(V28="l",IF(X27<>"","sub",""),""))} | X28: =IF(V28="h",LEFT(A28,2),IF(SUM(B28:M28)>0,IF(V28="sub",RIGHT(A28,2),""),""))
E29: =B29*D29 -> 0 | G29: =B29*F29 -> 0 | I29: =B29*H29 -> 0 | K29: =(E29*$J$6)+G29+I29+J29 -> 0 | M29: =K29 -> 0 | P29: =IF(V29="staart","niet leeg",IF(OR(V29="h",V29="l"),IF(W29="sub","niet leeg","leeg"),IF(AND(AND(A29="",M29=0),SUM(B29:M29)=0),"leeg","niet leeg"))) -> leeg | W29: {=IF(V29="h",_xlfn.XLOOKUP(X29,X30:$X$2963,V30:$V$2963,""),IF(V29="l",IF(X28<>"","sub",""),""))} | X29: =IF(V29="h",LEFT(A29,2),IF(SUM(B29:M29)>0,IF(V29="sub",RIGHT(A29,2),""),""))
E30: =B30*D30 -> 0 | G30: =B30*F30 -> 0 | I30: =B30*H30 -> 0 | K30: =(E30*$J$6)+G30+I30+J30 -> 0 | M30: =K30 -> 0 | P30: =IF(V30="staart","niet leeg",IF(OR(V30="h",V30="l"),IF(W30="sub","niet leeg","leeg"),IF(AND(AND(A30="",M30=0),SUM(B30:M30)=0),"leeg","niet leeg"))) -> leeg | W30: {=IF(V30="h",_xlfn.XLOOKUP(X30,X43:$X$2963,V43:$V$2963,""),IF(V30="l",IF(X29<>"","sub",""),""))} | X30: =IF(V30="h",LEFT(A30,2),IF(SUM(B30:M30)>0,IF(V30="sub",RIGHT(A30,2),""),""))
E31: =B31*D31 -> 0 | G31: =B31*F31 -> 0 | I31: =B31*H31 -> 0 | K31: =(E31*$J$6)+G31+I31+J31 -> 0 | M31: =K31 -> 0 | P31: =IF(V31="staart","niet leeg",IF(OR(V31="h",V31="l"),IF(W31="sub","niet leeg","leeg"),IF(AND(AND(A31="",M31=0),SUM(B31:M31)=0),"leeg","niet leeg"))) -> leeg | W31: {=IF(V31="h",_xlfn.XLOOKUP(X31,X32:$X$2963,V32:$V$2963,""),IF(V31="l",IF(#REF!<>"","sub",""),""))} | X31: =IF(V31="h",LEFT(A31,2),IF(SUM(B31:M31)>0,IF(V31="sub",RIGHT(A31,2),""),""))
E32: =B32*D32 -> 0 | G32: =B32*F32 -> 0 | I32: =B32*H32 -> 0 | K32: =(E32*$J$6)+G32+I32+J32 -> 0 | M32: =K32 -> 0 | P32: =IF(V32="staart","niet leeg",IF(OR(V32="h",V32="l"),IF(W32="sub","niet leeg","leeg"),IF(AND(AND(A32="",M32=0),SUM(B32:M32)=0),"leeg","niet leeg"))) -> leeg | W32: {=IF(V32="h",_xlfn.XLOOKUP(X32,X33:$X$2963,V33:$V$2963,""),IF(V32="l",IF(X31<>"","sub",""),""))} | X32: =IF(V32="h",LEFT(A32,2),IF(SUM(B32:M32)>0,IF(V32="sub",RIGHT(A32,2),""),""))
E33: =B33*D33 -> 0 | G33: =B33*F33 -> 0 | I33: =B33*H33 -> 0 | K33: =(E33*$J$6)+G33+I33+J33 -> 0 | M33: =K33 -> 0 | P33: =IF(V33="staart","niet leeg",IF(OR(V33="h",V33="l"),IF(W33="sub","niet leeg","leeg"),IF(AND(AND(A33="",M33=0),SUM(B33:M33)=0),"leeg","niet leeg"))) -> leeg | W33: {=IF(V33="h",_xlfn.XLOOKUP(X33,X34:$X$2963,V34:$V$2963,""),IF(V33="l",IF(X32<>"","sub",""),""))} | X33: =IF(V33="h",LEFT(A33,2),IF(SUM(B33:M33)>0,IF(V33="sub",RIGHT(A33,2),""),""))
E34: =B34*D34 -> 0 | G34: =B34*F34 -> 0 | I34: =B34*H34 -> 0 | K34: =(E34*$J$6)+G34+I34+J34 -> 0 | M34: =K34 -> 0 | P34: =IF(V34="staart","niet leeg",IF(OR(V34="h",V34="l"),IF(W34="sub","niet leeg","leeg"),IF(AND(AND(A34="",M34=0),SUM(B34:M34)=0),"leeg","niet leeg"))) -> leeg | W34: {=IF(V34="h",_xlfn.XLOOKUP(X34,X35:$X$2963,V35:$V$2963,""),IF(V34="l",IF(X33<>"","sub",""),""))} | X34: =IF(V34="h",LEFT(A34,2),IF(SUM(B34:M34)>0,IF(V34="sub",RIGHT(A34,2),""),""))
E35: =B35*D35 -> 0 | G35: =B35*F35 -> 0 | I35: =B35*H35 -> 0 | K35: =(E35*$J$6)+G35+I35+J35 -> 0 | M35: =K35 -> 0 | P35: =IF(V35="staart","niet leeg",IF(OR(V35="h",V35="l"),IF(W35="sub","niet leeg","leeg"),IF(AND(AND(A35="",M35=0),SUM(B35:M35)=0),"leeg","niet leeg"))) -> leeg | W35: {=IF(V35="h",_xlfn.XLOOKUP(X35,X36:$X$2963,V36:$V$2963,""),IF(V35="l",IF(X34<>"","sub",""),""))} | X35: =IF(V35="h",LEFT(A35,2),IF(SUM(B35:M35)>0,IF(V35="sub",RIGHT(A35,2),""),""))
E36: =B36*D36 -> 0 | G36: =B36*F36 -> 0 | I36: =B36*H36 -> 0 | K36: =(E36*$J$6)+G36+I36+J36 -> 0 | M36: =K36 -> 0 | P36: =IF(V36="staart","niet leeg",IF(OR(V36="h",V36="l"),IF(W36="sub","niet leeg","leeg"),IF(AND(AND(A36="",M36=0),SUM(B36:M36)=0),"leeg","niet leeg"))) -> leeg | W36: {=IF(V36="h",_xlfn.XLOOKUP(X36,X37:$X$2963,V37:$V$2963,""),IF(V36="l",IF(X35<>"","sub",""),""))} | X36: =IF(V36="h",LEFT(A36,2),IF(SUM(B36:M36)>0,IF(V36="sub",RIGHT(A36,2),""),""))
E37: =B37*D37 -> 0 | G37: =B37*F37 -> 0 | I37: =B37*H37 -> 0 | K37: =(E37*$J$6)+G37+I37+J37 -> 0 | M37: =K37 -> 0 | P37: =IF(V37="staart","niet leeg",IF(OR(V37="h",V37="l"),IF(W37="sub","niet leeg","leeg"),IF(AND(AND(A37="",M37=0),SUM(B37:M37)=0),"leeg","niet leeg"))) -> leeg | W37: {=IF(V37="h",_xlfn.XLOOKUP(X37,X38:$X$2963,V38:$V$2963,""),IF(V37="l",IF(X36<>"","sub",""),""))} | X37: =IF(V37="h",LEFT(A37,2),IF(SUM(B37:M37)>0,IF(V37="sub",RIGHT(A37,2),""),""))
E38: =B38*D38 -> 0 | G38: =B38*F38 -> 0 | I38: =B38*H38 -> 0 | K38: =(E38*$J$6)+G38+I38+J38 -> 0 | M38: =K38 -> 0 | P38: =IF(V38="staart","niet leeg",IF(OR(V38="h",V38="l"),IF(W38="sub","niet leeg","leeg"),IF(AND(AND(A38="",M38=0),SUM(B38:M38)=0),"leeg","niet leeg"))) -> leeg | W38: {=IF(V38="h",_xlfn.XLOOKUP(X38,X39:$X$2963,V39:$V$2963,""),IF(V38="l",IF(X37<>"","sub",""),""))} | X38: =IF(V38="h",LEFT(A38,2),IF(SUM(B38:M38)>0,IF(V38="sub",RIGHT(A38,2),""),""))
E39: =B39*D39 -> 0 | G39: =B39*F39 -> 0 | I39: =B39*H39 -> 0 | K39: =(E39*$J$6)+G39+I39+J39 -> 0 | M39: =K39 -> 0 | P39: =IF(V39="staart","niet leeg",IF(OR(V39="h",V39="l"),IF(W39="sub","niet leeg","leeg"),IF(AND(AND(A39="",M39=0),SUM(B39:M39)=0),"leeg","niet leeg"))) -> leeg | W39: {=IF(V39="h",_xlfn.XLOOKUP(X39,X40:$X$2963,V40:$V$2963,""),IF(V39="l",IF(X38<>"","sub",""),""))} | X39: =IF(V39="h",LEFT(A39,2),IF(SUM(B39:M39)>0,IF(V39="sub",RIGHT(A39,2),""),""))
E40: =B40*D40 -> 0 | G40: =B40*F40 -> 0 | I40: =B40*H40 -> 0 | K40: =(E40*$J$6)+G40+I40+J40 -> 0 | M40: =K40 -> 0 | P40: =IF(V40="staart","niet leeg",IF(OR(V40="h",V40="l"),IF(W40="sub","niet leeg","leeg"),IF(AND(AND(A40="",M40=0),SUM(B40:M40)=0),"leeg","niet leeg"))) -> leeg | W40: {=IF(V40="h",_xlfn.XLOOKUP(X40,X41:$X$2963,V41:$V$2963,""),IF(V40="l",IF(X39<>"","sub",""),""))} | X40: =IF(V40="h",LEFT(A40,2),IF(SUM(B40:M40)>0,IF(V40="sub",RIGHT(A40,2),""),""))
E41: =B41*D41 -> 0 | G41: =B41*F41 -> 0 | I41: =B41*H41 -> 0 | K41: =(E41*$J$6)+G41+I41+J41 -> 0 | M41: =K41 -> 0 | P41: =IF(V41="staart","niet leeg",IF(OR(V41="h",V41="l"),IF(W41="sub","niet leeg","leeg"),IF(AND(AND(A41="",M41=0),SUM(B41:M41)=0),"leeg","niet leeg"))) -> leeg | W41: {=IF(V41="h",_xlfn.XLOOKUP(X41,X42:$X$2963,V42:$V$2963,""),IF(V41="l",IF(X40<>"","sub",""),""))} | X41: =IF(V41="h",LEFT(A41,2),IF(SUM(B41:M41)>0,IF(V41="sub",RIGHT(A41,2),""),""))
E42: =B42*D42 -> 0 | G42: =B42*F42 -> 0 | I42: =B42*H42 -> 0 | K42: =(E42*$J$6)+G42+I42+J42 -> 0 | M42: =K42 -> 0 | P42: =IF(V42="staart","niet leeg",IF(OR(V42="h",V42="l"),IF(W42="sub","niet leeg","leeg"),IF(AND(AND(A42="",M42=0),SUM(B42:M42)=0),"leeg","niet leeg"))) -> leeg | W42: {=IF(V42="h",_xlfn.XLOOKUP(X42,X43:$X$2963,V43:$V$2963,""),IF(V42="l",IF(X41<>"","sub",""),""))} | X42: =IF(V42="h",LEFT(A42,2),IF(SUM(B42:M42)>0,IF(V42="sub",RIGHT(A42,2),""),""))
E43: =B43*D43 -> 0 | G43: =B43*F43 -> 0 | I43: =B43*H43 -> 0 | K43: =(E43*$J$6)+G43+I43+J43 -> 0 | M43: =K43 -> 0 | P43: =IF(V43="staart","niet leeg",IF(OR(V43="h",V43="l"),IF(W43="sub","niet leeg","leeg"),IF(AND(AND(A43="",M43=0),SUM(B43:M43)=0),"leeg","niet leeg"))) -> leeg | W43: {=IF(V43="h",_xlfn.XLOOKUP(X43,X44:$X$2963,V44:$V$2963,""),IF(V43="l",IF(X42<>"","sub",""),""))} | X43: =IF(V43="h",LEFT(A43,2),IF(SUM(B43:M43)>0,IF(V43="sub",RIGHT(A43,2),""),""))
... E57: =B57*D57 -> 0 | G57: =B57*F57 -> 0 | I57: =B57*H57 -> 0 | K57: =(E57*$J$6)+G57+I57+J57 -> 0 | M57: =K57 -> 0 | P57: =IF(V57="staart","niet leeg",IF(OR(V57="h",V57="l"),IF(W57="sub","niet leeg","leeg"),IF(AND(AND(A57="",M57=0),SUM(B57:M57)=0),"leeg","niet leeg"))) -> leeg | W57: {=IF(V57="h",_xlfn.XLOOKUP(X57,X58:$X$2963,V58:$V$2963,""),IF(V57="l",IF(X56<>"","sub",""),""))} | X57: =IF(V57="h",LEFT(A57,2),IF(SUM(B57:M57)>0,IF(V57="sub",RIGHT(A57,2),""),""))
A58: Subtotaal 00 | E58: =SUM(E17:E57) -> 0 | G58: =SUM(G17:G57) -> 0 | I58: =SUM(I17:I57) -> 0 | K58: =SUM(K17:K57) -> 0 | M58: =SUM(M17:M57) -> 0 | P58: =IF(V58="staart","niet leeg",IF(OR(V58="h",V58="l"),IF(W58="sub","niet leeg","leeg"),IF(AND(AND(A58="",M58=0),SUM(B58:M58)=0),"leeg","niet leeg"))) -> niet leeg | V58: sub | W58: {=IF(V58="h",_xlfn.XLOOKUP(X58,X59:$X$2963,V59:$V$2963,""),IF(V58="l",IF(X57<>"","sub",""),""))} | X58: =IF(V58="h",LEFT(A58,2),IF(SUM(B58:M58)>0,IF(V58="sub",RIGHT(A58,2),""),""))
P59: =IF(V59="staart","niet leeg",IF(OR(V59="h",V59="l"),IF(W59="sub","niet leeg","leeg"),IF(AND(AND(A59="",M59=0),SUM(B59:M59)=0),"leeg","niet leeg"))) -> leeg | V59: l | W59: {=IF(V59="h",_xlfn.XLOOKUP(X59,X60:$X$2963,V60:$V$2963,""),IF(V59="l",IF(X58<>"","sub",""),""))} | X59: =IF(V59="h",LEFT(A59,2),IF(SUM(B59:M59)>0,IF(V59="sub",RIGHT(A59,2),""),""))
A60: 01 Voor het werk geldende voorwaarden | P60: =IF(V60="staart","niet leeg",IF(OR(V60="h",V60="l"),IF(W60="sub","niet leeg","leeg"),IF(AND(AND(A60="",M60=0),SUM(B60:M60)=0),"leeg","niet leeg"))) -> leeg | V60: h | W60: {=IF(V60="h",_xlfn.XLOOKUP(X60,X61:$X$2963,V61:$V$2963,""),IF(V60="l",IF(X59<>"","sub",""),""))} | X60: =IF(V60="h",LEFT(A60,2),IF(SUM(B60:M60)>0,IF(V60="sub",RIGHT(A60,2),""),"")) -> 01
E61: =B61*D61 -> 0 | G61: =B61*F61 -> 0 | I61: =B61*H61 -> 0 | K61: =(E61*$J$6)+G61+I61+J61 -> 0 | M61: =K61 -> 0 | P61: =IF(V61="staart","niet leeg",IF(OR(V61="h",V61="l"),IF(W61="sub","niet leeg","leeg"),IF(AND(AND(A61="",M61=0),SUM(B61:M61)=0),"leeg","niet leeg"))) -> leeg | W61: {=IF(V61="h",_xlfn.XLOOKUP(X61,X86:$X$2963,V86:$V$2963,""),IF(V61="l",IF(X60<>"","sub",""),""))} | X61: =IF(V61="h",LEFT(A61,2),IF(SUM(B61:M61)>0,IF(V61="sub",RIGHT(A61,2),""),""))
E62: =B62*D62 -> 0 | G62: =B62*F62 -> 0 | I62: =B62*H62 -> 0 | K62: =(E62*$J$6)+G62+I62+J62 -> 0 | M62: =K62 -> 0 | P62: =IF(V62="staart","niet leeg",IF(OR(V62="h",V62="l"),IF(W62="sub","niet leeg","leeg"),IF(AND(AND(A62="",M62=0),SUM(B62:M62)=0),"leeg","niet leeg"))) -> leeg | W62: {=IF(V62="h",_xlfn.XLOOKUP(X62,X63:$X$2963,V63:$V$2963,""),IF(V62="l",IF(X47<>"","sub",""),""))} | X62: =IF(V62="h",LEFT(A62,2),IF(SUM(B62:M62)>0,IF(V62="sub",RIGHT(A62,2),""),""))
E63: =B63*D63 -> 0 | G63: =B63*F63 -> 0 | I63: =B63*H63 -> 0 | K63: =(E63*$J$6)+G63+I63+J63 -> 0 | M63: =K63 -> 0 | P63: =IF(V63="staart","niet leeg",IF(OR(V63="h",V63="l"),IF(W63="sub","niet leeg","leeg"),IF(AND(AND(A63="",M63=0),SUM(B63:M63)=0),"leeg","niet leeg"))) -> leeg | W63: {=IF(V63="h",_xlfn.XLOOKUP(X63,X64:$X$2963,V64:$V$2963,""),IF(V63="l",IF(X62<>"","sub",""),""))} | X63: =IF(V63="h",LEFT(A63,2),IF(SUM(B63:M63)>0,IF(V63="sub",RIGHT(A63,2),""),""))
E64: =B64*D64 -> 0 | G64: =B64*F64 -> 0 | I64: =B64*H64 -> 0 | K64: =(E64*$J$6)+G64+I64+J64 -> 0 | M64: =K64 -> 0 | P64: =IF(V64="staart","niet leeg",IF(OR(V64="h",V64="l"),IF(W64="sub","niet leeg","leeg"),IF(AND(AND(A64="",M64=0),SUM(B64:M64)=0),"leeg","niet leeg"))) -> leeg | W64: {=IF(V64="h",_xlfn.XLOOKUP(X64,X65:$X$2963,V65:$V$2963,""),IF(V64="l",IF(X63<>"","sub",""),""))} | X64: =IF(V64="h",LEFT(A64,2),IF(SUM(B64:M64)>0,IF(V64="sub",RIGHT(A64,2),""),""))
E65: =B65*D65 -> 0 | G65: =B65*F65 -> 0 | I65: =B65*H65 -> 0 | K65: =(E65*$J$6)+G65+I65+J65 -> 0 | M65: =K65 -> 0 | P65: =IF(V65="staart","niet leeg",IF(OR(V65="h",V65="l"),IF(W65="sub","niet leeg","leeg"),IF(AND(AND(A65="",M65=0),SUM(B65:M65)=0),"leeg","niet leeg"))) -> leeg | W65: {=IF(V65="h",_xlfn.XLOOKUP(X65,X66:$X$2963,V66:$V$2963,""),IF(V65="l",IF(X64<>"","sub",""),""))} | X65: =IF(V65="h",LEFT(A65,2),IF(SUM(B65:M65)>0,IF(V65="sub",RIGHT(A65,2),""),""))
E66: =B66*D66 -> 0 | G66: =B66*F66 -> 0 | I66: =B66*H66 -> 0 | K66: =(E66*$J$6)+G66+I66+J66 -> 0 | M66: =K66 -> 0 | P66: =IF(V66="staart","niet leeg",IF(OR(V66="h",V66="l"),IF(W66="sub","niet leeg","leeg"),IF(AND(AND(A66="",M66=0),SUM(B66:M66)=0),"leeg","niet leeg"))) -> leeg | W66: {=IF(V66="h",_xlfn.XLOOKUP(X66,X67:$X$2963,V67:$V$2963,""),IF(V66="l",IF(X65<>"","sub",""),""))} | X66: =IF(V66="h",LEFT(A66,2),IF(SUM(B66:M66)>0,IF(V66="sub",RIGHT(A66,2),""),""))
E67: =B67*D67 -> 0 | G67: =B67*F67 -> 0 | I67: =B67*H67 -> 0 | K67: =(E67*$J$6)+G67+I67+J67 -> 0 | M67: =K67 -> 0 | P67: =IF(V67="staart","niet leeg",IF(OR(V67="h",V67="l"),IF(W67="sub","niet leeg","leeg"),IF(AND(AND(A67="",M67=0),SUM(B67:M67)=0),"leeg","niet leeg"))) -> leeg | W67: {=IF(V67="h",_xlfn.XLOOKUP(X67,X68:$X$2963,V68:$V$2963,""),IF(V67="l",IF(X66<>"","sub",""),""))} | X67: =IF(V67="h",LEFT(A67,2),IF(SUM(B67:M67)>0,IF(V67="sub",RIGHT(A67,2),""),""))
E68: =B68*D68 -> 0 | G68: =B68*F68 -> 0 | I68: =B68*H68 -> 0 | K68: =(E68*$J$6)+G68+I68+J68 -> 0 | M68: =K68 -> 0 | P68: =IF(V68="staart","niet leeg",IF(OR(V68="h",V68="l"),IF(W68="sub","niet leeg","leeg"),IF(AND(AND(A68="",M68=0),SUM(B68:M68)=0),"leeg","niet leeg"))) -> leeg | W68: {=IF(V68="h",_xlfn.XLOOKUP(X68,X69:$X$2963,V69:$V$2963,""),IF(V68="l",IF(X67<>"","sub",""),""))} | X68: =IF(V68="h",LEFT(A68,2),IF(SUM(B68:M68)>0,IF(V68="sub",RIGHT(A68,2),""),""))
E69: =B69*D69 -> 0 | G69: =B69*F69 -> 0 | I69: =B69*H69 -> 0 | K69: =(E69*$J$6)+G69+I69+J69 -> 0 | M69: =K69 -> 0 | P69: =IF(V69="staart","niet leeg",IF(OR(V69="h",V69="l"),IF(W69="sub","niet leeg","leeg"),IF(AND(AND(A69="",M69=0),SUM(B69:M69)=0),"leeg","niet leeg"))) -> leeg | W69: {=IF(V69="h",_xlfn.XLOOKUP(X69,X70:$X$2963,V70:$V$2963,""),IF(V69="l",IF(X68<>"","sub",""),""))} | X69: =IF(V69="h",LEFT(A69,2),IF(SUM(B69:M69)>0,IF(V69="sub",RIGHT(A69,2),""),""))
E70: =B70*D70 -> 0 | G70: =B70*F70 -> 0 | I70: =B70*H70 -> 0 | K70: =(E70*$J$6)+G70+I70+J70 -> 0 | M70: =K70 -> 0 | P70: =IF(V70="staart","niet leeg",IF(OR(V70="h",V70="l"),IF(W70="sub","niet leeg","leeg"),IF(AND(AND(A70="",M70=0),SUM(B70:M70)=0),"leeg","niet leeg"))) -> leeg | W70: {=IF(V70="h",_xlfn.XLOOKUP(X70,X71:$X$2963,V71:$V$2963,""),IF(V70="l",IF(X69<>"","sub",""),""))} | X70: =IF(V70="h",LEFT(A70,2),IF(SUM(B70:M70)>0,IF(V70="sub",RIGHT(A70,2),""),""))
E71: =B71*D71 -> 0 | G71: =B71*F71 -> 0 | I71: =B71*H71 -> 0 | K71: =(E71*$J$6)+G71+I71+J71 -> 0 | M71: =K71 -> 0 | P71: =IF(V71="staart","niet leeg",IF(OR(V71="h",V71="l"),IF(W71="sub","niet leeg","leeg"),IF(AND(AND(A71="",M71=0),SUM(B71:M71)=0),"leeg","niet leeg"))) -> leeg | W71: {=IF(V71="h",_xlfn.XLOOKUP(X71,X82:$X$2963,V82:$V$2963,""),IF(V71="l",IF(X70<>"","sub",""),""))} | X71: =IF(V71="h",LEFT(A71,2),IF(SUM(B71:M71)>0,IF(V71="sub",RIGHT(A71,2),""),""))
E72: =B72*D72 -> 0 | G72: =B72*F72 -> 0 | I72: =B72*H72 -> 0 | K72: =(E72*$J$6)+G72+I72+J72 -> 0 | M72: =K72 -> 0 | P72: =IF(V72="staart","niet leeg",IF(OR(V72="h",V72="l"),IF(W72="sub","niet leeg","leeg"),IF(AND(AND(A72="",M72=0),SUM(B72:M72)=0),"leeg","niet leeg"))) -> leeg | W72: {=IF(V72="h",_xlfn.XLOOKUP(X72,X73:$X$2963,V73:$V$2963,""),IF(V72="l",IF(X57<>"","sub",""),""))} | X72: =IF(V72="h",LEFT(A72,2),IF(SUM(B72:M72)>0,IF(V72="sub",RIGHT(A72,2),""),""))
E73: =B73*D73 -> 0 | G73: =B73*F73 -> 0 | I73: =B73*H73 -> 0 | K73: =(E73*$J$6)+G73+I73+J73 -> 0 | M73: =K73 -> 0 | P73: =IF(V73="staart","niet leeg",IF(OR(V73="h",V73="l"),IF(W73="sub","niet leeg","leeg"),IF(AND(AND(A73="",M73=0),SUM(B73:M73)=0),"leeg","niet leeg"))) -> leeg | W73: {=IF(V73="h",_xlfn.XLOOKUP(X73,X74:$X$2963,V74:$V$2963,""),IF(V73="l",IF(X72<>"","sub",""),""))} | X73: =IF(V73="h",LEFT(A73,2),IF(SUM(B73:M73)>0,IF(V73="sub",RIGHT(A73,2),""),""))
E74: =B74*D74 -> 0 | G74: =B74*F74 -> 0 | I74: =B74*H74 -> 0 | K74: =(E74*$J$6)+G74+I74+J74 -> 0 | M74: =K74 -> 0 | P74: =IF(V74="staart","niet leeg",IF(OR(V74="h",V74="l"),IF(W74="sub","niet leeg","leeg"),IF(AND(AND(A74="",M74=0),SUM(B74:M74)=0),"leeg","niet leeg"))) -> leeg | W74: {=IF(V74="h",_xlfn.XLOOKUP(X74,X75:$X$2963,V75:$V$2963,""),IF(V74="l",IF(X73<>"","sub",""),""))} | X74: =IF(V74="h",LEFT(A74,2),IF(SUM(B74:M74)>0,IF(V74="sub",RIGHT(A74,2),""),""))
E75: =B75*D75 -> 0 | G75: =B75*F75 -> 0 | I75: =B75*H75 -> 0 | K75: =(E75*$J$6)+G75+I75+J75 -> 0 | M75: =K75 -> 0 | P75: =IF(V75="staart","niet leeg",IF(OR(V75="h",V75="l"),IF(W75="sub","niet leeg","leeg"),IF(AND(AND(A75="",M75=0),SUM(B75:M75)=0),"leeg","niet leeg"))) -> leeg | W75: {=IF(V75="h",_xlfn.XLOOKUP(X75,X76:$X$2963,V76:$V$2963,""),IF(V75="l",IF(X74<>"","sub",""),""))} | X75: =IF(V75="h",LEFT(A75,2),IF(SUM(B75:M75)>0,IF(V75="sub",RIGHT(A75,2),""),""))
E76: =B76*D76 -> 0 | G76: =B76*F76 -> 0 | I76: =B76*H76 -> 0 | K76: =(E76*$J$6)+G76+I76+J76 -> 0 | M76: =K76 -> 0 | P76: =IF(V76="staart","niet leeg",IF(OR(V76="h",V76="l"),IF(W76="sub","niet leeg","leeg"),IF(AND(AND(A76="",M76=0),SUM(B76:M76)=0),"leeg","niet leeg"))) -> leeg | W76: {=IF(V76="h",_xlfn.XLOOKUP(X76,X77:$X$2963,V77:$V$2963,""),IF(V76="l",IF(X75<>"","sub",""),""))} | X76: =IF(V76="h",LEFT(A76,2),IF(SUM(B76:M76)>0,IF(V76="sub",RIGHT(A76,2),""),""))
E77: =B77*D77 -> 0 | G77: =B77*F77 -> 0 | I77: =B77*H77 -> 0 | K77: =(E77*$J$6)+G77+I77+J77 -> 0 | M77: =K77 -> 0 | P77: =IF(V77="staart","niet leeg",IF(OR(V77="h",V77="l"),IF(W77="sub","niet leeg","leeg"),IF(AND(AND(A77="",M77=0),SUM(B77:M77)=0),"leeg","niet leeg"))) -> leeg | W77: {=IF(V77="h",_xlfn.XLOOKUP(X77,X78:$X$2963,V78:$V$2963,""),IF(V77="l",IF(X76<>"","sub",""),""))} | X77: =IF(V77="h",LEFT(A77,2),IF(SUM(B77:M77)>0,IF(V77="sub",RIGHT(A77,2),""),""))
E78: =B78*D78 -> 0 | G78: =B78*F78 -> 0 | I78: =B78*H78 -> 0 | K78: =(E78*$J$6)+G78+I78+J78 -> 0 | M78: =K78 -> 0 | P78: =IF(V78="staart","niet leeg",IF(OR(V78="h",V78="l"),IF(W78="sub","niet leeg","leeg"),IF(AND(AND(A78="",M78=0),SUM(B78:M78)=0),"leeg","niet leeg"))) -> leeg | W78: {=IF(V78="h",_xlfn.XLOOKUP(X78,X79:$X$2963,V79:$V$2963,""),IF(V78="l",IF(X77<>"","sub",""),""))} | X78: =IF(V78="h",LEFT(A78,2),IF(SUM(B78:M78)>0,IF(V78="sub",RIGHT(A78,2),""),""))
E79: =B79*D79 -> 0 | G79: =B79*F79 -> 0 | I79: =B79*H79 -> 0 | K79: =(E79*$J$6)+G79+I79+J79 -> 0 | M79: =K79 -> 0 | P79: =IF(V79="staart","niet leeg",IF(OR(V79="h",V79="l"),IF(W79="sub","niet leeg","leeg"),IF(AND(AND(A79="",M79=0),SUM(B79:M79)=0),"leeg","niet leeg"))) -> leeg | W79: {=IF(V79="h",_xlfn.XLOOKUP(X79,X80:$X$2963,V80:$V$2963,""),IF(V79="l",IF(X78<>"","sub",""),""))} | X79: =IF(V79="h",LEFT(A79,2),IF(SUM(B79:M79)>0,IF(V79="sub",RIGHT(A79,2),""),""))
E80: =B80*D80 -> 0 | G80: =B80*F80 -> 0 | I80: =B80*H80 -> 0 | K80: =(E80*$J$6)+G80+I80+J80 -> 0 | M80: =K80 -> 0 | P80: =IF(V80="staart","niet leeg",IF(OR(V80="h",V80="l"),IF(W80="sub","niet leeg","leeg"),IF(AND(AND(A80="",M80=0),SUM(B80:M80)=0),"leeg","niet leeg"))) -> leeg | W80: {=IF(V80="h",_xlfn.XLOOKUP(X80,X81:$X$2963,V81:$V$2963,""),IF(V80="l",IF(X79<>"","sub",""),""))} | X80: =IF(V80="h",LEFT(A80,2),IF(SUM(B80:M80)>0,IF(V80="sub",RIGHT(A80,2),""),""))
E81: =B81*D81 -> 0 | G81: =B81*F81 -> 0 | I81: =B81*H81 -> 0 | K81: =(E81*$J$6)+G81+I81+J81 -> 0 | M81: =K81 -> 0 | P81: =IF(V81="staart","niet leeg",IF(OR(V81="h",V81="l"),IF(W81="sub","niet leeg","leeg"),IF(AND(AND(A81="",M81=0),SUM(B81:M81)=0),"leeg","niet leeg"))) -> leeg | W81: {=IF(V81="h",_xlfn.XLOOKUP(X81,X92:$X$2963,V92:$V$2963,""),IF(V81="l",IF(X80<>"","sub",""),""))} | X81: =IF(V81="h",LEFT(A81,2),IF(SUM(B81:M81)>0,IF(V81="sub",RIGHT(A81,2),""),""))
E82: =B82*D82 -> 0 | G82: =B82*F82 -> 0 | I82: =B82*H82 -> 0 | K82: =(E82*$J$6)+G82+I82+J82 -> 0 | M82: =K82 -> 0 | P82: =IF(V82="staart","niet leeg",IF(OR(V82="h",V82="l"),IF(W82="sub","niet leeg","leeg"),IF(AND(AND(A82="",M82=0),SUM(B82:M82)=0),"leeg","niet leeg"))) -> leeg | W82: {=IF(V82="h",_xlfn.XLOOKUP(X82,X83:$X$2963,V83:$V$2963,""),IF(V82="l",IF(X71<>"","sub",""),""))} | X82: =IF(V82="h",LEFT(A82,2),IF(SUM(B82:M82)>0,IF(V82="sub",RIGHT(A82,2),""),""))
E83: =B83*D83 -> 0 | G83: =B83*F83 -> 0 | I83: =B83*H83 -> 0 | K83: =(E83*$J$6)+G83+I83+J83 -> 0 | M83: =K83 -> 0 | P83: =IF(V83="staart","niet leeg",IF(OR(V83="h",V83="l"),IF(W83="sub","niet leeg","leeg"),IF(AND(AND(A83="",M83=0),SUM(B83:M83)=0),"leeg","niet leeg"))) -> leeg | W83: {=IF(V83="h",_xlfn.XLOOKUP(X83,X84:$X$2963,V84:$V$2963,""),IF(V83="l",IF(X82<>"","sub",""),""))} | X83: =IF(V83="h",LEFT(A83,2),IF(SUM(B83:M83)>0,IF(V83="sub",RIGHT(A83,2),""),""))
E84: =B84*D84 -> 0 | G84: =B84*F84 -> 0 | I84: =B84*H84 -> 0 | K84: =(E84*$J$6)+G84+I84+J84 -> 0 | M84: =K84 -> 0 | P84: =IF(V84="staart","niet leeg",IF(OR(V84="h",V84="l"),IF(W84="sub","niet leeg","leeg"),IF(AND(AND(A84="",M84=0),SUM(B84:M84)=0),"leeg","niet leeg"))) -> leeg | W84: {=IF(V84="h",_xlfn.XLOOKUP(X84,X85:$X$2963,V85:$V$2963,""),IF(V84="l",IF(X83<>"","sub",""),""))} | X84: =IF(V84="h",LEFT(A84,2),IF(SUM(B84:M84)>0,IF(V84="sub",RIGHT(A84,2),""),""))
E85: =B85*D85 -> 0 | G85: =B85*F85 -> 0 | I85: =B85*H85 -> 0 | K85: =(E85*$J$6)+G85+I85+J85 -> 0 | M85: =K85 -> 0 | P85: =IF(V85="staart","niet leeg",IF(OR(V85="h",V85="l"),IF(W85="sub","niet leeg","leeg"),IF(AND(AND(A85="",M85=0),SUM(B85:M85)=0),"leeg","niet leeg"))) -> leeg | W85: {=IF(V85="h",_xlfn.XLOOKUP(X85,X86:$X$2963,V86:$V$2963,""),IF(V85="l",IF(X84<>"","sub",""),""))} | X85: =IF(V85="h",LEFT(A85,2),IF(SUM(B85:M85)>0,IF(V85="sub",RIGHT(A85,2),""),""))
E86: =B86*D86 -> 0 | G86: =B86*F86 -> 0 | I86: =B86*H86 -> 0 | K86: =(E86*$J$6)+G86+I86+J86 -> 0 | M86: =K86 -> 0 | P86: =IF(V86="staart","niet leeg",IF(OR(V86="h",V86="l"),IF(W86="sub","niet leeg","leeg"),IF(AND(AND(A86="",M86=0),SUM(B86:M86)=0),"leeg","niet leeg"))) -> leeg | W86: {=IF(V86="h",_xlfn.XLOOKUP(X86,X87:$X$2963,V87:$V$2963,""),IF(V86="l",IF(X85<>"","sub",""),""))} | X86: =IF(V86="h",LEFT(A86,2),IF(SUM(B86:M86)>0,IF(V86="sub",RIGHT(A86,2),""),""))
E87: =B87*D87 -> 0 | G87: =B87*F87 -> 0 | I87: =B87*H87 -> 0 | K87: =(E87*$J$6)+G87+I87+J87 -> 0 | M87: =K87 -> 0 | P87: =IF(V87="staart","niet leeg",IF(OR(V87="h",V87="l"),IF(W87="sub","niet leeg","leeg"),IF(AND(AND(A87="",M87=0),SUM(B87:M87)=0),"leeg","niet leeg"))) -> leeg | W87: {=IF(V87="h",_xlfn.XLOOKUP(X87,X88:$X$2963,V88:$V$2963,""),IF(V87="l",IF(X86<>"","sub",""),""))} | X87: =IF(V87="h",LEFT(A87,2),IF(SUM(B87:M87)>0,IF(V87="sub",RIGHT(A87,2),""),""))
E88: =B88*D88 -> 0 | G88: =B88*F88 -> 0 | I88: =B88*H88 -> 0 | K88: =(E88*$J$6)+G88+I88+J88 -> 0 | M88: =K88 -> 0 | P88: =IF(V88="staart","niet leeg",IF(OR(V88="h",V88="l"),IF(W88="sub","niet leeg","leeg"),IF(AND(AND(A88="",M88=0),SUM(B88:M88)=0),"leeg","niet leeg"))) -> leeg | W88: {=IF(V88="h",_xlfn.XLOOKUP(X88,X89:$X$2963,V89:$V$2963,""),IF(V88="l",IF(X87<>"","sub",""),""))} | X88: =IF(V88="h",LEFT(A88,2),IF(SUM(B88:M88)>0,IF(V88="sub",RIGHT(A88,2),""),""))
E89: =B89*D89 -> 0 | G89: =B89*F89 -> 0 | I89: =B89*H89 -> 0 | K89: =(E89*$J$6)+G89+I89+J89 -> 0 | M89: =K89 -> 0 | P89: =IF(V89="staart","niet leeg",IF(OR(V89="h",V89="l"),IF(W89="sub","niet leeg","leeg"),IF(AND(AND(A89="",M89=0),SUM(B89:M89)=0),"leeg","niet leeg"))) -> leeg | W89: {=IF(V89="h",_xlfn.XLOOKUP(X89,X90:$X$2963,V90:$V$2963,""),IF(V89="l",IF(X88<>"","sub",""),""))} | X89: =IF(V89="h",LEFT(A89,2),IF(SUM(B89:M89)>0,IF(V89="sub",RIGHT(A89,2),""),""))
E90: =B90*D90 -> 0 | G90: =B90*F90 -> 0 | I90: =B90*H90 -> 0 | K90: =(E90*$J$6)+G90+I90+J90 -> 0 | M90: =K90 -> 0 | P90: =IF(V90="staart","niet leeg",IF(OR(V90="h",V90="l"),IF(W90="sub","niet leeg","leeg"),IF(AND(AND(A90="",M90=0),SUM(B90:M90)=0),"leeg","niet leeg"))) -> leeg | W90: {=IF(V90="h",_xlfn.XLOOKUP(X90,X91:$X$2963,V91:$V$2963,""),IF(V90="l",IF(X89<>"","sub",""),""))} | X90: =IF(V90="h",LEFT(A90,2),IF(SUM(B90:M90)>0,IF(V90="sub",RIGHT(A90,2),""),""))
E91: =B91*D91 -> 0 | G91: =B91*F91 -> 0 | I91: =B91*H91 -> 0 | K91: =(E91*$J$6)+G91+I91+J91 -> 0 | M91: =K91 -> 0 | P91: =IF(V91="staart","niet leeg",IF(OR(V91="h",V91="l"),IF(W91="sub","niet leeg","leeg"),IF(AND(AND(A91="",M91=0),SUM(B91:M91)=0),"leeg","niet leeg"))) -> leeg | W91: {=IF(V91="h",_xlfn.XLOOKUP(X91,X92:$X$2963,V92:$V$2963,""),IF(V91="l",IF(X90<>"","sub",""),""))} | X91: =IF(V91="h",LEFT(A91,2),IF(SUM(B91:M91)>0,IF(V91="sub",RIGHT(A91,2),""),""))
E92: =B92*D92 -> 0 | G92: =B92*F92 -> 0 | I92: =B92*H92 -> 0 | K92: =(E92*$J$6)+G92+I92+J92 -> 0 | M92: =K92 -> 0 | P92: =IF(V92="staart","niet leeg",IF(OR(V92="h",V92="l"),IF(W92="sub","niet leeg","leeg"),IF(AND(AND(A92="",M92=0),SUM(B92:M92)=0),"leeg","niet leeg"))) -> leeg | W92: {=IF(V92="h",_xlfn.XLOOKUP(X92,X93:$X$2963,V93:$V$2963,""),IF(V92="l",IF(X91<>"","sub",""),""))} | X92: =IF(V92="h",LEFT(A92,2),IF(SUM(B92:M92)>0,IF(V92="sub",RIGHT(A92,2),""),""))
E93: =B93*D93 -> 0 | G93: =B93*F93 -> 0 | I93: =B93*H93 -> 0 | K93: =(E93*$J$6)+G93+I93+J93 -> 0 | M93: =K93 -> 0 | P93: =IF(V93="staart","niet leeg",IF(OR(V93="h",V93="l"),IF(W93="sub","niet leeg","leeg"),IF(AND(AND(A93="",M93=0),SUM(B93:M93)=0),"leeg","niet leeg"))) -> leeg | W93: {=IF(V93="h",_xlfn.XLOOKUP(X93,X94:$X$2963,V94:$V$2963,""),IF(V93="l",IF(X92<>"","sub",""),""))} | X93: =IF(V93="h",LEFT(A93,2),IF(SUM(B93:M93)>0,IF(V93="sub",RIGHT(A93,2),""),""))
E94: =B94*D94 -> 0 | G94: =B94*F94 -> 0 | I94: =B94*H94 -> 0 | K94: =(E94*$J$6)+G94+I94+J94 -> 0 | M94: =K94 -> 0 | P94: =IF(V94="staart","niet leeg",IF(OR(V94="h",V94="l"),IF(W94="sub","niet leeg","leeg"),IF(AND(AND(A94="",M94=0),SUM(B94:M94)=0),"leeg","niet leeg"))) -> leeg | W94: {=IF(V94="h",_xlfn.XLOOKUP(X94,X95:$X$2963,V95:$V$2963,""),IF(V94="l",IF(X93<>"","sub",""),""))} | X94: =IF(V94="h",LEFT(A94,2),IF(SUM(B94:M94)>0,IF(V94="sub",RIGHT(A94,2),""),""))
... E100: =B100*D100 -> 0 | G100: =B100*F100 -> 0 | I100: =B100*H100 -> 0 | K100: =(E100*$J$6)+G100+I100+J100 -> 0 | M100: =K100 -> 0 | P100: =IF(V100="staart","niet leeg",IF(OR(V100="h",V100="l"),IF(W100="sub","niet leeg","leeg"),IF(AND(AND(A100="",M100=0),SUM(B100:M100)=0),"leeg","niet leeg"))) -> leeg | W100: {=IF(V100="h",_xlfn.XLOOKUP(X100,X101:$X$2963,V101:$V$2963,""),IF(V100="l",IF(X99<>"","sub",""),""))} | X100: =IF(V100="h",LEFT(A100,2),IF(SUM(B100:M100)>0,IF(V100="sub",RIGHT(A100,2),""),""))
A101: Subtotaal 01 | E101: =SUM(E61:E100) -> 0 | G101: =SUM(G61:G100) -> 0 | I101: =SUM(I61:I100) -> 0 | K101: =SUM(K61:K100) -> 0 | M101: =SUM(M61:M100) -> 0 | P101: =IF(V101="staart","niet leeg",IF(OR(V101="h",V101="l"),IF(W101="sub","niet leeg","leeg"),IF(AND(AND(A101="",M101=0),SUM(B101:M101)=0),"leeg","niet leeg"))) -> niet leeg | V101: sub | W101: {=IF(V101="h",_xlfn.XLOOKUP(X101,X102:$X$2963,V102:$V$2963,""),IF(V101="l",IF(X100<>"","sub",""),""))} | X101: =IF(V101="h",LEFT(A101,2),IF(SUM(B101:M101)>0,IF(V101="sub",RIGHT(A101,2),""),""))
P102: =IF(V102="staart","niet leeg",IF(OR(V102="h",V102="l"),IF(W102="sub","niet leeg","leeg"),IF(AND(AND(A102="",M102=0),SUM(B102:M102)=0),"leeg","niet leeg"))) -> leeg | V102: l | W102: {=IF(V102="h",_xlfn.XLOOKUP(X102,X103:$X$2963,V103:$V$2963,""),IF(V102="l",IF(X101<>"","sub",""),""))} | X102: =IF(V102="h",LEFT(A102,2),IF(SUM(B102:M102)>0,IF(V102="sub",RIGHT(A102,2),""),""))
A103: 05 Bouwplaatsvoorzieningen | P103: =IF(V103="staart","niet leeg",IF(OR(V103="h",V103="l"),IF(W103="sub","niet leeg","leeg"),IF(AND(AND(A103="",M103=0),SUM(B103:M103)=0),"leeg","niet leeg"))) -> leeg | V103: h | W103: {=IF(V103="h",_xlfn.XLOOKUP(X103,X104:$X$2963,V104:$V$2963,""),IF(V103="l",IF(X102<>"","sub",""),""))} | X103: =IF(V103="h",LEFT(A103,2),IF(SUM(B103:M103)>0,IF(V103="sub",RIGHT(A103,2),""),"")) -> 05
E104: =B104*D104 -> 0 | G104: =B104*F104 -> 0 | I104: =B104*H104 -> 0 | K104: =(E104*$J$6)+G104+I104+J104 -> 0 | M104: =K104 -> 0 | P104: =IF(V104="staart","niet leeg",IF(OR(V104="h",V104="l"),IF(W104="sub","niet leeg","leeg"),IF(AND(AND(A104="",M104=0),SUM(B104:M104)=0),"leeg","niet leeg"))) -> leeg | W104: {=IF(V104="h",_xlfn.XLOOKUP(X104,X105:$X$2963,V105:$V$2963,""),IF(V104="l",IF(X103<>"","sub",""),""))} | X104: =IF(V104="h",LEFT(A104,2),IF(SUM(B104:M104)>0,IF(V104="sub",RIGHT(A104,2),""),""))
E105: =B105*D105 -> 0 | G105: =B105*F105 -> 0 | I105: =B105*H105 -> 0 | K105: =(E105*$J$6)+G105+I105+J105 -> 0 | M105: =K105 -> 0 | P105: =IF(V105="staart","niet leeg",IF(OR(V105="h",V105="l"),IF(W105="sub","niet leeg","leeg"),IF(AND(AND(A105="",M105=0),SUM(B105:M105)=0),"leeg","niet leeg"))) -> leeg | W105: {=IF(V105="h",_xlfn.XLOOKUP(X105,X106:$X$2963,V106:$V$2963,""),IF(V105="l",IF(X104<>"","sub",""),""))} | X105: =IF(V105="h",LEFT(A105,2),IF(SUM(B105:M105)>0,IF(V105="sub",RIGHT(A105,2),""),""))
E106: =B106*D106 -> 0 | G106: =B106*F106 -> 0 | I106: =B106*H106 -> 0 | K106: =(E106*$J$6)+G106+I106+J106 -> 0 | M106: =K106 -> 0 | P106: =IF(V106="staart","niet leeg",IF(OR(V106="h",V106="l"),IF(W106="sub","niet leeg","leeg"),IF(AND(AND(A106="",M106=0),SUM(B106:M106)=0),"leeg","niet leeg"))) -> leeg | W106: {=IF(V106="h",_xlfn.XLOOKUP(X106,X107:$X$2963,V107:$V$2963,""),IF(V106="l",IF(X105<>"","sub",""),""))} | X106: =IF(V106="h",LEFT(A106,2),IF(SUM(B106:M106)>0,IF(V106="sub",RIGHT(A106,2),""),""))
E107: =B107*D107 -> 0 | G107: =B107*F107 -> 0 | I107: =B107*H107 -> 0 | K107: =(E107*$J$6)+G107+I107+J107 -> 0 | M107: =K107 -> 0 | P107: =IF(V107="staart","niet leeg",IF(OR(V107="h",V107="l"),IF(W107="sub","niet leeg","leeg"),IF(AND(AND(A107="",M107=0),SUM(B107:M107)=0),"leeg","niet leeg"))) -> leeg | W107: {=IF(V107="h",_xlfn.XLOOKUP(X107,X108:$X$2963,V108:$V$2963,""),IF(V107="l",IF(X106<>"","sub",""),""))} | X107: =IF(V107="h",LEFT(A107,2),IF(SUM(B107:M107)>0,IF(V107="sub",RIGHT(A107,2),""),""))
E108: =B108*D108 -> 0 | G108: =B108*F108 -> 0 | I108: =B108*H108 -> 0 | K108: =(E108*$J$6)+G108+I108+J108 -> 0 | M108: =K108 -> 0 | P108: =IF(V108="staart","niet leeg",IF(OR(V108="h",V108="l"),IF(W108="sub","niet leeg","leeg"),IF(AND(AND(A108="",M108=0),SUM(B108:M108)=0),"leeg","niet leeg"))) -> leeg | W108: {=IF(V108="h",_xlfn.XLOOKUP(X108,X109:$X$2963,V109:$V$2963,""),IF(V108="l",IF(X107<>"","sub",""),""))} | X108: =IF(V108="h",LEFT(A108,2),IF(SUM(B108:M108)>0,IF(V108="sub",RIGHT(A108,2),""),""))
E109: =B109*D109 -> 0 | G109: =B109*F109 -> 0 | I109: =B109*H109 -> 0 | K109: =(E109*$J$6)+G109+I109+J109 -> 0 | M109: =K109 -> 0 | P109: =IF(V109="staart","niet leeg",IF(OR(V109="h",V109="l"),IF(W109="sub","niet leeg","leeg"),IF(AND(AND(A109="",M109=0),SUM(B109:M109)=0),"leeg","niet leeg"))) -> leeg | W109: {=IF(V109="h",_xlfn.XLOOKUP(X109,X110:$X$2963,V110:$V$2963,""),IF(V109="l",IF(X108<>"","sub",""),""))} | X109: =IF(V109="h",LEFT(A109,2),IF(SUM(B109:M109)>0,IF(V109="sub",RIGHT(A109,2),""),""))
E110: =B110*D110 -> 0 | G110: =B110*F110 -> 0 | I110: =B110*H110 -> 0 | K110: =(E110*$J$6)+G110+I110+J110 -> 0 | M110: =K110 -> 0 | P110: =IF(V110="staart","niet leeg",IF(OR(V110="h",V110="l"),IF(W110="sub","niet leeg","leeg"),IF(AND(AND(A110="",M110=0),SUM(B110:M110)=0),"leeg","niet leeg"))) -> leeg | W110: {=IF(V110="h",_xlfn.XLOOKUP(X110,X111:$X$2963,V111:$V$2963,""),IF(V110="l",IF(X109<>"","sub",""),""))} | X110: =IF(V110="h",LEFT(A110,2),IF(SUM(B110:M110)>0,IF(V110="sub",RIGHT(A110,2),""),""))
E111: =B111*D111 -> 0 | G111: =B111*F111 -> 0 | I111: =B111*H111 -> 0 | K111: =(E111*$J$6)+G111+I111+J111 -> 0 | M111: =K111 -> 0 | P111: =IF(V111="staart","niet leeg",IF(OR(V111="h",V111="l"),IF(W111="sub","niet leeg","leeg"),IF(AND(AND(A111="",M111=0),SUM(B111:M111)=0),"leeg","niet leeg"))) -> leeg | W111: {=IF(V111="h",_xlfn.XLOOKUP(X111,X112:$X$2963,V112:$V$2963,""),IF(V111="l",IF(X110<>"","sub",""),""))} | X111: =IF(V111="h",LEFT(A111,2),IF(SUM(B111:M111)>0,IF(V111="sub",RIGHT(A111,2),""),""))
E112: =B112*D112 -> 0 | G112: =B112*F112 -> 0 | I112: =B112*H112 -> 0 | K112: =(E112*$J$6)+G112+I112+J112 -> 0 | M112: =K112 -> 0 | P112: =IF(V112="staart","niet leeg",IF(OR(V112="h",V112="l"),IF(W112="sub","niet leeg","leeg"),IF(AND(AND(A112="",M112=0),SUM(B112:M112)=0),"leeg","niet leeg"))) -> leeg | W112: {=IF(V112="h",_xlfn.XLOOKUP(X112,X113:$X$2963,V113:$V$2963,""),IF(V112="l",IF(X111<>"","sub",""),""))} | X112: =IF(V112="h",LEFT(A112,2),IF(SUM(B112:M112)>0,IF(V112="sub",RIGHT(A112,2),""),""))
E113: =B113*D113 -> 0 | G113: =B113*F113 -> 0 | I113: =B113*H113 -> 0 | K113: =(E113*$J$6)+G113+I113+J113 -> 0 | M113: =K113 -> 0 | P113: =IF(V113="staart","niet leeg",IF(OR(V113="h",V113="l"),IF(W113="sub","niet leeg","leeg"),IF(AND(AND(A113="",M113=0),SUM(B113:M113)=0),"leeg","niet leeg"))) -> leeg | W113: {=IF(V113="h",_xlfn.XLOOKUP(X113,X114:$X$2963,V114:$V$2963,""),IF(V113="l",IF(X112<>"","sub",""),""))} | X113: =IF(V113="h",LEFT(A113,2),IF(SUM(B113:M113)>0,IF(V113="sub",RIGHT(A113,2),""),""))
E114: =B114*D114 -> 0 | G114: =B114*F114 -> 0 | I114: =B114*H114 -> 0 | K114: =(E114*$J$6)+G114+I114+J114 -> 0 | M114: =K114 -> 0 | P114: =IF(V114="staart","niet leeg",IF(OR(V114="h",V114="l"),IF(W114="sub","niet leeg","leeg"),IF(AND(AND(A114="",M114=0),SUM(B114:M114)=0),"leeg","niet leeg"))) -> leeg | W114: {=IF(V114="h",_xlfn.XLOOKUP(X114,X115:$X$2963,V115:$V$2963,""),IF(V114="l",IF(X113<>"","sub",""),""))} | X114: =IF(V114="h",LEFT(A114,2),IF(SUM(B114:M114)>0,IF(V114="sub",RIGHT(A114,2),""),""))
E115: =B115*D115 -> 0 | G115: =B115*F115 -> 0 | I115: =B115*H115 -> 0 | K115: =(E115*$J$6)+G115+I115+J115 -> 0 | M115: =K115 -> 0 | P115: =IF(V115="staart","niet leeg",IF(OR(V115="h",V115="l"),IF(W115="sub","niet leeg","leeg"),IF(AND(AND(A115="",M115=0),SUM(B115:M115)=0),"leeg","niet leeg"))) -> leeg | W115: {=IF(V115="h",_xlfn.XLOOKUP(X115,X116:$X$2963,V116:$V$2963,""),IF(V115="l",IF(X114<>"","sub",""),""))} | X115: =IF(V115="h",LEFT(A115,2),IF(SUM(B115:M115)>0,IF(V115="sub",RIGHT(A115,2),""),""))
... E164: =B164*D164 -> 0 | G164: =B164*F164 -> 0 | I164: =B164*H164 -> 0 | K164: =(E164*$J$6)+G164+I164+J164 -> 0 | M164: =K164 -> 0 | P164: =IF(V164="staart","niet leeg",IF(OR(V164="h",V164="l"),IF(W164="sub","niet leeg","leeg"),IF(AND(AND(A164="",M164=0),SUM(B164:M164)=0),"leeg","niet leeg"))) -> leeg | W164: {=IF(V164="h",_xlfn.XLOOKUP(X164,X165:$X$2963,V165:$V$2963,""),IF(V164="l",IF(X163<>"","sub",""),""))} | X164: =IF(V164="h",LEFT(A164,2),IF(SUM(B164:M164)>0,IF(V164="sub",RIGHT(A164,2),""),""))
A165: Subtotaal 05 | E165: =SUM(E104:E164) -> 0 | G165: =SUM(G104:G164) -> 0 | I165: =SUM(I104:I164) -> 0 | K165: =SUM(K104:K164) -> 0 | M165: =SUM(M104:M164) -> 0 | P165: =IF(V165="staart","niet leeg",IF(OR(V165="h",V165="l"),IF(W165="sub","niet leeg","leeg"),IF(AND(AND(A165="",M165=0),SUM(B165:M165)=0),"leeg","niet leeg"))) -> niet leeg | V165: sub | W165: {=IF(V165="h",_xlfn.XLOOKUP(X165,X166:$X$2963,V166:$V$2963,""),IF(V165="l",IF(X164<>"","sub",""),""))} | X165: =IF(V165="h",LEFT(A165,2),IF(SUM(B165:M165)>0,IF(V165="sub",RIGHT(A165,2),""),""))
P166: =IF(V166="staart","niet leeg",IF(OR(V166="h",V166="l"),IF(W166="sub","niet leeg","leeg"),IF(AND(AND(A166="",M166=0),SUM(B166:M166)=0),"leeg","niet leeg"))) -> leeg | V166: l | W166: {=IF(V166="h",_xlfn.XLOOKUP(X166,X167:$X$2963,V167:$V$2963,""),IF(V166="l",IF(X165<>"","sub",""),""))} | X166: =IF(V166="h",LEFT(A166,2),IF(SUM(B166:M166)>0,IF(V166="sub",RIGHT(A166,2),""),""))
A167: 10 Stut- en sloopwerk | P167: =IF(V167="staart","niet leeg",IF(OR(V167="h",V167="l"),IF(W167="sub","niet leeg","leeg"),IF(AND(AND(A167="",M167=0),SUM(B167:M167)=0),"leeg","niet leeg"))) -> leeg | V167: h | W167: {=IF(V167="h",_xlfn.XLOOKUP(X167,X168:$X$2963,V168:$V$2963,""),IF(V167="l",IF(X166<>"","sub",""),""))} | X167: =IF(V167="h",LEFT(A167,2),IF(SUM(B167:M167)>0,IF(V167="sub",RIGHT(A167,2),""),"")) -> 10
E168: =B168*D168 -> 0 | G168: =B168*F168 -> 0 | I168: =B168*H168 -> 0 | K168: =(E168*$J$6)+G168+I168+J168 -> 0 | M168: =K168 -> 0 | P168: =IF(V168="staart","niet leeg",IF(OR(V168="h",V168="l"),IF(W168="sub","niet leeg","leeg"),IF(AND(AND(A168="",M168=0),SUM(B168:M168)=0),"leeg","niet leeg"))) -> leeg | W168: {=IF(V168="h",_xlfn.XLOOKUP(X168,X197:$X$2963,V197:$V$2963,""),IF(V168="l",IF(X167<>"","sub",""),""))} | X168: =IF(V168="h",LEFT(A168,2),IF(SUM(B168:M168)>0,IF(V168="sub",RIGHT(A168,2),""),""))
E169: =B169*D169 -> 0 | G169: =B169*F169 -> 0 | I169: =B169*H169 -> 0 | K169: =(E169*$J$6)+G169+I169+J169 -> 0 | M169: =K169 -> 0 | P169: =IF(V169="staart","niet leeg",IF(OR(V169="h",V169="l"),IF(W169="sub","niet leeg","leeg"),IF(AND(AND(A169="",M169=0),SUM(B169:M169)=0),"leeg","niet leeg"))) -> leeg | W169: {=IF(V169="h",_xlfn.XLOOKUP(X169,X170:$X$2963,V170:$V$2963,""),IF(V169="l",IF(X140<>"","sub",""),""))} | X169: =IF(V169="h",LEFT(A169,2),IF(SUM(B169:M169)>0,IF(V169="sub",RIGHT(A169,2),""),""))
...

Sheet Honorariumpercentages
A1: =IF('Vaste invoer leidraad'!A3<>"",'Vaste invoer leidraad'!A3,"") -> Honorariumpercentages
A2: =IF('Vaste invoer leidraad'!A4<>"",'Vaste invoer leidraad'!A4,"") | B2: =IF('Vaste invoer leidraad'!B4<>"",'Vaste invoer leidraad'!B4,"") -> Tabel voor de berekening van het honorarium inzake het opstellen van een instandhoudingsplan. | E2: =IF('Vaste invoer leidraad'!E4<>"",'Vaste invoer leidraad'!E4,"") | F2: =IF('Vaste invoer leidraad'!F4<>"",'Vaste invoer leidraad'!F4,"") -> Tabel voor de berekening van het honorarium inzake de planbegeleiding. | I2: =IF('Vaste invoer leidraad'!I4<>"",'Vaste invoer leidraad'!I4,"")
A3: =IF('Vaste invoer leidraad'!A5<>"",'Vaste invoer leidraad'!A5,"") | E3: =IF('Vaste invoer leidraad'!E5<>"",'Vaste invoer leidraad'!E5,"") | I3: =IF('Vaste invoer leidraad'!I5<>"",'Vaste invoer leidraad'!I5,"")
A4: =IF('Vaste invoer leidraad'!A6<>"",'Vaste invoer leidraad'!A6,"") | B4: =IF('Vaste invoer leidraad'!B6<>"",'Vaste invoer leidraad'!B6,"") | C4: =IF('Vaste invoer leidraad'!C6<>"",'Vaste invoer leidraad'!C6,"") | D4: =IF('Vaste invoer leidraad'!D6<>"",'Vaste invoer leidraad'!D6,"") | E4: =IF('Vaste invoer leidraad'!E6<>"",'Vaste invoer leidraad'!E6,"") | F4: =IF('Vaste invoer leidraad'!F6<>"",'Vaste invoer leidraad'!F6,"") | G4: =IF('Vaste invoer leidraad'!G6<>"",'Vaste invoer leidraad'!G6,"") | H4: =IF('Vaste invoer leidraad'!H6<>"",'Vaste invoer leidraad'!H6,"") | I4: =IF('Vaste invoer leidraad'!I6<>"",'Vaste invoer leidraad'!I6,"")
A5: =IF('Vaste invoer leidraad'!A7<>"",'Vaste invoer leidraad'!A7,"") | B5: =IF('Vaste invoer leidraad'!B7<>"",'Vaste invoer leidraad'!B7,"") -> Overzicht van honorariumpercentages gerelateerd aan de totale instandhoudingskosten: | E5: =IF('Vaste invoer leidraad'!E7<>"",'Vaste invoer leidraad'!E7,"") | F5: =IF('Vaste invoer leidraad'!F7<>"",'Vaste invoer leidraad'!F7,"") -> Overzicht van honorariumpercentages gerelateerd aan de totale instandhoudingskosten: | I5: =IF('Vaste invoer leidraad'!I7<>"",'Vaste invoer leidraad'!I7,"")
A6: =IF('Vaste invoer leidraad'!A8<>"",'Vaste invoer leidraad'!A8,"") | E6: =IF('Vaste invoer leidraad'!E8<>"",'Vaste invoer leidraad'!E8,"") | I6: =IF('Vaste invoer leidraad'!I8<>"",'Vaste invoer leidraad'!I8,"")
A7: =IF('Vaste invoer leidraad'!A9<>"",'Vaste invoer leidraad'!A9,"") | B7: =IF('Vaste invoer leidraad'!B9<>"",'Vaste invoer leidraad'!B9,"") -> Instandhoudingskosten | D7: =IF('Vaste invoer leidraad'!D9<>"",'Vaste invoer leidraad'!D9,"") -> Percentage | E7: =IF('Vaste invoer leidraad'!E9<>"",'Vaste invoer leidraad'!E9,"") | F7: =IF('Vaste invoer leidraad'!F9<>"",'Vaste invoer leidraad'!F9,"") -> Instandhoudingskosten | H7: =IF('Vaste invoer leidraad'!H9<>"",'Vaste invoer leidraad'!H9,"") -> Percentage | I7: =IF('Vaste invoer leidraad'!I9<>"",'Vaste invoer leidraad'!I9,"")
A8: =IF('Vaste invoer leidraad'!A10<>"",'Vaste invoer leidraad'!A10,"") | B8: =IF('Vaste invoer leidraad'!B10<>"",'Vaste invoer leidraad'!B10,"") -> van | C8: =IF('Vaste invoer leidraad'!C10<>"",'Vaste invoer leidraad'!C10,"") -> tot | D8: =IF('Vaste invoer leidraad'!D10<>"",'Vaste invoer leidraad'!D10,"") | E8: =IF('Vaste invoer leidraad'!E10<>"",'Vaste invoer leidraad'!E10,"") | F8: =IF('Vaste invoer leidraad'!F10<>"",'Vaste invoer leidraad'!F10,"") -> van | G8: =IF('Vaste invoer leidraad'!G10<>"",'Vaste invoer leidraad'!G10,"") -> tot | H8: =IF('Vaste invoer leidraad'!H10<>"",'Vaste invoer leidraad'!H10,"") | I8: =IF('Vaste invoer leidraad'!I10<>"",'Vaste invoer leidraad'!I10,"")
A9: =IF('Vaste invoer leidraad'!A11<>"",'Vaste invoer leidraad'!A11,"") | B9: =IF('Vaste invoer leidraad'!B11<>"",'Vaste invoer leidraad'!B11,"") -> 0 | C9: =IF('Vaste invoer leidraad'!C11<>"",'Vaste invoer leidraad'!C11,"") -> 50000 | D9: =IF('Vaste invoer leidraad'!D11<>"",'Vaste invoer leidraad'!D11,"") -> 0.0343 | E9: =IF('Vaste invoer leidraad'!E11<>"",'Vaste invoer leidraad'!E11,"") | F9: =IF('Vaste invoer leidraad'!F11<>"",'Vaste invoer leidraad'!F11,"") -> 0 | G9: =IF('Vaste invoer leidraad'!G11<>"",'Vaste invoer leidraad'!G11,"") -> 50000 | H9: =IF('Vaste invoer leidraad'!H11<>"",'Vaste invoer leidraad'!H11,"") -> 0.0786 | I9: =IF('Vaste invoer leidraad'!I11<>"",'Vaste invoer leidraad'!I11,"")
A10: =IF('Vaste invoer leidraad'!A12<>"",'Vaste invoer leidraad'!A12,"") | B10: =IF('Vaste invoer leidraad'!B12<>"",'Vaste invoer leidraad'!B12,"") -> 50000 | C10: =IF('Vaste invoer leidraad'!C12<>"",'Vaste invoer leidraad'!C12,"") -> 100000 | D10: =IF('Vaste invoer leidraad'!D12<>"",'Vaste invoer leidraad'!D12,"") -> 0.0322 | E10: =IF('Vaste invoer leidraad'!E12<>"",'Vaste invoer leidraad'!E12,"") | F10: =IF('Vaste invoer leidraad'!F12<>"",'Vaste invoer leidraad'!F12,"") -> 50000 | G10: =IF('Vaste invoer leidraad'!G12<>"",'Vaste invoer leidraad'!G12,"") -> 100000 | H10: =IF('Vaste invoer leidraad'!H12<>"",'Vaste invoer leidraad'!H12,"") -> 0.0736 | I10: =IF('Vaste invoer leidraad'!I12<>"",'Vaste invoer leidraad'!I12,"")
A11: =IF('Vaste invoer leidraad'!A13<>"",'Vaste invoer leidraad'!A13,"") | B11: =IF('Vaste invoer leidraad'!B13<>"",'Vaste invoer leidraad'!B13,"") -> 100000 | C11: =IF('Vaste invoer leidraad'!C13<>"",'Vaste invoer leidraad'!C13,"") -> 150000 | D11: =IF('Vaste invoer leidraad'!D13<>"",'Vaste invoer leidraad'!D13,"") -> 0.0304 | E11: =IF('Vaste invoer leidraad'!E13<>"",'Vaste invoer leidraad'!E13,"") | F11: =IF('Vaste invoer leidraad'!F13<>"",'Vaste invoer leidraad'!F13,"") -> 100000 | G11: =IF('Vaste invoer leidraad'!G13<>"",'Vaste invoer leidraad'!G13,"") -> 150000 | H11: =IF('Vaste invoer leidraad'!H13<>"",'Vaste invoer leidraad'!H13,"") -> 0.0695 | I11: =IF('Vaste invoer leidraad'!I13<>"",'Vaste invoer leidraad'!I13,"")
A12: =IF('Vaste invoer leidraad'!A14<>"",'Vaste invoer leidraad'!A14,"") | B12: =IF('Vaste invoer leidraad'!B14<>"",'Vaste invoer leidraad'!B14,"") -> 150000 | C12: =IF('Vaste invoer leidraad'!C14<>"",'Vaste invoer leidraad'!C14,"") -> 200000 | D12: =IF('Vaste invoer leidraad'!D14<>"",'Vaste invoer leidraad'!D14,"") -> 0.0289 | E12: =IF('Vaste invoer leidraad'!E14<>"",'Vaste invoer leidraad'!E14,"") | F12: =IF('Vaste invoer leidraad'!F14<>"",'Vaste invoer leidraad'!F14,"") -> 150000 | G12: =IF('Vaste invoer leidraad'!G14<>"",'Vaste invoer leidraad'!G14,"") -> 200000 | H12: =IF('Vaste invoer leidraad'!H14<>"",'Vaste invoer leidraad'!H14,"") -> 0.0661 | I12: =IF('Vaste invoer leidraad'!I14<>"",'Vaste invoer leidraad'!I14,"")
A13: =IF('Vaste invoer leidraad'!A15<>"",'Vaste invoer leidraad'!A15,"") | B13: =IF('Vaste invoer leidraad'!B15<>"",'Vaste invoer leidraad'!B15,"") -> 200000 | C13: =IF('Vaste invoer leidraad'!C15<>"",'Vaste invoer leidraad'!C15,"") -> 250000 | D13: =IF('Vaste invoer leidraad'!D15<>"",'Vaste invoer leidraad'!D15,"") -> 0.0276 | E13: =IF('Vaste invoer leidraad'!E15<>"",'Vaste invoer leidraad'!E15,"") | F13: =IF('Vaste invoer leidraad'!F15<>"",'Vaste invoer leidraad'!F15,"") -> 200000 | G13: =IF('Vaste invoer leidraad'!G15<>"",'Vaste invoer leidraad'!G15,"") -> 250000 | H13: =IF('Vaste invoer leidraad'!H15<>"",'Vaste invoer leidraad'!H15,"") -> 0.0632 | I13: =IF('Vaste invoer leidraad'!I15<>"",'Vaste invoer leidraad'!I15,"")
A14: =IF('Vaste invoer leidraad'!A16<>"",'Vaste invoer leidraad'!A16,"") | B14: =IF('Vaste invoer leidraad'!B16<>"",'Vaste invoer leidraad'!B16,"") -> 250000 | C14: =IF('Vaste invoer leidraad'!C16<>"",'Vaste invoer leidraad'!C16,"") -> 300000 | D14: =IF('Vaste invoer leidraad'!D16<>"",'Vaste invoer leidraad'!D16,"") -> 0.0266 | E14: =IF('Vaste invoer leidraad'!E16<>"",'Vaste invoer leidraad'!E16,"") | F14: =IF('Vaste invoer leidraad'!F16<>"",'Vaste invoer leidraad'!F16,"") -> 250000 | G14: =IF('Vaste invoer leidraad'!G16<>"",'Vaste invoer leidraad'!G16,"") -> 300000 | H14: =IF('Vaste invoer leidraad'!H16<>"",'Vaste invoer leidraad'!H16,"") -> 0.0608 | I14: =IF('Vaste invoer leidraad'!I16<>"",'Vaste invoer leidraad'!I16,"")
A15: =IF('Vaste invoer leidraad'!A17<>"",'Vaste invoer leidraad'!A17,"") | B15: =IF('Vaste invoer leidraad'!B17<>"",'Vaste invoer leidraad'!B17,"") -> 300000 | C15: =IF('Vaste invoer leidraad'!C17<>"",'Vaste invoer leidraad'!C17,"") -> 350000 | D15: =IF('Vaste invoer leidraad'!D17<>"",'Vaste invoer leidraad'!D17,"") -> 0.0256 | E15: =IF('Vaste invoer leidraad'!E17<>"",'Vaste invoer leidraad'!E17,"") | F15: =IF('Vaste invoer leidraad'!F17<>"",'Vaste invoer leidraad'!F17,"") -> 300000 | G15: =IF('Vaste invoer leidraad'!G17<>"",'Vaste invoer leidraad'!G17,"") -> 350000 | H15: =IF('Vaste invoer leidraad'!H17<>"",'Vaste invoer leidraad'!H17,"") -> 0.0586 | I15: =IF('Vaste invoer leidraad'!I17<>"",'Vaste invoer leidraad'!I17,"")
A16: =IF('Vaste invoer leidraad'!A18<>"",'Vaste invoer leidraad'!A18,"") | B16: =IF('Vaste invoer leidraad'!B18<>"",'Vaste invoer leidraad'!B18,"") -> 350000 | C16: =IF('Vaste invoer leidraad'!C18<>"",'Vaste invoer leidraad'!C18,"") -> 400000 | D16: =IF('Vaste invoer leidraad'!D18<>"",'Vaste invoer leidraad'!D18,"") -> 0.0248 | E16: =IF('Vaste invoer leidraad'!E18<>"",'Vaste invoer leidraad'!E18,"") | F16: =IF('Vaste invoer leidraad'!F18<>"",'Vaste invoer leidraad'!F18,"") -> 350000 | G16: =IF('Vaste invoer leidraad'!G18<>"",'Vaste invoer leidraad'!G18,"") -> 400000 | H16: =IF('Vaste invoer leidraad'!H18<>"",'Vaste invoer leidraad'!H18,"") -> 0.0568 | I16: =IF('Vaste invoer leidraad'!I18<>"",'Vaste invoer leidraad'!I18,"")
A17: =IF('Vaste invoer leidraad'!A19<>"",'Vaste invoer leidraad'!A19,"") | B17: =IF('Vaste invoer leidraad'!B19<>"",'Vaste invoer leidraad'!B19,"") -> 400000 | C17: =IF('Vaste invoer leidraad'!C19<>"",'Vaste invoer leidraad'!C19,"") -> 450000 | D17: =IF('Vaste invoer leidraad'!D19<>"",'Vaste invoer leidraad'!D19,"") -> 0.0241 | E17: =IF('Vaste invoer leidraad'!E19<>"",'Vaste invoer leidraad'!E19,"") | F17: =IF('Vaste invoer leidraad'!F19<>"",'Vaste invoer leidraad'!F19,"") -> 400000 | G17: =IF('Vaste invoer leidraad'!G19<>"",'Vaste invoer leidraad'!G19,"") -> 450000 | H17: =IF('Vaste invoer leidraad'!H19<>"",'Vaste invoer leidraad'!H19,"") -> 0.0552 | I17: =IF('Vaste invoer leidraad'!I19<>"",'Vaste invoer leidraad'!I19,"")
A18: =IF('Vaste invoer leidraad'!A20<>"",'Vaste invoer leidraad'!A20,"") | B18: =IF('Vaste invoer leidraad'!B20<>"",'Vaste invoer leidraad'!B20,"") -> 450000 | C18: =IF('Vaste invoer leidraad'!C20<>"",'Vaste invoer leidraad'!C20,"") -> 500000 | D18: =IF('Vaste invoer leidraad'!D20<>"",'Vaste invoer leidraad'!D20,"") -> 0.0235 | E18: =IF('Vaste invoer leidraad'!E20<>"",'Vaste invoer leidraad'!E20,"") | F18: =IF('Vaste invoer leidraad'!F20<>"",'Vaste invoer leidraad'!F20,"") -> 450000 | G18: =IF('Vaste invoer leidraad'!G20<>"",'Vaste invoer leidraad'!G20,"") -> 500000 | H18: =IF('Vaste invoer leidraad'!H20<>"",'Vaste invoer leidraad'!H20,"") -> 0.0537 | I18: =IF('Vaste invoer leidraad'!I20<>"",'Vaste invoer leidraad'!I20,"")
A19: =IF('Vaste invoer leidraad'!A21<>"",'Vaste invoer leidraad'!A21,"") | B19: =IF('Vaste invoer leidraad'!B21<>"",'Vaste invoer leidraad'!B21,"") -> 500000 | C19: =IF('Vaste invoer leidraad'!C21<>"",'Vaste invoer leidraad'!C21,"") -> 550000 | D19: =IF('Vaste invoer leidraad'!D21<>"",'Vaste invoer leidraad'!D21,"") -> 0.0229 | E19: =IF('Vaste invoer leidraad'!E21<>"",'Vaste invoer leidraad'!E21,"") | F19: =IF('Vaste invoer leidraad'!F21<>"",'Vaste invoer leidraad'!F21,"") -> 500000 | G19: =IF('Vaste invoer leidraad'!G21<>"",'Vaste invoer leidraad'!G21,"") -> 550000 | H19: =IF('Vaste invoer leidraad'!H21<>"",'Vaste invoer leidraad'!H21,"") -> 0.0524 | I19: =IF('Vaste invoer leidraad'!I21<>"",'Vaste invoer leidraad'!I21,"")
... A50: =IF('Vaste invoer leidraad'!A52<>"",'Vaste invoer leidraad'!A52,"") | B50: =IF('Vaste invoer leidraad'!B52<>"",'Vaste invoer leidraad'!B52,"") | C50: =IF('Vaste invoer leidraad'!C52<>"",'Vaste invoer leidraad'!C52,"") | D50: =IF('Vaste invoer leidraad'!D52<>"",'Vaste invoer leidraad'!D52,"") | E50: =IF('Vaste invoer leidraad'!E52<>"",'Vaste invoer leidraad'!E52,"") | F50: =IF('Vaste invoer leidraad'!F52<>"",'Vaste invoer leidraad'!F52,"") | G50: =IF('Vaste invoer leidraad'!G52<>"",'Vaste invoer leidraad'!G52,"") | H50: =IF('Vaste invoer leidraad'!H52<>"",'Vaste invoer leidraad'!H52,"") | I50: =IF('Vaste invoer leidraad'!I52<>"",'Vaste invoer leidraad'!I52,"")
A51: =IF('Vaste invoer leidraad'!A53<>"",'Vaste invoer leidraad'!A53,"") | B51: =IF('Vaste invoer leidraad'!B53<>"",'Vaste invoer leidraad'!B53,"") -> bron: | C51: =HYPERLINK(IF('Vaste invoer leidraad'!C53<>"",'Vaste invoer leidraad'!C53,"")) -> https://wetten.overheid.nl/BWBR0032075/#Bijlage | I51: =IF('Vaste invoer leidraad'!I53<>"",'Vaste invoer leidraad'!I53,"")
A52: =IF('Vaste invoer leidraad'!A54<>"",'Vaste invoer leidraad'!A54,"") | B52: =IF('Vaste invoer leidraad'!B54<>"",'Vaste invoer leidraad'!B54,"") | C52: =IF('Vaste invoer leidraad'!C54<>"",'Vaste invoer leidraad'!C54,"") | D52: =IF('Vaste invoer leidraad'!D54<>"",'Vaste invoer leidraad'!D54,"") | E52: =IF('Vaste invoer leidraad'!E54<>"",'Vaste invoer leidraad'!E54,"") | F52: =IF('Vaste invoer leidraad'!F54<>"",'Vaste invoer leidraad'!F54,"") | G52: =IF('Vaste invoer leidraad'!G54<>"",'Vaste invoer leidraad'!G54,"") | H52: =IF('Vaste invoer leidraad'!H54<>"",'Vaste invoer leidraad'!H54,"") | I52: =IF('Vaste invoer leidraad'!I54<>"",'Vaste invoer leidraad'!I54,"")

Sheet Standaard invulgegevens
A1: STANDAARD INVULGEGEVENS
A2: jaarlijks te controleren
A4: eerste planjaar: | B4: 2027
A9: vaste eenheden
A10: strekkende meter | B10: m1
A11: vierkante meter | B11: m2
A12: kubieke meter | B12: m3
A13: post | B13: post
A14: stuks | B14: st
A15: stelpost | B15: stpst
A16: dag | B16: dag
A17: week | B17: wk
A18: vracht | B18: vr
A19: offerte | B19: off
A20: are | B20: are
A21: hectare | B21: ha

Sheet Vaste invoer leidraad
A1: VASTE INVOER VANUIT LEIDRAAD
A3: Honorariumpercentages | K3: Standaard staartkosten (maximale bedragen/percentages)
B4: Tabel voor de berekening van het honorarium inzake het opstellen van een instandhoudingsplan. | F4: Tabel voor de berekening van het honorarium inzake de planbegeleiding. | L4: Indirecte kosten
L5: Algemene bouwplaatskosten | M5: 0.09
L6: Algemene kosten | M6: 0.07
B7: Overzicht van honorariumpercentages gerelateerd aan de totale instandhoudingskosten: | F7: Overzicht van honorariumpercentages gerelateerd aan de totale instandhoudingskosten: | L7: Winst en risico | M7: 0.03
L8: Bovenstaand tot een maximum van | M8: 0.2
B9: Instandhoudingskosten | D9: Percentage | F9: Instandhoudingskosten | H9: Percentage
B10: van | C10: tot | F10: van | G10: tot | L10: Werken buiten de aanneemsom
B11: 0 | C11: 50000 | D11: 0.0343 | F11: 0 | G11: 50000 | H11: 0.0786 | L11: Coördinatievergoeding en ABK | M11: 0.03
B12: 50000 | C12: 100000 | D12: 0.0322 | F12: 50000 | G12: 100000 | H12: 0.0736
B13: 100000 | C13: 150000 | D13: 0.0304 | F13: 100000 | G13: 150000 | H13: 0.0695 | L13: Onvoorzien | M13: 0.05
B14: 150000 | C14: 200000 | D14: 0.0289 | F14: 150000 | G14: 200000 | H14: 0.0661
B15: 200000 | C15: 250000 | D15: 0.0276 | F15: 200000 | G15: 250000 | H15: 0.0632 | L15: Directiekosten
B16: 250000 | C16: 300000 | D16: 0.0266 | F16: 250000 | G16: 300000 | H16: 0.0608 | L16: Opstellen instandhoudingsplan | M16: zie tabel links
B17: 300000 | C17: 350000 | D17: 0.0256 | F17: 300000 | G17: 350000 | H17: 0.0586 | L17: Jaarlijkse begeleiding | M17: zie tabel links
B18: 350000 | C18: 400000 | D18: 0.0248 | F18: 350000 | G18: 400000 | H18: 0.0568
B19: 400000 | C19: 450000 | D19: 0.0241 | F19: 400000 | G19: 450000 | H19: 0.0552 | L19: Diverse adviseurs:
B20: 450000 | C20: 500000 | D20: 0.0235 | F20: 450000 | G20: 500000 | H20: 0.0537 | L20: Kosten accountant | M20: 5000
B21: 500000 | C21: 550000 | D21: 0.0229 | F21: 500000 | G21: 550000 | H21: 0.0524 | L21: Kosten taxateur | M21: 2500
B22: 550000 | C22: 600000 | D22: 0.0224 | F22: 550000 | G22: 600000 | H22: 0.0512
B23: 600000 | C23: 650000 | D23: 0.0219 | F23: 600000 | G23: 650000 | H23: 0.0502 | L23: Leges | M23: 0.015
B24: 650000 | C24: 700000 | D24: 0.0215 | F24: 650000 | G24: 700000 | H24: 0.0492 | L24: CAR-verzekering | M24: 0.004
B25: 700000 | C25: 750000 | D25: 0.0211 | F25: 700000 | G25: 750000 | H25: 0.0483
B26: 750000 | C26: 800000 | D26: 0.0208 | F26: 750000 | G26: 800000 | H26: 0.0475 | L26: Indexeringspercentage | M26: 0.03
B27: 800000 | C27: 850000 | D27: 0.0205 | F27: 800000 | G27: 850000 | H27: 0.0468
B28: 850000 | C28: 900000 | D28: 0.0202 | F28: 850000 | G28: 900000 | H28: 0.0461 | L28: Btw | M28: 0.21
B29: 900000 | C29: 950000 | D29: 0.0199 | F29: 900000 | G29: 950000 | H29: 0.0455
B30: 950000 | C30: 1000000 | D30: 0.0196 | F30: 950000 | G30: 1000000 | H30: 0.0449
B31: 1000000 | C31: 1050000 | D31: 0.0194 | F31: 1000000 | G31: 1050000 | H31: 0.0443
B32: 1050000 | C32: 1100000 | D32: 0.0192 | F32: 1050000 | G32: 1100000 | H32: 0.0438
B33: 1100000 | C33: 1150000 | D33: 0.0189 | F33: 1100000 | G33: 1150000 | H33: 0.0433
B34: 1150000 | C34: 1200000 | D34: 0.0188 | F34: 1150000 | G34: 1200000 | H34: 0.0429
B35: 1200000 | C35: 1250000 | D35: 0.0186 | F35: 1200000 | G35: 1250000 | H35: 0.0425
B36: 1250000 | C36: 1300000 | D36: 0.0184 | F36: 1250000 | G36: 1300000 | H36: 0.0421
B37: 1300000 | C37: 1350000 | D37: 0.0182 | F37: 1300000 | G37: 1350000 | H37: 0.0417
B38: 1350000 | C38: 1400000 | D38: 0.0181 | F38: 1350000 | G38: 1400000 | H38: 0.0414
B39: 1400000 | C39: 1450000 | D39: 0.0179 | F39: 1400000 | G39: 1450000 | H39: 0.041
B40: 1450000 | C40: 1500000 | D40: 0.0178 | F40: 1450000 | G40: 1500000 | H40: 0.0407
... B51: 2000000 | C51: 100000000 | D51: 0.0166 | F51: 2000000 | G51: 100000000 | H51: 0.0381
B53: bron: | C53: https://wetten.overheid.nl/BWBR0032075/#Bijlage
