Workbook

Sheet Handleiding tbv invullen
B2: Handleiding voor het invullen Standaard begrotingsmodel gebouwde rijksmonumenten provincie Zeeland
B4: Algemeen
C6: Alleen aanvragen waarbij gebruik wordt gemaakt van dit begrotingsmodel kunnen in behandeling worden genomen. Lees deze handleiding goed door voordat u het begrotingsmodel invult.
C8: Dit begrotingsmodel ten behoeve van het aanvragen van restauratiesubsidie voor een gebouwd rijksmonument is vastgesteld op grond van artikel 5.1.1, lid e, van de Subsidieregeling gebouwde rijksmonumenten provincie Zeeland.
C10: Vraagt u restauratiesubsidie aan voor een samenstel van groene monumenten, of betreft uw aanvraag een grote aanleg die u ten behoeve van het beheer heeft verdeeld in meerdere vakken, dan kunt u de verschillende invulbladen in dit model gebruiken voor de verschillende groene monumenten of vakken. Geeft u daarbij steeds duidelijk aan welk rijksmonument of vak elk tabblad betreft, met een verwijzing naar de door u meegestuurde overzichtskaart. Mocht u behoefte hebben aan meer invulbladen, neem dan contact op met de Infodesk van de Rijksdienst voor het Cultureel Erfgoed via ergoed@zeeland.nl
C11: Vraagt u subsidie aan voor één of meerdere groene monumenten? Gebruikt u daarvoor dan het aparte begrotingsmodel voor groene monumenten.
B13: Subsidiabele kosten voor gebouwde monumenten
C15: Om in aanmerking te komen voor subsidie, moeten werkzaamheden sober en doelmatig zijn, technisch noodzakelijk en gericht op maximaal behoud van aanwezige monumentale waarden, in het bijzonder historische materialen en constructies. Werkzaamheden aan niet-monumentale onderdelen (bijv. installaties, verduurzaming) en kosten voor reconstructie, comfortverbetering, verfraaiing en veranderd gebruik zijn in de regel niet subsidiabel op grond van deze regeling. Ook kosten van werkzaamheden die reeds zijn aangevangen of voltooid vóór de subsidieverlening zijn niet subsidiabel.
C17: De subsidiabele werkzaamheden zijn beschreven in de Leidraad subsidiabele instandhoudingskosten (hierna: de Leidraad). De Leidraad is een bijlage bij de Sim, en is te vinden via de volgende link:
C18: https://wetten.overheid.nl/BWBR0032075/#Bijlage
C20: De Leidraad is gebaseerd op de STABU-systematiek. De volgorde van de paragrafen in het begrotingsmodel correspondeert met de volgorde in de Leidraad.
C22: Indien u kosten opvoert voor restauratiewerkzaamheden uitgevoerd door eigen personeel dan dient u bij de eindverantwoording aan de hand van een urenadministratie of accountantsverklaring aan te kunnen tonen dat de kosten specifiek voor de uitvoering van dit plan gemaakt zijn. Dit is met inbegrip van de arbeidsuren voor de coördinatie (aansturing) van vrijwilligers die subsidiabele werkzaamheden uitvoeren.
C24: Werkzaamheden aan klinkende onderdelen van rijksmonumenten zoals orgels, luidklokken, beiaarden en uurwerken, zijn subsidiabel wanneer de klinkende onderdelen op de lijst staan zoals gepubliceerd op de website van de Rijksdienst voor het Cultureel Erfgoed: www.cultureelerfgoed.nl onder het onderwerp Subsidieregeling instandhouding monumenten.
B26: Met restauratie samenhangend onderhoud
C28: Naast restauratiewerkzaamheden kunt u ook de daarmee samenhangende reguliere onderhoudswerkzaamheden opvoeren. Dat onderhoud kan direct samenhangen met de restauratie, maar kan ook in dezelfde werkstroom worden meegenomen omdat het efficiënter is, bijvoorbeeld omdat voor de restauratiewerkzaamheden bepaald materieel nodig is dat ook ingezet kan worden voor specifieke onderhoudswerkzaamheden. Werkzaamheden waarvoor reeds Sim-subsidie is verleend mogen uiteraard niet nogmaals opgevoerd worden.
B30: Beperkingen t.a.v. maximale subsidiabele kosten
C32: Voor de aanvraagronde van 2026 geldt een maximum subsidiabel uurloon van € 56,30 exclusief algemene kosten, winst en risico en btw. Tijdens de beoordeling zal gecontroleerd worden of het ingevulde uurtarief voldoet aan dit maximale subsidiabele uurtarief. Dit tarief geldt voor de gehele activiteitenperiode. Voor volgende aanvraagrondes kan dit uurloon aangepast worden. Het maximale subsidiabele uurloon per ronde staat op de website www.cultureelerfgoed.nl.
C34: Voor sommige posten in de ‘staart’ (onderaan het invulblad) gelden beperkingen ten aanzien van het maximaal te subsidiëren percentage. Deze maximale percentages vindt u in de Leidraad subsidiabele instandhoudingskosten. Wat betreft de maximum percentages uit hoofdstuk 2 van de Leidraad geldt voor grote restauraties standaard het laagste percentage uit tabel 3, namelijk 10% voor plankosten (incl. aanvullende stukken) en begeleidingskosten samen.
B36: Algemene aanwijzingen voor het gebruik van dit Excel-document
C38: U kunt invulregels die u niet nodig heeft verbergen: u selecteert de regels en klikt vervolgens met de rechtermuisknop en kiest voor "verbergen". Ook zijn er per paragraaf uit de Leidraad verborgen regels voor het geval u méér ruimte nodig heeft dan het standaard aantal regels. Om deze verborgen regels, herkenbaar aan de niet doorlopende regelnummering in de linker kantlijn, weer zichtbaar en daarmee bruikbaar te maken, selecteert u de regel voor en na de verborgen regels. U klikt vervolgens met de rechtermuisknop en kiest voor "zichtbaar maken". Is het aantal regels nog steeds niet toereikend? Neem dan contact op met de Provincie Zeeland via erfgoed@zeeland.nl.
C40: Staat er een rood driehoekje rechtsboven in een cel? Dan is er een verborgen toelichting opgenomen. Door met de cursor op het driehoekje te gaan staan, kunt u die toelichting lezen.
C42: Enkele cellen geven een waarschuwing bij het overschrijden van een bepaald bedrag of percentage. De cel zal, bij het negeren van de waarschuwing, oranje kleuren en geeft daarmee aan dat de ingevoerde waarde afwijkt van de maximale waarde die in de Leidraad wordt genoemd.
B44: Invullen van de begroting
C46: Basisgegevens
C48: U vult de basisgegevens van het rijksmonument en deze begroting in de grijze blokken in, boven in het invulblad.
C50: Heeft het invulblad betrekking op een zelfstandig onderdeel van een rijksmonument? Vult u dan in om welk zelfstandig onderdeel het gaat, met een verwijzing naar de door u meegestuurde tekening.
C52: Directe kosten (paragrafen uit de Leidraad)
C54: U vult in de eerste kolom de omschrijving van de werkzaamheden in. Vervolgens vult u de kolommen Aantal en Eenheid in. De bij het aantal te gebruiken eenheid staat in kolom Eenheid: m1 (m1 strekkende meter), m2 (m2 vierkante meter), m3 (m3 kubieke meter), post, st (stuks), stpst (stelpost), dag, wk (week), vr (vracht), off (offerte), are, ha (hectare). De kosten van de werkzaamheden moeten gespecificeerd worden in uren, materialen, onderaanneming en stelposten. Let op: de bedragen voor arbeid in de begroting worden automatisch aangepast aan het door u gekozen standaard uurtarief.
C56: Er is geen aparte kolom voor materieel in de begroting opgenomen. Mocht u (groot) materieel toch willen begroten, gebruikt u daarvoor dan een aparte invulregel onder de desbetreffende paragraaf en vult u de kosten van het materieel in de kolom onderaanneming in.
C58: Indirecte kosten/staartkosten
C60: In de staart onderaan de begroting voert u o.a. de van toepassing zijnde percentages in voor onvoorzien, directiekosten, leges en btw in. Er is geen aparte regel voor het toepassen van indexering. Bij het invullen van de directe kosten dient u een realistische inschatting te maken van de kosten.
C62: Voor directiekosten gelden maximaal te subsidiëren percentages zoals opgenomen in de Leidraad subsidiabele instandhoudingskosten. Wat betreft de maximum percentages uit hoofdstuk 2 van de Leidraad geldt voor grote restauraties standaard het laagste percentage uit tabel 3, namelijk 10% voor plankosten (incl. aanvullende stukken) en begeleidingskosten samen.
C64: De kosten van een accountantsonderzoek en -verklaring zijn subsidiabel bij subsidiebedragen van €300.000,- of meer, tot een maximum van €5.000,- (inclusief btw).
C66: Werken buiten de aanneemsom
C68: Dit betreft onderaanneming buiten de aanneemsom (werkzaamheden die apart worden aanbesteed). Hier vult u de werkzaamheden met de bijbehorende kosten in.
... C75: Let op: kunt u de volledige 21% btw terugvorderen, dan vult u hier 100% in.
B77: Vragen
C79: Mocht u bij het invullen van dit model nog vragen hebben stuur die dan naar erfgoed@zeeland.nl

Sheet Invulblad 1
A1: BASISGEGEVENS | B1: Provincie Zeeland standaardbegrotingsmodel gebouwd rijksmonument (versie september 2026) | V1: verberg kolom | W1: verberg kolom | X1: verberg kolom
A3: Rijksmonumentnummer
A4: Monumentnaam (indien van toepassing)
A5: Zelfstandig onderdeel (indien van toepassing)
A6: Monumentadres
A7: Postcode en plaats | N7: Berekening subsidiabele kosten
N8: In te vullen door medewerker Provincie
A9: Peildatum begrotingsgegevens | M9: Naam adviseur
A10: Standaard uurtarief | M10: Datum
A11: Opsteller plan | M11: Zaaknummer
A13: STABU-code en omschrijving | B13: Aantal | C13: Een-heid | D13: Arbeid in uren | E13: Arbeid in uren totaal | F13: Materiaal | G13: Materiaal totaal | H13: Onderaan-neming | I13: Onderaan-neming totaal | J13: Stelposten | K13: Totaal | M13: TOTAAL t.b.v. staartkosten | N13: Specifieke opmerking of de reden waarom de kosten niet subsidiabel zijn of zijn aangepast (in te vullen door de Provincie Zeeland) | P13: Filter blad | S13: Maximaal volgens leidraad | T13: Check | V13: hulp1 | W13: hulp2 | X13: hulp3
P15: =IF(V15="staart","niet leeg",IF(OR(V15="h",V15="l"),IF(W15="sub","niet leeg","leeg"),IF(AND(AND(A15="",M15=0),SUM(B15:M15)=0),"leeg","niet leeg"))) -> leeg | W15: {=IF(V15="h",_xlfn.XLOOKUP(X15,X16:$X$2963,V16:$V$2963,""),IF(V15="l",IF(X14<>"","sub",""),""))} | X15: =IF(V15="h",LEFT(A15,2),IF(SUM(B15:M15)>0,IF(V15="sub",RIGHT(A15,2),""),""))
A16: 00 Algemeen | P16: =IF(V16="staart","niet leeg",IF(OR(V16="h",V16="l"),IF(W16="sub","niet leeg","leeg"),IF(AND(AND(A16="",M16=0),SUM(B16:M16)=0),"leeg","niet leeg"))) -> leeg | V16: h | W16: {=IF(V16="h",_xlfn.XLOOKUP(X16,X17:$X$2963,V17:$V$2963,""),IF(V16="l",IF(X15<>"","sub",""),""))} | X16: =IF(V16="h",LEFT(A16,2),IF(SUM(B16:M16)>0,IF(V16="sub",RIGHT(A16,2),""),"")) -> 00
E17: =B17*D17 -> 0 | G17: =B17*F17 -> 0 | I17: =B17*H17 -> 0 | K17: =(E17*$J$6)+G17+I17+J17 -> 0 | M17: =K17 -> 0 | P17: =IF(V17="staart","niet leeg",IF(OR(V17="h",V17="l"),IF(W17="sub","niet leeg","leeg"),IF(AND(AND(A17="",M17=0),SUM(B17:M17)=0),"leeg","niet leeg"))) -> leeg | W17: {=IF(V17="h",_xlfn.XLOOKUP(X17,X43:$X$2963,V43:$V$2963,""),IF(V17="l",IF(X16<>"","sub",""),""))} | X17: =IF(V17="h",LEFT(A17,2),IF(SUM(B17:M17)>0,IF(V17="sub",RIGHT(A17,2),""),""))
E18: =B18*D18 -> 0 | G18: =B18*F18 -> 0 | I18: =B18*H18 -> 0 | K18: =(E18*$J$6)+G18+I18+J18 -> 0 | M18: =K18 -> 0 | P18: =IF(V18="staart","niet leeg",IF(OR(V18="h",V18="l"),IF(W18="sub","niet leeg","leeg"),IF(AND(AND(A18="",M18=0),SUM(B18:M18)=0),"leeg","niet leeg"))) -> leeg | W18: {=IF(V18="h",_xlfn.XLOOKUP(X18,X19:$X$2963,V19:$V$2963,""),IF(V18="l",IF(#REF!<>"","sub",""),""))} | X18: =IF(V18="h",LEFT(A18,2),IF(SUM(B18:M18)>0,IF(V18="sub",RIGHT(A18,2),""),""))
E19: =B19*D19 -> 0 | G19: =B19*F19 -> 0 | I19: =B19*H19 -> 0 | K19: =(E19*$J$6)+G19+I19+J19 -> 0 | M19: =K19 -> 0 | P19: =IF(V19="staart","niet leeg",IF(OR(V19="h",V19="l"),IF(W19="sub","niet leeg","leeg"),IF(AND(AND(A19="",M19=0),SUM(B19:M19)=0),"leeg","niet leeg"))) -> leeg | W19: {=IF(V19="h",_xlfn.XLOOKUP(X19,X20:$X$2963,V20:$V$2963,""),IF(V19="l",IF(X18<>"","sub",""),""))} | X19: =IF(V19="h",LEFT(A19,2),IF(SUM(B19:M19)>0,IF(V19="sub",RIGHT(A19,2),""),""))
E20: =B20*D20 -> 0 | G20: =B20*F20 -> 0 | I20: =B20*H20 -> 0 | K20: =(E20*$J$6)+G20+I20+J20 -> 0 | M20: =K20 -> 0 | P20: =IF(V20="staart","niet leeg",IF(OR(V20="h",V20="l"),IF(W20="sub","niet leeg","leeg"),IF(AND(AND(A20="",M20=0),SUM(B20:M20)=0),"leeg","niet leeg"))) -> leeg | W20: {=IF(V20="h",_xlfn.XLOOKUP(X20,X21:$X$2963,V21:$V$2963,""),IF(V20="l",IF(X19<>"","sub",""),""))} | X20: =IF(V20="h",LEFT(A20,2),IF(SUM(B20:M20)>0,IF(V20="sub",RIGHT(A20,2),""),""))
E21: =B21*D21 -> 0 | G21: =B21*F21 -> 0 | I21: =B21*H21 -> 0 | K21: =(E21*$J$6)+G21+I21+J21 -> 0 | M21: =K21 -> 0 | P21: =IF(V21="staart","niet leeg",IF(OR(V21="h",V21="l"),IF(W21="sub","niet leeg","leeg"),IF(AND(AND(A21="",M21=0),SUM(B21:M21)=0),"leeg","niet leeg"))) -> leeg | W21: {=IF(V21="h",_xlfn.XLOOKUP(X21,X22:$X$2963,V22:$V$2963,""),IF(V21="l",IF(X20<>"","sub",""),""))} | X21: =IF(V21="h",LEFT(A21,2),IF(SUM(B21:M21)>0,IF(V21="sub",RIGHT(A21,2),""),""))
E22: =B22*D22 -> 0 | G22: =B22*F22 -> 0 | I22: =B22*H22 -> 0 | K22: =(E22*$J$6)+G22+I22+J22 -> 0 | M22: =K22 -> 0 | P22: =IF(V22="staart","niet leeg",IF(OR(V22="h",V22="l"),IF(W22="sub","niet leeg","leeg"),IF(AND(AND(A22="",M22=0),SUM(B22:M22)=0),"leeg","niet leeg"))) -> leeg | W22: {=IF(V22="h",_xlfn.XLOOKUP(X22,X23:$X$2963,V23:$V$2963,""),IF(V22="l",IF(X21<>"","sub",""),""))} | X22: =IF(V22="h",LEFT(A22,2),IF(SUM(B22:M22)>0,IF(V22="sub",RIGHT(A22,2),""),""))
E23: =B23*D23 -> 0 | G23: =B23*F23 -> 0 | I23: =B23*H23 -> 0 | K23: =(E23*$J$6)+G23+I23+J23 -> 0 | M23: =K23 -> 0 | P23: =IF(V23="staart","niet leeg",IF(OR(V23="h",V23="l"),IF(W23="sub","niet leeg","leeg"),IF(AND(AND(A23="",M23=0),SUM(B23:M23)=0),"leeg","niet leeg"))) -> leeg | W23: {=IF(V23="h",_xlfn.XLOOKUP(X23,X24:$X$2963,V24:$V$2963,""),IF(V23="l",IF(X22<>"","sub",""),""))} | X23: =IF(V23="h",LEFT(A23,2),IF(SUM(B23:M23)>0,IF(V23="sub",RIGHT(A23,2),""),""))
E24: =B24*D24 -> 0 | G24: =B24*F24 -> 0 | I24: =B24*H24 -> 0 | K24: =(E24*$J$6)+G24+I24+J24 -> 0 | M24: =K24 -> 0 | P24: =IF(V24="staart","niet leeg",IF(OR(V24="h",V24="l"),IF(W24="sub","niet leeg","leeg"),IF(AND(AND(A24="",M24=0),SUM(B24:M24)=0),"leeg","niet leeg"))) -> leeg | W24: {=IF(V24="h",_xlfn.XLOOKUP(X24,X25:$X$2963,V25:$V$2963,""),IF(V24="l",IF(X23<>"","sub",""),""))} | X24: =IF(V24="h",LEFT(A24,2),IF(SUM(B24:M24)>0,IF(V24="sub",RIGHT(A24,2),""),""))
E25: =B25*D25 -> 0 | G25: =B25*F25 -> 0 | I25: =B25*H25 -> 0 | K25: =(E25*$J$6)+G25+I25+J25 -> 0 | M25: =K25 -> 0 | P25: =IF(V25="staart","niet leeg",IF(OR(V25="h",V25="l"),IF(W25="sub","niet leeg","leeg"),IF(AND(AND(A25="",M25=0),SUM(B25:M25)=0),"leeg","niet leeg"))) -> leeg | W25: {=IF(V25="h",_xlfn.XLOOKUP(X25,X26:$X$2963,V26:$V$2963,""),IF(V25="l",IF(X24<>"","sub",""),""))} | X25: =IF(V25="h",LEFT(A25,2),IF(SUM(B25:M25)>0,IF(V25="sub",RIGHT(A25,2),""),""))
E26: =B26*D26 -> 0 | G26: =B26*F26 -> 0 | I26: =B26*H26 -> 0 | K26: =(E26*$J$6)+G26+I26+J26 -> 0 | M26: =K26 -> 0 | P26: =IF(V26="staart","niet leeg",IF(OR(V26="h",V26="l"),IF(W26="sub","niet leeg","leeg"),IF(AND(AND(A26="",M26=0),SUM(B26:M26)=0),"leeg","niet leeg"))) -> leeg | W26: {=IF(V26="h",_xlfn.XLOOKUP(X26,X27:$X$2963,V27:$V$2963,""),IF(V26="l",IF(X25<>"","sub",""),""))} | X26: =IF(V26="h",LEFT(A26,2),IF(SUM(B26:M26)>0,IF(V26="sub",RIGHT(A26,2),""),""))
E27: =B27*D27 -> 0 | G27: =B27*F27 -> 0 | I27: =B27*H27 -> 0 | K27: =(E27*$J$6)+G27+I27+J27 -> 0 | M27: =K27 -> 0 | P27: =IF(V27="staart","niet leeg",IF(OR(V27="h",V27="l"),IF(W27="sub","niet leeg","leeg"),IF(AND(AND(A27="",M27=0),SUM(B27:M27)=0),"leeg","niet leeg"))) -> leeg | W27: {=IF(V27="h",_xlfn.XLOOKUP(X27,X28:$X$2963,V28:$V$2963,""),IF(V27="l",IF(X26<>"","sub",""),""))} | X27: =IF(V27="h",LEFT(A27,2),IF(SUM(B27:M27)>0,IF(V27="sub",RIGHT(A27,2),""),""))
E28: =B28*D28 -> 0 | G28: =B28*F28 -> 0 | I28: =B28*H28 -> 0 | K28: =(E28*$J$6)+G28+I28+J28 -> 0 | M28: =K28 -> 0 | P28: =IF(V28="staart","niet leeg",IF(OR(V28="h",V28="l"),IF(W28="sub","niet leeg","leeg"),IF(AND(AND(A28="",M28=0),SUM(B28:M28)=0),"leeg","niet leeg"))) -> leeg | W28: {=IF(V28="h",_xlfn.XLOOKUP(X28,X29:$X$2963,V29:$V$2963,""),IF(V28="l",IF(X27<>"","sub",""),""))} | X28: =IF(V28="h",LEFT(A28,2),IF(SUM(B28:M28)>0,IF(V28="sub",RIGHT(A28,2),""),""))
E29: =B29*D29 -> 0 | G29: =B29*F29 -> 0 | I29: =B29*H29 -> 0 | K29: =(E29*$J$6)+G29+I29+J29 -> 0 | M29: =K29 -> 0 | P29: =IF(V29="staart","niet leeg",IF(OR(V29="h",V29="l"),IF(W29="sub","niet leeg","leeg"),IF(AND(AND(A29="",M29=0),SUM(B29:M29)=0),"leeg","niet leeg"))) -> leeg | W29: {=IF(V29="h",_xlfn.XLOOKUP(X29,X30:$X$2963,V30:$V$2963,""),IF(V29="l",IF(X28<>"","sub",""),""))} | X29: =IF(V29="h",LEFT(A29,2),IF(SUM(B29:M29)>0,IF(V29="sub",RIGHT(A29,2),""),""))
E30: =B30*D30 -> 0 | G30: =B30*F30 -> 0 | I30: =B30*H30 -> 0 | K30: =(E30*$J$6)+G30+I30+J30 -> 0 | M30: =K30 -> 0 | P30: =IF(V30="staart","niet leeg",IF(OR(V30="h",V30="l"),IF(W30="sub","niet leeg","leeg"),IF(AND(AND(A30="",M30=0),SUM(B30:M30)=0),"leeg","niet leeg"))) -> leeg | W30: {=IF(V30="h",_xlfn.XLOOKUP(X30,X43:$X$2963,V43:$V$2963,""),IF(V30="l",IF(X29<>"","sub",""),""))} | X30: =IF(V30="h",LEFT(A30,2),IF(SUM(B30:M30)>0,IF(V30="sub",RIGHT(A30,2),""),""))
E31: =B31*D31 -> 0 | G31: =B31*F31 -> 0 | I31: =B31*H31 -> 0 | K31: =(E31*$J$6)+G31+I31+J31 -> 0 | M31: =K31 -> 0 | P31: =IF(V31="staart","niet leeg",IF(OR(V31="h",V31="l"),IF(W31="sub","niet leeg","leeg"),IF(AND(AND(A31="",M31=0),SUM(B31:M31)=0),"leeg","niet leeg"))) -> leeg | W31: {=IF(V31="h",_xlfn.XLOOKUP(X31,X32:$X$2963,V32:$V$2963,""),IF(V31="l",IF(#REF!<>"","sub",""),""))} | X31: =IF(V31="h",LEFT(A31,2),IF(SUM(B31:M31)>0,IF(V31="sub",RIGHT(A31,2),""),""))
E32: =B32*D32 -> 0 | G32: =B32*F32 -> 0 | I32: =B32*H32 -> 0 | K32: =(E32*$J$6)+G32+I32+J32 -> 0 | M32: =K32 -> 0 | P32: =IF(V32="staart","niet leeg",IF(OR(V32="h",V32="l"),IF(W32="sub","niet leeg","leeg"),IF(AND(AND(A32="",M32=0),SUM(B32:M32)=0),"leeg","niet leeg"))) -> leeg | W32: {=IF(V32="h",_xlfn.XLOOKUP(X32,X33:$X$2963,V33:$V$2963,""),IF(V32="l",IF(X31<>"","sub",""),""))} | X32: =IF(V32="h",LEFT(A32,2),IF(SUM(B32:M32)>0,IF(V32="sub",RIGHT(A32,2),""),""))
E33: =B33*D33 -> 0 | G33: =B33*F33 -> 0 | I33: =B33*H33 -> 0 | K33: =(E33*$J$6)+G33+I33+J33 -> 0 | M33: =K33 -> 0 | P33: =IF(V33="staart","niet leeg",IF(OR(V33="h",V33="l"),IF(W33="sub","niet leeg","leeg"),IF(AND(AND(A33="",M33=0),SUM(B33:M33)=0),"leeg","niet leeg"))) -> leeg | W33: {=IF(V33="h",_xlfn.XLOOKUP(X33,X34:$X$2963,V34:$V$2963,""),IF(V33="l",IF(X32<>"","sub",""),""))} | X33: =IF(V33="h",LEFT(A33,2),IF(SUM(B33:M33)>0,IF(V33="sub",RIGHT(A33,2),""),""))
E34: =B34*D34 -> 0 | G34: =B34*F34 -> 0 | I34: =B34*H34 -> 0 | K34: =(E34*$J$6)+G34+I34+J34 -> 0 | M34: =K34 -> 0 | P34: =IF(V34="staart","niet leeg",IF(OR(V34="h",V34="l"),IF(W34="sub","niet leeg","leeg"),IF(AND(AND(A34="",M34=0),SUM(B34:M34)=0),"leeg","niet leeg"))) -> leeg | W34: {=IF(V34="h",_xlfn.XLOOKUP(X34,X35:$X$2963,V35:$V$2963,""),IF(V34="l",IF(X33<>"","sub",""),""))} | X34: =IF(V34="h",LEFT(A34,2),IF(SUM(B34:M34)>0,IF(V34="sub",RIGHT(A34,2),""),""))
E35: =B35*D35 -> 0 | G35: =B35*F35 -> 0 | I35: =B35*H35 -> 0 | K35: =(E35*$J$6)+G35+I35+J35 -> 0 | M35: =K35 -> 0 | P35: =IF(V35="staart","niet leeg",IF(OR(V35="h",V35="l"),IF(W35="sub","niet leeg","leeg"),IF(AND(AND(A35="",M35=0),SUM(B35:M35)=0),"leeg","niet leeg"))) -> leeg | W35: {=IF(V35="h",_xlfn.XLOOKUP(X35,X36:$X$2963,V36:$V$2963,""),IF(V35="l",IF(X34<>"","sub",""),""))} | X35: =IF(V35="h",LEFT(A35,2),IF(SUM(B35:M35)>0,IF(V35="sub",RIGHT(A35,2),""),""))
E36: =B36*D36 -> 0 | G36: =B36*F36 -> 0 | I36: =B36*H36 -> 0 | K36: =(E36*$J$6)+G36+I36+J36 -> 0 | M36: =K36 -> 0 | P36: =IF(V36="staart","niet leeg",IF(OR(V36="h",V36="l"),IF(W36="sub","niet leeg","leeg"),IF(AND(AND(A36="",M36=0),SUM(B36:M36)=0),"leeg","niet leeg"))) -> leeg | W36: {=IF(V36="h",_xlfn.XLOOKUP(X36,X37:$X$2963,V37:$V$2963,""),IF(V36="l",IF(X35<>"","sub",""),""))} | X36: =IF(V36="h",LEFT(A36,2),IF(SUM(B36:M36)>0,IF(V36="sub",RIGHT(A36,2),""),""))
E37: =B37*D37 -> 0 | G37: =B37*F37 -> 0 | I37: =B37*H37 -> 0 | K37: =(E37*$J$6)+G37+I37+J37 -> 0 | M37: =K37 -> 0 | P37: =IF(V37="staart","niet leeg",IF(OR(V37="h",V37="l"),IF(W37="sub","niet leeg","leeg"),IF(AND(AND(A37="",M37=0),SUM(B37:M37)=0),"leeg","niet leeg"))) -> leeg | W37: {=IF(V37="h",_xlfn.XLOOKUP(X37,X38:$X$2963,V38:$V$2963,""),IF(V37="l",IF(X36<>"","sub",""),""))} | X37: =IF(V37="h",LEFT(A37,2),IF(SUM(B37:M37)>0,IF(V37="sub",RIGHT(A37,2),""),""))
E38: =B38*D38 -> 0 | G38: =B38*F38 -> 0 | I38: =B38*H38 -> 0 | K38: =(E38*$J$6)+G38+I38+J38 -> 0 | M38: =K38 -> 0 | P38: =IF(V38="staart","niet leeg",IF(OR(V38="h",V38="l"),IF(W38="sub","niet leeg","leeg"),IF(AND(AND(A38="",M38=0),SUM(B38:M38)=0),"leeg","niet leeg"))) -> leeg | W38: {=IF(V38="h",_xlfn.XLOOKUP(X38,X39:$X$2963,V39:$V$2963,""),IF(V38="l",IF(X37<>"","sub",""),""))} | X38: =IF(V38="h",LEFT(A38,2),IF(SUM(B38:M38)>0,IF(V38="sub",RIGHT(A38,2),""),""))
E39: =B39*D39 -> 0 | G39: =B39*F39 -> 0 | I39: =B39*H39 -> 0 | K39: =(E39*$J$6)+G39+I39+J39 -> 0 | M39: =K39 -> 0 | P39: =IF(V39="staart","niet leeg",IF(OR(V39="h",V39="l"),IF(W39="sub","niet leeg","leeg"),IF(AND(AND(A39="",M39=0),SUM(B39:M39)=0),"leeg","niet leeg"))) -> leeg | W39: {=IF(V39="h",_xlfn.XLOOKUP(X39,X40:$X$2963,V40:$V$2963,""),IF(V39="l",IF(X38<>"","sub",""),""))} | X39: =IF(V39="h",LEFT(A39,2),IF(SUM(B39:M39)>0,IF(V39="sub",RIGHT(A39,2),""),""))
E40: =B40*D40 -> 0 | G40: =B40*F40 -> 0 | I40: =B40*H40 -> 0 | K40: =(E40*$J$6)+G40+I40+J40 -> 0 | M40: =K40 -> 0 | P40: =IF(V40="staart","niet leeg",IF(OR(V40="h",V40="l"),IF(W40="sub","niet leeg","leeg"),IF(AND(AND(A40="",M40=0),SUM(B40:M40)=0),"leeg","niet leeg"))) -> leeg | W40: {=IF(V40="h",_xlfn.XLOOKUP(X40,X41:$X$2963,V41:$V$2963,""),IF(V40="l",IF(X39<>"","sub",""),""))} | X40: =IF(V40="h",LEFT(A40,2),IF(SUM(B40:M40)>0,IF(V40="sub",RIGHT(A40,2),""),""))
E41: =B41*D41 -> 0 | G41: =B41*F41 -> 0 | I41: =B41*H41 -> 0 | K41: =(E41*$J$6)+G41+I41+J41 -> 0 | M41: =K41 -> 0 | P41: =IF(V41="staart","niet leeg",IF(OR(V41="h",V41="l"),IF(W41="sub","niet leeg","leeg"),IF(AND(AND(A41="",M41=0),SUM(B41:M41)=0),"leeg","niet leeg"))) -> leeg | W41: {=IF(V41="h",_xlfn.XLOOKUP(X41,X42:$X$2963,V42:$V$2963,""),IF(V41="l",IF(X40<>"","sub",""),""))} | X41: =IF(V41="h",LEFT(A41,2),IF(SUM(B41:M41)>0,IF(V41="sub",RIGHT(A41,2),""),""))
E42: =B42*D42 -> 0 | G42: =B42*F42 -> 0 | I42: =B42*H42 -> 0 | K42: =(E42*$J$6)+G42+I42+J42 -> 0 | M42: =K42 -> 0 | P42: =IF(V42="staart","niet leeg",IF(OR(V42="h",V42="l"),IF(W42="sub","niet leeg","leeg"),IF(AND(AND(A42="",M42=0),SUM(B42:M42)=0),"leeg","niet leeg"))) -> leeg | W42: {=IF(V42="h",_xlfn.XLOOKUP(X42,X43:$X$2963,V43:$V$2963,""),IF(V42="l",IF(X41<>"","sub",""),""))} | X42: =IF(V42="h",LEFT(A42,2),IF(SUM(B42:M42)>0,IF(V42="sub",RIGHT(A42,2),""),""))
E43: =B43*D43 -> 0 | G43: =B43*F43 -> 0 | I43: =B43*H43 -> 0 | K43: =(E43*$J$6)+G43+I43+J43 -> 0 | M43: =K43 -> 0 | P43: =IF(V43="staart","niet leeg",IF(OR(V43="h",V43="l"),IF(W43="sub","niet leeg","leeg"),IF(AND(AND(A43="",M43=0),SUM(B43:M43)=0),"leeg","niet leeg"))) -> leeg | W43: {=IF(V43="h",_xlfn.XLOOKUP(X43,X44:$X$2963,V44:$V$2963,""),IF(V43="l",IF(X42<>"","sub",""),""))} | X43: =IF(V43="h",LEFT(A43,2),IF(SUM(B43:M43)>0,IF(V43="sub",RIGHT(A43,2),""),""))
...

Sheet Honorariumpercentages
A1: =IF('Vaste invoer leidraad'!A3<>"",'Vaste invoer leidraad'!A3,"") -> Honorariumpercentages
A2: =IF('Vaste invoer leidraad'!A4<>"",'Vaste invoer leidraad'!A4,"") | B2: =IF('Vaste invoer leidraad'!B4<>"",'Vaste invoer leidraad'!B4,"") -> Tabel voor de berekening van het honorarium inzake het opstellen van een instandhoudingsplan. | E2: =IF('Vaste invoer leidraad'!E4<>"",'Vaste invoer leidraad'!E4,"") | F2: =IF('Vaste invoer leidraad'!F4<>"",'Vaste invoer leidraad'!F4,"") -> Tabel voor de berekening van het honorarium inzake de planbegeleiding. | I2: =IF('Vaste invoer leidraad'!I4<>"",'Vaste invoer leidraad'!I4,"")
A3: =IF('Vaste invoer leidraad'!A5<>"",'Vaste invoer leidraad'!A5,"") | E3: =IF('Vaste invoer leidraad'!E5<>"",'Vaste invoer leidraad'!E5,"") | I3: =IF('Vaste invoer leidraad'!I5<>"",'Vaste invoer leidraad'!I5,"")
A4: =IF('Vaste invoer leidraad'!A6<>"",'Vaste invoer leidraad'!A6,"") | B4: =IF('Vaste invoer leidraad'!B6<>"",'Vaste invoer leidraad'!B6,"") | C4: =IF('Vaste invoer leidraad'!C6<>"",'Vaste invoer leidraad'!C6,"") | D4: =IF('Vaste invoer leidraad'!D6<>"",'Vaste invoer leidraad'!D6,"") | E4: =IF('Vaste invoer leidraad'!E6<>"",'Vaste invoer leidraad'!E6,"") | F4: =IF('Vaste invoer leidraad'!F6<>"",'Vaste invoer leidraad'!F6,"") | G4: =IF('Vaste invoer leidraad'!G6<>"",'Vaste invoer leidraad'!G6,"") | H4: =IF('Vaste invoer leidraad'!H6<>"",'Vaste invoer leidraad'!H6,"") | I4: =IF('Vaste invoer leidraad'!I6<>"",'Vaste invoer leidraad'!I6,"")
A5: =IF('Vaste invoer leidraad'!A7<>"",'Vaste invoer leidraad'!A7,"") | B5: =IF('Vaste invoer leidraad'!B7<>"",'Vaste invoer leidraad'!B7,"") -> Overzicht van honorariumpercentages gerelateerd aan de totale instandhoudingskosten: | E5: =IF('Vaste invoer leidraad'!E7<>"",'Vaste invoer leidraad'!E7,"") | F5: =IF('Vaste invoer leidraad'!F7<>"",'Vaste invoer leidraad'!F7,"") -> Overzicht van honorariumpercentages gerelateerd aan de totale instandhoudingskosten: | I5: =IF('Vaste invoer leidraad'!I7<>"",'Vaste invoer leidraad'!I7,"")
A6: =IF('Vaste invoer leidraad'!A8<>"",'Vaste invoer leidraad'!A8,"") | E6: =IF('Vaste invoer leidraad'!E8<>"",'Vaste invoer leidraad'!E8,"") | I6: =IF('Vaste invoer leidraad'!I8<>"",'Vaste invoer leidraad'!I8,"")
A7: =IF('Vaste invoer leidraad'!A9<>"",'Vaste invoer leidraad'!A9,"") | B7: =IF('Vaste invoer leidraad'!B9<>"",'Vaste invoer leidraad'!B9,"") -> Instandhoudingskosten | D7: =IF('Vaste invoer leidraad'!D9<>"",'Vaste invoer leidraad'!D9,"") -> Percentage | E7: =IF('Vaste invoer leidraad'!E9<>"",'Vaste invoer leidraad'!E9,"") | F7: =IF('Vaste invoer leidraad'!F9<>"",'Vaste invoer leidraad'!F9,"") -> Instandhoudingskosten | H7: =IF('Vaste invoer leidraad'!H9<>"",'Vaste invoer leidraad'!H9,"") -> Percentage | I7: =IF('Vaste invoer leidraad'!I9<>"",'Vaste invoer leidraad'!I9,"")
A8: =IF('Vaste invoer leidraad'!A10<>"",'Vaste invoer leidraad'!A10,"") | B8: =IF('Vaste invoer leidraad'!B10<>"",'Vaste invoer leidraad'!B10,"") -> van | C8: =IF('Vaste invoer leidraad'!C10<>"",'Vaste invoer leidraad'!C10,"") -> tot | D8: =IF('Vaste invoer leidraad'!D10<>"",'Vaste invoer leidraad'!D10,"") | E8: =IF('Vaste invoer leidraad'!E10<>"",'Vaste invoer leidraad'!E10,"") | F8: =IF('Vaste invoer leidraad'!F10<>"",'Vaste invoer leidraad'!F10,"") -> van | G8: =IF('Vaste invoer leidraad'!G10<>"",'Vaste invoer leidraad'!G10,"") -> tot | H8: =IF('Vaste invoer leidraad'!H10<>"",'Vaste invoer leidraad'!H10,"") | I8: =IF('Vaste invoer leidraad'!I10<>"",'Vaste invoer leidraad'!I10,"")
A9: =IF('Vaste invoer leidraad'!A11<>"",'Vaste invoer leidraad'!A11,"") | B9: =IF('Vaste invoer leidraad'!B11<>"",'Vaste invoer leidraad'!B11,"") -> 0 | C9: =IF('Vaste invoer leidraad'!C11<>"",'Vaste invoer leidraad'!C11,"") -> 50000 | D9: =IF('Vaste invoer leidraad'!D11<>"",'Vaste invoer leidraad'!D11,"") -> 0.0343 | E9: =IF('Vaste invoer leidraad'!E11<>"",'Vaste invoer leidraad'!E11,"") | F9: =IF('Vaste invoer leidraad'!F11<>"",'Vaste invoer leidraad'!F11,"") -> 0 | G9: =IF('Vaste invoer leidraad'!G11<>"",'Vaste invoer leidraad'!G11,"") -> 50000 | H9: =IF('Vaste invoer leidraad'!H11<>"",'Vaste invoer leidraad'!H11,"") -> 0.0786 | I9: =IF('Vaste invoer leidraad'!I11<>"",'Vaste invoer leidraad'!I11,"")
A10: =IF('Vaste invoer leidraad'!A12<>"",'Vaste invoer leidraad'!A12,"") | B10: =IF('Vaste invoer leidraad'!B12<>"",'Vaste invoer leidraad'!B12,"") -> 50000 | C10: =IF('Vaste invoer leidraad'!C12<>"",'Vaste invoer leidraad'!C12,"") -> 100000 | D10: =IF('Vaste invoer leidraad'!D12<>"",'Vaste invoer leidraad'!D12,"") -> 0.0322 | E10: =IF('Vaste invoer leidraad'!E12<>"",'Vaste invoer leidraad'!E12,"") | F10: =IF('Vaste invoer leidraad'!F12<>"",'Vaste invoer leidraad'!F12,"") -> 50000 | G10: =IF('Vaste invoer leidraad'!G12<>"",'Vaste invoer leidraad'!G12,"") -> 100000 | H10: =IF('Vaste invoer leidraad'!H12<>"",'Vaste invoer leidraad'!H12,"") -> 0.0736 | I10: =IF('Vaste invoer leidraad'!I12<>"",'Vaste invoer leidraad'!I12,"")
A11: =IF('Vaste invoer leidraad'!A13<>"",'Vaste invoer leidraad'!A13,"") | B11: =IF('Vaste invoer leidraad'!B13<>"",'Vaste invoer leidraad'!B13,"") -> 100000 | C11: =IF('Vaste invoer leidraad'!C13<>"",'Vaste invoer leidraad'!C13,"") -> 150000 | D11: =IF('Vaste invoer leidraad'!D13<>"",'Vaste invoer leidraad'!D13,"") -> 0.0304 | E11: =IF('Vaste invoer leidraad'!E13<>"",'Vaste invoer leidraad'!E13,"") | F11: =IF('Vaste invoer leidraad'!F13<>"",'Vaste invoer leidraad'!F13,"") -> 100000 | G11: =IF('Vaste invoer leidraad'!G13<>"",'Vaste invoer leidraad'!G13,"") -> 150000 | H11: =IF('Vaste invoer leidraad'!H13<>"",'Vaste invoer leidraad'!H13,"") -> 0.0695 | I11: =IF('Vaste invoer leidraad'!I13<>"",'Vaste invoer leidraad'!I13,"")
A12: =IF('Vaste invoer leidraad'!A14<>"",'Vaste invoer leidraad'!A14,"") | B12: =IF('Vaste invoer leidraad'!B14<>"",'Vaste invoer leidraad'!B14,"") -> 150000 | C12: =IF('Vaste invoer leidraad'!C14<>"",'Vaste invoer leidraad'!C14,"") -> 200000 | D12: =IF('Vaste invoer leidraad'!D14<>"",'Vaste invoer leidraad'!D14,"") -> 0.0289 | E12: =IF('Vaste invoer leidraad'!E14<>"",'Vaste invoer leidraad'!E14,"") | F12: =IF('Vaste invoer leidraad'!F14<>"",'Vaste invoer leidraad'!F14,"") -> 150000 | G12: =IF('Vaste invoer leidraad'!G14<>"",'Vaste invoer leidraad'!G14,"") -> 200000 | H12: =IF('Vaste invoer leidraad'!H14<>"",'Vaste invoer leidraad'!H14,"") -> 0.0661 | I12: =IF('Vaste invoer leidraad'!I14<>"",'Vaste invoer leidraad'!I14,"")
A13: =IF('Vaste invoer leidraad'!A15<>"",'Vaste invoer leidraad'!A15,"") | B13: =IF('Vaste invoer leidraad'!B15<>"",'Vaste invoer leidraad'!B15,"") -> 200000 | C13: =IF('Vaste invoer leidraad'!C15<>"",'Vaste invoer leidraad'!C15,"") -> 250000 | D13: =IF('Vaste invoer leidraad'!D15<>"",'Vaste invoer leidraad'!D15,"") -> 0.0276 | E13: =IF('Vaste invoer leidraad'!E15<>"",'Vaste invoer leidraad'!E15,"") | F13: =IF('Vaste invoer leidraad'!F15<>"",'Vaste invoer leidraad'!F15,"") -> 200000 | G13: =IF('Vaste invoer leidraad'!G15<>"",'Vaste invoer leidraad'!G15,"") -> 250000 | H13: =IF('Vaste invoer leidraad'!H15<>"",'Vaste invoer leidraad'!H15,"") -> 0.0632 | I13: =IF('Vaste invoer leidraad'!I15<>"",'Vaste invoer leidraad'!I15,"")
A14: =IF('Vaste invoer leidraad'!A16<>"",'Vaste invoer leidraad'!A16,"") | B14: =IF('Vaste invoer leidraad'!B16<>"",'Vaste invoer leidraad'!B16,"") -> 250000 | C14: =IF('Vaste invoer leidraad'!C16<>"",'Vaste invoer leidraad'!C16,"") -> 300000 | D14: =IF('Vaste invoer leidraad'!D16<>"",'Vaste invoer leidraad'!D16,"") -> 0.0266 | E14: =IF('Vaste invoer leidraad'!E16<>"",'Vaste invoer leidraad'!E16,"") | F14: =IF('Vaste invoer leidraad'!F16<>"",'Vaste invoer leidraad'!F16,"") -> 250000 | G14: =IF('Vaste invoer leidraad'!G16<>"",'Vaste invoer leidraad'!G16,"") -> 300000 | H14: =IF('Vaste invoer leidraad'!H16<>"",'Vaste invoer leidraad'!H16,"") -> 0.0608 | I14: =IF('Vaste invoer leidraad'!I16<>"",'Vaste invoer leidraad'!I16,"")
A15: =IF('Vaste invoer leidraad'!A17<>"",'Vaste invoer leidraad'!A17,"") | B15: =IF('Vaste invoer leidraad'!B17<>"",'Vaste invoer leidraad'!B17,"") -> 300000 | C15: =IF('Vaste invoer leidraad'!C17<>"",'Vaste invoer leidraad'!C17,"") -> 350000 | D15: =IF('Vaste invoer leidraad'!D17<>"",'Vaste invoer leidraad'!D17,"") -> 0.0256 | E15: =IF('Vaste invoer leidraad'!E17<>"",'Vaste invoer leidraad'!E17,"") | F15: =IF('Vaste invoer leidraad'!F17<>"",'Vaste invoer leidraad'!F17,"") -> 300000 | G15: =IF('Vaste invoer leidraad'!G17<>"",'Vaste invoer leidraad'!G17,"") -> 350000 | H15: =IF('Vaste invoer leidraad'!H17<>"",'Vaste invoer leidraad'!H17,"") -> 0.0586 | I15: =IF('Vaste invoer leidraad'!I17<>"",'Vaste invoer leidraad'!I17,"")
A16: =IF('Vaste invoer leidraad'!A18<>"",'Vaste invoer leidraad'!A18,"") | B16: =IF('Vaste invoer leidraad'!B18<>"",'Vaste invoer leidraad'!B18,"") -> 350000 | C16: =IF('Vaste invoer leidraad'!C18<>"",'Vaste invoer leidraad'!C18,"") -> 400000 | D16: =IF('Vaste invoer leidraad'!D18<>"",'Vaste invoer leidraad'!D18,"") -> 0.0248 | E16: =IF('Vaste invoer leidraad'!E18<>"",'Vaste invoer leidraad'!E18,"") | F16: =IF('Vaste invoer leidraad'!F18<>"",'Vaste invoer leidraad'!F18,"") -> 350000 | G16: =IF('Vaste invoer leidraad'!G18<>"",'Vaste invoer leidraad'!G18,"") -> 400000 | H16: =IF('Vaste invoer leidraad'!H18<>"",'Vaste invoer leidraad'!H18,"") -> 0.0568 | I16: =IF('Vaste invoer leidraad'!I18<>"",'Vaste invoer leidraad'!I18,"")
A17: =IF('Vaste invoer leidraad'!A19<>"",'Vaste invoer leidraad'!A19,"") | B17: =IF('Vaste invoer leidraad'!B19<>"",'Vaste invoer leidraad'!B19,"") -> 400000 | C17: =IF('Vaste invoer leidraad'!C19<>"",'Vaste invoer leidraad'!C19,"") -> 450000 | D17: =IF('Vaste invoer leidraad'!D19<>"",'Vaste invoer leidraad'!D19,"") -> 0.0241 | E17: =IF('Vaste invoer leidraad'!E19<>"",'Vaste invoer leidraad'!E19,"") | F17: =IF('Vaste invoer leidraad'!F19<>"",'Vaste invoer leidraad'!F19,"") -> 400000 | G17: =IF('Vaste invoer leidraad'!G19<>"",'Vaste invoer leidraad'!G19,"") -> 450000 | H17: =IF('Vaste invoer leidraad'!H19<>"",'Vaste invoer leidraad'!H19,"") -> 0.0552 | I17: =IF('Vaste invoer leidraad'!I19<>"",'Vaste invoer leidraad'!I19,"")
A18: =IF('Vaste invoer leidraad'!A20<>"",'Vaste invoer leidraad'!A20,"") | B18: =IF('Vaste invoer leidraad'!B20<>"",'Vaste invoer leidraad'!B20,"") -> 450000 | C18: =IF('Vaste invoer leidraad'!C20<>"",'Vaste invoer leidraad'!C20,"") -> 500000 | D18: =IF('Vaste invoer leidraad'!D20<>"",'Vaste invoer leidraad'!D20,"") -> 0.0235 | E18: =IF('Vaste invoer leidraad'!E20<>"",'Vaste invoer leidraad'!E20,"") | F18: =IF('Vaste invoer leidraad'!F20<>"",'Vaste invoer leidraad'!F20,"") -> 450000 | G18: =IF('Vaste invoer leidraad'!G20<>"",'Vaste invoer leidraad'!G20,"") -> 500000 | H18: =IF('Vaste invoer leidraad'!H20<>"",'Vaste invoer leidraad'!H20,"") -> 0.0537 | I18: =IF('Vaste invoer leidraad'!I20<>"",'Vaste invoer leidraad'!I20,"")
A19: =IF('Vaste invoer leidraad'!A21<>"",'Vaste invoer leidraad'!A21,"") | B19: =IF('Vaste invoer leidraad'!B21<>"",'Vaste invoer leidraad'!B21,"") -> 500000 | C19: =IF('Vaste invoer leidraad'!C21<>"",'Vaste invoer leidraad'!C21,"") -> 550000 | D19: =IF('Vaste invoer leidraad'!D21<>"",'Vaste invoer leidraad'!D21,"") -> 0.0229 | E19: =IF('Vaste invoer leidraad'!E21<>"",'Vaste invoer leidraad'!E21,"") | F19: =IF('Vaste invoer leidraad'!F21<>"",'Vaste invoer leidraad'!F21,"") -> 500000 | G19: =IF('Vaste invoer leidraad'!G21<>"",'Vaste invoer leidraad'!G21,"") -> 550000 | H19: =IF('Vaste invoer leidraad'!H21<>"",'Vaste invoer leidraad'!H21,"") -> 0.0524 | I19: =IF('Vaste invoer leidraad'!I21<>"",'Vaste invoer leidraad'!I21,"")
... A50: =IF('Vaste invoer leidraad'!A52<>"",'Vaste invoer leidraad'!A52,"") | B50: =IF('Vaste invoer leidraad'!B52<>"",'Vaste invoer leidraad'!B52,"") | C50: =IF('Vaste invoer leidraad'!C52<>"",'Vaste invoer leidraad'!C52,"") | D50: =IF('Vaste invoer leidraad'!D52<>"",'Vaste invoer leidraad'!D52,"") | E50: =IF('Vaste invoer leidraad'!E52<>"",'Vaste invoer leidraad'!E52,"") | F50: =IF('Vaste invoer leidraad'!F52<>"",'Vaste invoer leidraad'!F52,"") | G50: =IF('Vaste invoer leidraad'!G52<>"",'Vaste invoer leidraad'!G52,"") | H50: =IF('Vaste invoer leidraad'!H52<>"",'Vaste invoer leidraad'!H52,"") | I50: =IF('Vaste invoer leidraad'!I52<>"",'Vaste invoer leidraad'!I52,"")
A51: =IF('Vaste invoer leidraad'!A53<>"",'Vaste invoer leidraad'!A53,"") | B51: =IF('Vaste invoer leidraad'!B53<>"",'Vaste invoer leidraad'!B53,"") -> bron: | C51: =HYPERLINK(IF('Vaste invoer leidraad'!C53<>"",'Vaste invoer leidraad'!C53,"")) -> https://wetten.overheid.nl/BWBR0032075/#Bijlage | I51: =IF('Vaste invoer leidraad'!I53<>"",'Vaste invoer leidraad'!I53,"")
A52: =IF('Vaste invoer leidraad'!A54<>"",'Vaste invoer leidraad'!A54,"") | B52: =IF('Vaste invoer leidraad'!B54<>"",'Vaste invoer leidraad'!B54,"") | C52: =IF('Vaste invoer leidraad'!C54<>"",'Vaste invoer leidraad'!C54,"") | D52: =IF('Vaste invoer leidraad'!D54<>"",'Vaste invoer leidraad'!D54,"") | E52: =IF('Vaste invoer leidraad'!E54<>"",'Vaste invoer leidraad'!E54,"") | F52: =IF('Vaste invoer leidraad'!F54<>"",'Vaste invoer leidraad'!F54,"") | G52: =IF('Vaste invoer leidraad'!G54<>"",'Vaste invoer leidraad'!G54,"") | H52: =IF('Vaste invoer leidraad'!H54<>"",'Vaste invoer leidraad'!H54,"") | I52: =IF('Vaste invoer leidraad'!I54<>"",'Vaste invoer leidraad'!I54,"")

Sheet Standaard invulgegevens
A1: STANDAARD INVULGEGEVENS
A2: jaarlijks te controleren
A4: eerste planjaar: | B4: 2027
A9: vaste eenheden
A10: strekkende meter | B10: m1
A11: vierkante meter | B11: m2
A12: kubieke meter | B12: m3
A13: post | B13: post
A14: stuks | B14: st
A15: stelpost | B15: stpst
A16: dag | B16: dag
A17: week | B17: wk
A18: vracht | B18: vr
A19: offerte | B19: off
A20: are | B20: are
A21: hectare | B21: ha

Sheet Vaste invoer leidraad
A1: VASTE INVOER VANUIT LEIDRAAD
A3: Honorariumpercentages | K3: Standaard staartkosten (maximale bedragen/percentages)
B4: Tabel voor de berekening van het honorarium inzake het opstellen van een instandhoudingsplan. | F4: Tabel voor de berekening van het honorarium inzake de planbegeleiding. | L4: Indirecte kosten
L5: Algemene bouwplaatskosten | M5: 0.09
L6: Algemene kosten | M6: 0.07
B7: Overzicht van honorariumpercentages gerelateerd aan de totale instandhoudingskosten: | F7: Overzicht van honorariumpercentages gerelateerd aan de totale instandhoudingskosten: | L7: Winst en risico | M7: 0.03
L8: Bovenstaand tot een maximum van | M8: 0.2
B9: Instandhoudingskosten | D9: Percentage | F9: Instandhoudingskosten | H9: Percentage
B10: van | C10: tot | F10: van | G10: tot | L10: Werken buiten de aanneemsom
B11: 0 | C11: 50000 | D11: 0.0343 | F11: 0 | G11: 50000 | H11: 0.0786 | L11: Coördinatievergoeding en ABK | M11: 0.03
B12: 50000 | C12: 100000 | D12: 0.0322 | F12: 50000 | G12: 100000 | H12: 0.0736
B13: 100000 | C13: 150000 | D13: 0.0304 | F13: 100000 | G13: 150000 | H13: 0.0695 | L13: Onvoorzien | M13: 0.05
B14: 150000 | C14: 200000 | D14: 0.0289 | F14: 150000 | G14: 200000 | H14: 0.0661
B15: 200000 | C15: 250000 | D15: 0.0276 | F15: 200000 | G15: 250000 | H15: 0.0632 | L15: Directiekosten
B16: 250000 | C16: 300000 | D16: 0.0266 | F16: 250000 | G16: 300000 | H16: 0.0608 | L16: Opstellen instandhoudingsplan | M16: zie tabel links
B17: 300000 | C17: 350000 | D17: 0.0256 | F17: 300000 | G17: 350000 | H17: 0.0586 | L17: Jaarlijkse begeleiding | M17: zie tabel links
B18: 350000 | C18: 400000 | D18: 0.0248 | F18: 350000 | G18: 400000 | H18: 0.0568
B19: 400000 | C19: 450000 | D19: 0.0241 | F19: 400000 | G19: 450000 | H19: 0.0552 | L19: Diverse adviseurs:
B20: 450000 | C20: 500000 | D20: 0.0235 | F20: 450000 | G20: 500000 | H20: 0.0537 | L20: Kosten accountant | M20: 5000
B21: 500000 | C21: 550000 | D21: 0.0229 | F21: 500000 | G21: 550000 | H21: 0.0524 | L21: Kosten taxateur | M21: 2500
B22: 550000 | C22: 600000 | D22: 0.0224 | F22: 550000 | G22: 600000 | H22: 0.0512
B23: 600000 | C23: 650000 | D23: 0.0219 | F23: 600000 | G23: 650000 | H23: 0.0502 | L23: Leges | M23: 0.015
B24: 650000 | C24: 700000 | D24: 0.0215 | F24: 650000 | G24: 700000 | H24: 0.0492 | L24: CAR-verzekering | M24: 0.004
B25: 700000 | C25: 750000 | D25: 0.0211 | F25: 700000 | G25: 750000 | H25: 0.0483
B26: 750000 | C26: 800000 | D26: 0.0208 | F26: 750000 | G26: 800000 | H26: 0.0475 | L26: Indexeringspercentage | M26: 0.03
B27: 800000 | C27: 850000 | D27: 0.0205 | F27: 800000 | G27: 850000 | H27: 0.0468
B28: 850000 | C28: 900000 | D28: 0.0202 | F28: 850000 | G28: 900000 | H28: 0.0461 | L28: Btw | M28: 0.21
B29: 900000 | C29: 950000 | D29: 0.0199 | F29: 900000 | G29: 950000 | H29: 0.0455
B30: 950000 | C30: 1000000 | D30: 0.0196 | F30: 950000 | G30: 1000000 | H30: 0.0449
B31: 1000000 | C31: 1050000 | D31: 0.0194 | F31: 1000000 | G31: 1050000 | H31: 0.0443
B32: 1050000 | C32: 1100000 | D32: 0.0192 | F32: 1050000 | G32: 1100000 | H32: 0.0438
B33: 1100000 | C33: 1150000 | D33: 0.0189 | F33: 1100000 | G33: 1150000 | H33: 0.0433
B34: 1150000 | C34: 1200000 | D34: 0.0188 | F34: 1150000 | G34: 1200000 | H34: 0.0429
B35: 1200000 | C35: 1250000 | D35: 0.0186 | F35: 1200000 | G35: 1250000 | H35: 0.0425
B36: 1250000 | C36: 1300000 | D36: 0.0184 | F36: 1250000 | G36: 1300000 | H36: 0.0421
B37: 1300000 | C37: 1350000 | D37: 0.0182 | F37: 1300000 | G37: 1350000 | H37: 0.0417
B38: 1350000 | C38: 1400000 | D38: 0.0181 | F38: 1350000 | G38: 1400000 | H38: 0.0414
B39: 1400000 | C39: 1450000 | D39: 0.0179 | F39: 1400000 | G39: 1450000 | H39: 0.041
B40: 1450000 | C40: 1500000 | D40: 0.0178 | F40: 1450000 | G40: 1500000 | H40: 0.0407
... B51: 2000000 | C51: 100000000 | D51: 0.0166 | F51: 2000000 | G51: 100000000 | H51: 0.0381
...
