Workbook

Sheet Handleiding tbv invullen
B2: Handleiding voor het invullen van het Standaard begrotingsmodel groene rijksmonumenten provincie Zeeland
B4: Algemeen
C5: Alleen aanvragen waarbij gebruik wordt gemaakt van dit begrotingsmodel kunnen in behandeling worden genomen. Lees deze handleiding goed door voordat u het begrotingsmodel invult.
C7: Dit begrotingsmodel ten behoeve van het aanvragen van restauratiesubsidie voor een groen monument of groene monumenten is vastgesteld op grond van artikel 5.1.1, lid e, onder 3, van de Subsidieregeling groene rijksmonumenten provincie Zeeland.
C9: Dit begrotingsmodel voor groene monumenten is bedoeld voor rijksmonumenten, of zelfstandige onderdelen daarvan, zijnde een aanleg die geheel of gedeeltelijk bestaat uit beplanting, zoals een park- of tuinaanleg.
C10: Ook als u restauratiesubsidie aanvraagt voor een samenstel van rijksmonumenten, bijvoorbeeld een kasteel met de bijbehorende historische tuin- en parkaanleg, dan moet voor de groene rijksmonumenten of zelfstandige onderdelen daarvan binnen de aanvraag dit begrotingsmodel worden gebruikt. Voor de gebouwde rijksmonumenten of zelfstandige onderdelen daarvan binnen uw aanvraag gebruikt u het begrotingsmodel voor gebouwde rijksmonumenten.
C12: Werkzaamheden aan aardwerken kunnen alleen worden opgenomen in dit begrotingsmodel indien er sprake is van een beschermde groenaanleg. Voor aardwerken zonder beschermde groenaanleg kunt u gebruik maken van het begrotingsmodel voor gebouwde rijksmonumenten.
C14: Vraagt u restauratiesubsidie aan voor een samenstel van groene monumenten, of betreft uw aanvraag een grote aanleg die u ten behoeve van het beheer heeft verdeeld in meerdere vakken, dan kunt u de verschillende invulbladen in dit model gebruiken voor de verschillende groene monumenten of vakken. Geeft u daarbij steeds duidelijk aan welk rijksmonument of vak elk tabblad betreft, met een verwijzing naar de door u meegestuurde overzichtskaart. Mocht u behoefte hebben aan meer invulbladen, neem dan contact op met de Infodesk van de Rijksdienst voor het Cultureel Erfgoed via ergoed@zeeland.nl
B16: Subsidiabele kosten voor groene monumenten
C18: Om in aanmerking te komen voor subsidie, moeten werkzaamheden sober en doelmatig zijn, technisch noodzakelijk en gericht op maximaal behoud van aanwezige monumentale waarden. Werkzaamheden aan niet-monumentale elementen van de groenaanleg zijn in de regel niet subsidiabel op grond van deze regeling. Ook kosten van werkzaamheden die reeds zijn aangevangen of voltooid vóór de subsidieverlening zijn niet subsidiabel.
C20: De subsidiabele werkzaamheden voor groene monumenten zijn beschreven in de Leidraad subsidiabele instandhoudingskosten (hierna: de Leidraad), hoofdstuk 1.3, onder paragraaf 92. De Leidraad is een bijlage bij de Sim. Behalve paragraaf 92 is van hoofdstuk 1.3 alleen de algemene paragraaf 01 van toepassing op groene monumenten.
C22: De Leidraad is te vinden via de volgende link:
C23: https://wetten.overheid.nl/BWBR0032075/#Bijlage
C24: De volgorde van de elementen in het begrotingsmodel correspondeert met de volgorde in de Leidraad.
C26: Indien u kosten opvoert voor restauratiewerkzaamheden uitgevoerd door eigen personeel dan dient u bij de eindverantwoording aan de hand van een urenadministratie of accountantsverklaring aan te kunnen tonen dat de kosten specifiek voor de uitvoering van dit plan gemaakt zijn. Dit is met inbegrip van de arbeidsuren voor de coördinatie (aansturing) van vrijwilligers die subsidiabele werkzaamheden uitvoeren.
C28: Alleen de toepassing van organische meststoffen, het voorkomen of bestrijden van ernstige plagen op milieuvriendelijke wijze en op duurzame wijze geproduceerd hout komen in aanmerking voor subsidie. Het gebruik van kunstmest, het spuiten met gif en het gebruik van tropisch hardhout zonder FSC-keurmerk zijn niet subsidiabel. Voor onkruidbestrijding geldt dat dit alleen subsidiabel is als dit op milieuvriendelijke wijze gebeurt.
B30: Met restauratie samenhangend onderhoud
C32: Naast restauratiewerkzaamheden kunt u ook de daarmee samenhangende reguliere onderhoudswerkzaamheden opvoeren. Dat onderhoud kan direct samenhangen met de restauratie, maar kan ook in dezelfde werkstroom worden meegenomen omdat het efficiënter is, bijvoorbeeld omdat voor de restauratiewerkzaamheden bepaald materieel nodig is dat ook ingezet kan worden voor specifieke onderhoudswerkzaamheden. Werkzaamheden waarvoor reeds Sim-subsidie is verleend mogen uiteraard niet nogmaals opgevoerd worden.
B34: Beperkingen t.a.v. maximale subsidiabele kosten
C36: Voor de aanvraagronde van 2026 geldt een maximum subsidiabel uurloon van € 56,30 exclusief algemene kosten, winst en risico en btw. Tijdens de beoordeling zal gecontroleerd worden of het uurtarief voldoet aan dit maximale subsidiabele uurtarief. Dit tarief geldt voor de gehele activiteitenperiode. Voor volgende aanvraagrondes kan dit uurloon aangepast worden. Het maximaal subsidiabele uurloon per ronde staat op de website www.cultureelerfgoed.nl.
C38: Voor sommige posten in de ‘staart’ (onderaan het invulblad) gelden beperkingen ten aanzien van het maximaal te subsidiëren percentage. Deze maximale percentages vindt u in de Leidraad subsidiabele instandhoudingskosten. Wat betreft de maximum percentages uit hoofdstuk 2 van de Leidraad geldt voor grote restauraties standaard het laagste percentage uit tabel 3, namelijk 10% voor plankosten (incl. aanvullende stukken) en begeleidingskosten samen.
B40: Algemene aanwijzingen voor het gebruik van dit Excel-document
C42: U kunt invulregels die u niet nodig heeft verbergen: u selecteert de regels en klikt vervolgens met de rechtermuisknop en kiest voor "verbergen". Ook zijn er per element verborgen regels voor het geval u méér ruimte nodig heeft dan het standaard aantal regels. Om deze verborgen regels, herkenbaar aan de niet doorlopende regelnummering in de linker kantlijn, weer zichtbaar en daarmee bruikbaar te maken, selecteert u de regel voor en na de verborgen regels. U klikt vervolgens met de rechtermuisknop en kiest voor "zichtbaar maken". Is het aantal regels nog steeds niet toereikend? Neemt u dan contact op met de Provincie Zeeland via erfgoed@zeeland.nl.
C44: Staat er een rood driehoekje rechtsboven in een cel? Dan is er een verborgen toelichting opgenomen. Door met de cursor op het driehoekje te gaan staan, kunt u die toelichting lezen.
C46: Enkele cellen geven een waarschuwing bij het overschrijden van een bepaald bedrag of percentage. De cel zal, bij het negeren van de waarschuwing, oranje kleuren en geeft daarmee aan dat de ingevoerde waarde afwijkt van de maximale waarde die in de Leidraad wordt genoemd.
B48: Invullen van de begroting
C50: Basisgegevens
C52: U vult de basisgegevens van het rijksmonument en deze begroting in de grijze blokken in, boven in het invulblad.
C54: Heeft het model betrekking op meerdere zelfstandige onderdelen of vakken van een groen monument? Vul dan bovenaan elk invulblad duidelijk in om welk onderdeel of vak het gaat, met verwijzing naar de door u meegestuurde overzichtskaart.
C56: Directe kosten (paragraaf 92 van de Leidraad)
C58: U vult per werkzaamheid de daarbij behorende hoeveelheden en kosten van arbeid, materiaal, materieel en eventuele stelposten in. Let op: de bedragen voor arbeid in de begroting worden automatisch aangepast aan het door u gekozen standaard uurtarief. De bij het aantal te gebruiken eenheid staat in kolom Eenheid: m1 (m1 strekkende meter), m2 (m2 vierkante meter), m3 (m3 kubieke meter), post, st (stuks), stpst (stelpost), dag, wk (week), vr (vracht), off (offerte), are, ha (hectare).
C60: Let op: als u onderhoudswerkzaamheden opvoert, dan zijn de maximumfrequenties voor onderhoud uit de Leidraad daarop van toepassing. Beslaat uw activiteitenperiode meerdere jaren, dan moet u deze werkzaamheden uitsplitsen per jaar. Gebruik daarvoor de vrije regels onder de vooraf ingevulde restauratiewerkzaamheden. Voor elke keer dat de werkzaamheden worden uitgevoerd, vult u een aparte regel in.
C62: Groot materieel
C64: Aan het eind van de begroting zijn posten opgenomen voor groot materieel. Deze kunnen alleen worden opgevoerd als het gebruik ervan dient ten behoeve van volgens paragraaf 92 van de Leidraad subsidiabele werkzaamheden en als de kosten niet al zijn verwerkt in de daarboven ingevulde werkzaamheden. Bij de post 'Groot materieel' geeft u in de linker kolom aan bij welke werkzaamheid elders in de begroting de hier opgevoerde materieelkosten horen.
C66: Indirecte kosten/staartkosten
C68: In de staart onderaan de begroting voert u o.a. de van toepassing zijnde percentages in voor onvoorzien, directiekosten, leges en btw in. Er is geen aparte regel voor het toepassen van indexering. Bij het invullen van de directe kosten dient u een realistische inschatting te maken van de kosten.
C70: Voor directiekosten gelden maximaal te subsidiëren percentages zoals opgenomen in de Leidraad subsidiabele instandhoudingskosten. Wat betreft de maximum percentages uit hoofdstuk 2 van de Leidraad geldt voor grote restauraties standaard het laagste percentage uit tabel 3, namelijk 10% voor plankosten (incl. aanvullende stukken) en begeleidingskosten samen.
C72: De kosten van een accountantsonderzoek en -verklaring zijn subsidiabel bij subsidiebedragen van €300.000,- of meer, tot een maximum van €5.000,- (inclusief btw).
... C77: Let op: kunt u de volledige 21% btw terugvorderen, dan vult u hier 100% in.
B79: Vragen
...

Sheet Invulblad
A1: BASISGEGEVENS | B1: Provincie Zeeland standaardbegrotingsmodel groen monument (versie september 2026)
A3: Rijksmonumentnummer
A4: Monumentnaam (indien van toepassing)
A5: Zelfstandig onderdeel of vak (indien van toepassing)
A6: Monumentadres
A7: Postcode en plaats | M7: Berekening subsidiabele kosten
M8: In te vullen door medewerker Provincie
A9: Peildatum begrotingsgegevens | L9: Naam adviseur
A10: Standaard uurtarief | L10: Datum
A11: Opsteller plan | L11: Zaaknummer
A13: Omschrijving | B13: Aantal | C13: Een-heid | D13: Arbeid in uren | E13: Arbeid in uren totaal | F13: Materiaal | G13: Materiaal totaal | H13: Materieel | I13: Materieel totaal | J13: Stelposten | K13: Totaal | L13: Totaal t.b.v. staartkosten | M13: Specifieke opmerking of de reden waarom de kosten niet subsidiabel zijn of zijn aangepast (in te vullen door de Provincie Zeeland) | R13: Maximaal volgens leidraad | S13: Check
A16: 01 Voor het werk geldende voorwaarden
E17: =B17*D17 -> 0 | G17: =B17*F17 -> 0 | I17: =B17*H17 -> 0 | K17: =(E17*$J$6)+J17+I17+G17 -> 0 | L17: =K17 -> 0
E18: =B18*D18 -> 0 | G18: =B18*F18 -> 0 | I18: =B18*H18 -> 0 | K18: =(E18*$J$6)+J18+I18+G18 -> 0 | L18: =K18 -> 0
E19: =B19*D19 -> 0 | G19: =B19*F19 -> 0 | I19: =B19*H19 -> 0 | K19: =(E19*$J$6)+J19+I19+G19 -> 0 | L19: =K19 -> 0
E20: =B20*D20 -> 0 | G20: =B20*F20 -> 0 | I20: =B20*H20 -> 0 | K20: =(E20*$J$6)+J20+I20+G20 -> 0 | L20: =K20 -> 0
E21: =B21*D21 -> 0 | G21: =B21*F21 -> 0 | I21: =B21*H21 -> 0 | K21: =(E21*$J$6)+J21+I21+G21 -> 0 | L21: =K21 -> 0
E22: =B22*D22 -> 0 | G22: =B22*F22 -> 0 | I22: =B22*H22 -> 0 | K22: =(E22*$J$6)+J22+I22+G22 -> 0 | L22: =K22 -> 0
E23: =B23*D23 -> 0 | G23: =B23*F23 -> 0 | I23: =B23*H23 -> 0 | K23: =(E23*$J$6)+J23+I23+G23 -> 0 | L23: =K23 -> 0
E24: =B24*D24 -> 0 | G24: =B24*F24 -> 0 | I24: =B24*H24 -> 0 | K24: =(E24*$J$6)+J24+I24+G24 -> 0 | L24: =K24 -> 0
E25: =B25*D25 -> 0 | G25: =B25*F25 -> 0 | I25: =B25*H25 -> 0 | K25: =(E25*$J$6)+J25+I25+G25 -> 0 | L25: =K25 -> 0
E26: =B26*D26 -> 0 | G26: =B26*F26 -> 0 | I26: =B26*H26 -> 0 | K26: =(E26*$J$6)+J26+I26+G26 -> 0 | L26: =K26 -> 0
E27: =B27*D27 -> 0 | G27: =B27*F27 -> 0 | I27: =B27*H27 -> 0 | K27: =(E27*$J$6)+J27+I27+G27 -> 0 | L27: =K27 -> 0
E28: =B28*D28 -> 0 | G28: =B28*F28 -> 0 | I28: =B28*H28 -> 0 | K28: =(E28*$J$6)+J28+I28+G28 -> 0 | L28: =K28 -> 0
... E36: =B36*D36 -> 0 | G36: =B36*F36 -> 0 | I36: =B36*H36 -> 0 | K36: =(E36*$J$6)+J36+I36+G36 -> 0 | L36: =K36 -> 0
A38: Subtotaal 01 | E38: =SUM(E17:E36) -> 0 | G38: =SUM(G17:G36) -> 0 | I38: =SUM(I17:I36) -> 0 | K38: =SUM(K17:K36) -> 0 | L38: =SUM(L17:L36) -> 0
A40: 92 Groene monumenten (parken, tuinen, e.d.)
A42: Boomgaarden/ leifruit collecties
A43: vervanging van een deel van de fruitbomen collectie door nieuwe aanplant, waarbij gelet wordt op de historische locatie, de tuinfase, de historische fruitrassen, het plantverband en de plantafstand. | E43: =B43*D43 -> 0 | G43: =B43*F43 -> 0 | I43: =B43*H43 -> 0 | K43: =(E43*$J$6)+J43+I43+G43 -> 0 | L43: =K43 -> 0
A44: vervanging van de volledige fruitbomencollectie (boomgaard of leifruit) door nieuwe aanplant en water geven gedurende maximaal drie jaar, mits geadviseerd door de minister. | E44: =B44*D44 -> 0 | G44: =B44*F44 -> 0 | I44: =B44*H44 -> 0 | K44: =(E44*$J$6)+J44+I44+G44 -> 0 | L44: =K44 -> 0
A45: Vrij invulveld | E45: =B45*D45 -> 0 | G45: =B45*F45 -> 0 | I45: =B45*H45 -> 0 | K45: =(E45*$J$6)+J45+I45+G45 -> 0 | L45: =K45 -> 0
A46: Vrij invulveld | E46: =B46*D46 -> 0 | G46: =B46*F46 -> 0 | I46: =B46*H46 -> 0 | K46: =(E46*$J$6)+J46+I46+G46 -> 0 | L46: =K46 -> 0
A47: Vrij invulveld | E47: =B47*D47 -> 0 | G47: =B47*F47 -> 0 | I47: =B47*H47 -> 0 | K47: =(E47*$J$6)+J47+I47+G47 -> 0 | L47: =K47 -> 0
A48: Vrij invulveld | E48: =B48*D48 -> 0 | G48: =B48*F48 -> 0 | I48: =B48*H48 -> 0 | K48: =(E48*$J$6)+J48+I48+G48 -> 0 | L48: =K48 -> 0
A49: Vrij invulveld | E49: =B49*D49 -> 0 | G49: =B49*F49 -> 0 | I49: =B49*H49 -> 0 | K49: =(E49*$J$6)+J49+I49+G49 -> 0 | L49: =K49 -> 0
A50: Vrij invulveld | E50: =B50*D50 -> 0 | G50: =B50*F50 -> 0 | I50: =B50*H50 -> 0 | K50: =(E50*$J$6)+J50+I50+G50 -> 0 | L50: =K50 -> 0
A51: Vrij invulveld | E51: =B51*D51 -> 0 | G51: =B51*F51 -> 0 | I51: =B51*H51 -> 0 | K51: =(E51*$J$6)+J51+I51+G51 -> 0 | L51: =K51 -> 0
A52: Vrij invulveld | E52: =B52*D52 -> 0 | G52: =B52*F52 -> 0 | I52: =B52*H52 -> 0 | K52: =(E52*$J$6)+J52+I52+G52 -> 0 | L52: =K52 -> 0
A53: Vrij invulveld | E53: =B53*D53 -> 0 | G53: =B53*F53 -> 0 | I53: =B53*H53 -> 0 | K53: =(E53*$J$6)+J53+I53+G53 -> 0 | L53: =K53 -> 0
A54: Vrij invulveld | E54: =B54*D54 -> 0 | G54: =B54*F54 -> 0 | I54: =B54*H54 -> 0 | K54: =(E54*$J$6)+J54+I54+G54 -> 0 | L54: =K54 -> 0
...

Sheet Honorariumpercentages
A1: =IF('Vaste invoer leidraad'!A3<>"",'Vaste invoer leidraad'!A3,"") -> Honorariumpercentages
A2: =IF('Vaste invoer leidraad'!A4<>"",'Vaste invoer leidraad'!A4,"") | B2: =IF('Vaste invoer leidraad'!B4<>"",'Vaste invoer leidraad'!B4,"") -> Tabel voor de berekening van het honorarium inzake het opstellen van een instandhoudingsplan. | E2: =IF('Vaste invoer leidraad'!E4<>"",'Vaste invoer leidraad'!E4,"") | F2: =IF('Vaste invoer leidraad'!F4<>"",'Vaste invoer leidraad'!F4,"") -> Tabel voor de berekening van het honorarium inzake de planbegeleiding. | I2: =IF('Vaste invoer leidraad'!I4<>"",'Vaste invoer leidraad'!I4,"")
A3: =IF('Vaste invoer leidraad'!A5<>"",'Vaste invoer leidraad'!A5,"") | E3: =IF('Vaste invoer leidraad'!E5<>"",'Vaste invoer leidraad'!E5,"") | I3: =IF('Vaste invoer leidraad'!I5<>"",'Vaste invoer leidraad'!I5,"")
A4: =IF('Vaste invoer leidraad'!A6<>"",'Vaste invoer leidraad'!A6,"") | B4: =IF('Vaste invoer leidraad'!B6<>"",'Vaste invoer leidraad'!B6,"") | C4: =IF('Vaste invoer leidraad'!C6<>"",'Vaste invoer leidraad'!C6,"") | D4: =IF('Vaste invoer leidraad'!D6<>"",'Vaste invoer leidraad'!D6,"") | E4: =IF('Vaste invoer leidraad'!E6<>"",'Vaste invoer leidraad'!E6,"") | F4: =IF('Vaste invoer leidraad'!F6<>"",'Vaste invoer leidraad'!F6,"") | G4: =IF('Vaste invoer leidraad'!G6<>"",'Vaste invoer leidraad'!G6,"") | H4: =IF('Vaste invoer leidraad'!H6<>"",'Vaste invoer leidraad'!H6,"") | I4: =IF('Vaste invoer leidraad'!I6<>"",'Vaste invoer leidraad'!I6,"")
A5: =IF('Vaste invoer leidraad'!A7<>"",'Vaste invoer leidraad'!A7,"") | B5: =IF('Vaste invoer leidraad'!B7<>"",'Vaste invoer leidraad'!B7,"") -> Overzicht van honorariumpercentages gerelateerd aan de totale instandhoudingskosten: | E5: =IF('Vaste invoer leidraad'!E7<>"",'Vaste invoer leidraad'!E7,"") | F5: =IF('Vaste invoer leidraad'!F7<>"",'Vaste invoer leidraad'!F7,"") -> Overzicht van honorariumpercentages gerelateerd aan de totale instandhoudingskosten: | I5: =IF('Vaste invoer leidraad'!I7<>"",'Vaste invoer leidraad'!I7,"")
A6: =IF('Vaste invoer leidraad'!A8<>"",'Vaste invoer leidraad'!A8,"") | E6: =IF('Vaste invoer leidraad'!E8<>"",'Vaste invoer leidraad'!E8,"") | I6: =IF('Vaste invoer leidraad'!I8<>"",'Vaste invoer leidraad'!I8,"")
A7: =IF('Vaste invoer leidraad'!A9<>"",'Vaste invoer leidraad'!A9,"") | B7: =IF('Vaste invoer leidraad'!B9<>"",'Vaste invoer leidraad'!B9,"") -> Instandhoudingskosten | D7: =IF('Vaste invoer leidraad'!D9<>"",'Vaste invoer leidraad'!D9,"") -> Percentage | E7: =IF('Vaste invoer leidraad'!E9<>"",'Vaste invoer leidraad'!E9,"") | F7: =IF('Vaste invoer leidraad'!F9<>"",'Vaste invoer leidraad'!F9,"") -> Instandhoudingskosten | H7: =IF('Vaste invoer leidraad'!H9<>"",'Vaste invoer leidraad'!H9,"") -> Percentage | I7: =IF('Vaste invoer leidraad'!I9<>"",'Vaste invoer leidraad'!I9,"")
A8: =IF('Vaste invoer leidraad'!A10<>"",'Vaste invoer leidraad'!A10,"") | B8: =IF('Vaste invoer leidraad'!B10<>"",'Vaste invoer leidraad'!B10,"") -> van | C8: =IF('Vaste invoer leidraad'!C10<>"",'Vaste invoer leidraad'!C10,"") -> tot | D8: =IF('Vaste invoer leidraad'!D10<>"",'Vaste invoer leidraad'!D10,"") | E8: =IF('Vaste invoer leidraad'!E10<>"",'Vaste invoer leidraad'!E10,"") | F8: =IF('Vaste invoer leidraad'!F10<>"",'Vaste invoer leidraad'!F10,"") -> van | G8: =IF('Vaste invoer leidraad'!G10<>"",'Vaste invoer leidraad'!G10,"") -> tot | H8: =IF('Vaste invoer leidraad'!H10<>"",'Vaste invoer leidraad'!H10,"") | I8: =IF('Vaste invoer leidraad'!I10<>"",'Vaste invoer leidraad'!I10,"")
A9: =IF('Vaste invoer leidraad'!A11<>"",'Vaste invoer leidraad'!A11,"") | B9: =IF('Vaste invoer leidraad'!B11<>"",'Vaste invoer leidraad'!B11,"") -> 0 | C9: =IF('Vaste invoer leidraad'!C11<>"",'Vaste invoer leidraad'!C11,"") -> 50000 | D9: =IF('Vaste invoer leidraad'!D11<>"",'Vaste invoer leidraad'!D11,"") -> 0.0343 | E9: =IF('Vaste invoer leidraad'!E11<>"",'Vaste invoer leidraad'!E11,"") | F9: =IF('Vaste invoer leidraad'!F11<>"",'Vaste invoer leidraad'!F11,"") -> 0 | G9: =IF('Vaste invoer leidraad'!G11<>"",'Vaste invoer leidraad'!G11,"") -> 50000 | H9: =IF('Vaste invoer leidraad'!H11<>"",'Vaste invoer leidraad'!H11,"") -> 0.0786 | I9: =IF('Vaste invoer leidraad'!I11<>"",'Vaste invoer leidraad'!I11,"")
A10: =IF('Vaste invoer leidraad'!A12<>"",'Vaste invoer leidraad'!A12,"") | B10: =IF('Vaste invoer leidraad'!B12<>"",'Vaste invoer leidraad'!B12,"") -> 50000 | C10: =IF('Vaste invoer leidraad'!C12<>"",'Vaste invoer leidraad'!C12,"") -> 100000 | D10: =IF('Vaste invoer leidraad'!D12<>"",'Vaste invoer leidraad'!D12,"") -> 0.0322 | E10: =IF('Vaste invoer leidraad'!E12<>"",'Vaste invoer leidraad'!E12,"") | F10: =IF('Vaste invoer leidraad'!F12<>"",'Vaste invoer leidraad'!F12,"") -> 50000 | G10: =IF('Vaste invoer leidraad'!G12<>"",'Vaste invoer leidraad'!G12,"") -> 100000 | H10: =IF('Vaste invoer leidraad'!H12<>"",'Vaste invoer leidraad'!H12,"") -> 0.0736 | I10: =IF('Vaste invoer leidraad'!I12<>"",'Vaste invoer leidraad'!I12,"")
A11: =IF('Vaste invoer leidraad'!A13<>"",'Vaste invoer leidraad'!A13,"") | B11: =IF('Vaste invoer leidraad'!B13<>"",'Vaste invoer leidraad'!B13,"") -> 100000 | C11: =IF('Vaste invoer leidraad'!C13<>"",'Vaste invoer leidraad'!C13,"") -> 150000 | D11: =IF('Vaste invoer leidraad'!D13<>"",'Vaste invoer leidraad'!D13,"") -> 0.0304 | E11: =IF('Vaste invoer leidraad'!E13<>"",'Vaste invoer leidraad'!E13,"") | F11: =IF('Vaste invoer leidraad'!F13<>"",'Vaste invoer leidraad'!F13,"") -> 100000 | G11: =IF('Vaste invoer leidraad'!G13<>"",'Vaste invoer leidraad'!G13,"") -> 150000 | H11: =IF('Vaste invoer leidraad'!H13<>"",'Vaste invoer leidraad'!H13,"") -> 0.0695 | I11: =IF('Vaste invoer leidraad'!I13<>"",'Vaste invoer leidraad'!I13,"")
A12: =IF('Vaste invoer leidraad'!A14<>"",'Vaste invoer leidraad'!A14,"") | B12: =IF('Vaste invoer leidraad'!B14<>"",'Vaste invoer leidraad'!B14,"") -> 150000 | C12: =IF('Vaste invoer leidraad'!C14<>"",'Vaste invoer leidraad'!C14,"") -> 200000 | D12: =IF('Vaste invoer leidraad'!D14<>"",'Vaste invoer leidraad'!D14,"") -> 0.0289 | E12: =IF('Vaste invoer leidraad'!E14<>"",'Vaste invoer leidraad'!E14,"") | F12: =IF('Vaste invoer leidraad'!F14<>"",'Vaste invoer leidraad'!F14,"") -> 150000 | G12: =IF('Vaste invoer leidraad'!G14<>"",'Vaste invoer leidraad'!G14,"") -> 200000 | H12: =IF('Vaste invoer leidraad'!H14<>"",'Vaste invoer leidraad'!H14,"") -> 0.0661 | I12: =IF('Vaste invoer leidraad'!I14<>"",'Vaste invoer leidraad'!I14,"")
A13: =IF('Vaste invoer leidraad'!A15<>"",'Vaste invoer leidraad'!A15,"") | B13: =IF('Vaste invoer leidraad'!B15<>"",'Vaste invoer leidraad'!B15,"") -> 200000 | C13: =IF('Vaste invoer leidraad'!C15<>"",'Vaste invoer leidraad'!C15,"") -> 250000 | D13: =IF('Vaste invoer leidraad'!D15<>"",'Vaste invoer leidraad'!D15,"") -> 0.0276 | E13: =IF('Vaste invoer leidraad'!E15<>"",'Vaste invoer leidraad'!E15,"") | F13: =IF('Vaste invoer leidraad'!F15<>"",'Vaste invoer leidraad'!F15,"") -> 200000 | G13: =IF('Vaste invoer leidraad'!G15<>"",'Vaste invoer leidraad'!G15,"") -> 250000 | H13: =IF('Vaste invoer leidraad'!H15<>"",'Vaste invoer leidraad'!H15,"") -> 0.0632 | I13: =IF('Vaste invoer leidraad'!I15<>"",'Vaste invoer leidraad'!I15,"")
A14: =IF('Vaste invoer leidraad'!A16<>"",'Vaste invoer leidraad'!A16,"") | B14: =IF('Vaste invoer leidraad'!B16<>"",'Vaste invoer leidraad'!B16,"") -> 250000 | C14: =IF('Vaste invoer leidraad'!C16<>"",'Vaste invoer leidraad'!C16,"") -> 300000 | D14: =IF('Vaste invoer leidraad'!D16<>"",'Vaste invoer leidraad'!D16,"") -> 0.0266 | E14: =IF('Vaste invoer leidraad'!E16<>"",'Vaste invoer leidraad'!E16,"") | F14: =IF('Vaste invoer leidraad'!F16<>"",'Vaste invoer leidraad'!F16,"") -> 250000 | G14: =IF('Vaste invoer leidraad'!G16<>"",'Vaste invoer leidraad'!G16,"") -> 300000 | H14: =IF('Vaste invoer leidraad'!H16<>"",'Vaste invoer leidraad'!H16,"") -> 0.0608 | I14: =IF('Vaste invoer leidraad'!I16<>"",'Vaste invoer leidraad'!I16,"")
A15: =IF('Vaste invoer leidraad'!A17<>"",'Vaste invoer leidraad'!A17,"") | B15: =IF('Vaste invoer leidraad'!B17<>"",'Vaste invoer leidraad'!B17,"") -> 300000 | C15: =IF('Vaste invoer leidraad'!C17<>"",'Vaste invoer leidraad'!C17,"") -> 350000 | D15: =IF('Vaste invoer leidraad'!D17<>"",'Vaste invoer leidraad'!D17,"") -> 0.0256 | E15: =IF('Vaste invoer leidraad'!E17<>"",'Vaste invoer leidraad'!E17,"") | F15: =IF('Vaste invoer leidraad'!F17<>"",'Vaste invoer leidraad'!F17,"") -> 300000 | G15: =IF('Vaste invoer leidraad'!G17<>"",'Vaste invoer leidraad'!G17,"") -> 350000 | H15: =IF('Vaste invoer leidraad'!H17<>"",'Vaste invoer leidraad'!H17,"") -> 0.0586 | I15: =IF('Vaste invoer leidraad'!I17<>"",'Vaste invoer leidraad'!I17,"")
A16: =IF('Vaste invoer leidraad'!A18<>"",'Vaste invoer leidraad'!A18,"") | B16: =IF('Vaste invoer leidraad'!B18<>"",'Vaste invoer leidraad'!B18,"") -> 350000 | C16: =IF('Vaste invoer leidraad'!C18<>"",'Vaste invoer leidraad'!C18,"") -> 400000 | D16: =IF('Vaste invoer leidraad'!D18<>"",'Vaste invoer leidraad'!D18,"") -> 0.0248 | E16: =IF('Vaste invoer leidraad'!E18<>"",'Vaste invoer leidraad'!E18,"") | F16: =IF('Vaste invoer leidraad'!F18<>"",'Vaste invoer leidraad'!F18,"") -> 350000 | G16: =IF('Vaste invoer leidraad'!G18<>"",'Vaste invoer leidraad'!G18,"") -> 400000 | H16: =IF('Vaste invoer leidraad'!H18<>"",'Vaste invoer leidraad'!H18,"") -> 0.0568 | I16: =IF('Vaste invoer leidraad'!I18<>"",'Vaste invoer leidraad'!I18,"")
A17: =IF('Vaste invoer leidraad'!A19<>"",'Vaste invoer leidraad'!A19,"") | B17: =IF('Vaste invoer leidraad'!B19<>"",'Vaste invoer leidraad'!B19,"") -> 400000 | C17: =IF('Vaste invoer leidraad'!C19<>"",'Vaste invoer leidraad'!C19,"") -> 450000 | D17: =IF('Vaste invoer leidraad'!D19<>"",'Vaste invoer leidraad'!D19,"") -> 0.0241 | E17: =IF('Vaste invoer leidraad'!E19<>"",'Vaste invoer leidraad'!E19,"") | F17: =IF('Vaste invoer leidraad'!F19<>"",'Vaste invoer leidraad'!F19,"") -> 400000 | G17: =IF('Vaste invoer leidraad'!G19<>"",'Vaste invoer leidraad'!G19,"") -> 450000 | H17: =IF('Vaste invoer leidraad'!H19<>"",'Vaste invoer leidraad'!H19,"") -> 0.0552 | I17: =IF('Vaste invoer leidraad'!I19<>"",'Vaste invoer leidraad'!I19,"")
A18: =IF('Vaste invoer leidraad'!A20<>"",'Vaste invoer leidraad'!A20,"") | B18: =IF('Vaste invoer leidraad'!B20<>"",'Vaste invoer leidraad'!B20,"") -> 450000 | C18: =IF('Vaste invoer leidraad'!C20<>"",'Vaste invoer leidraad'!C20,"") -> 500000 | D18: =IF('Vaste invoer leidraad'!D20<>"",'Vaste invoer leidraad'!D20,"") -> 0.0235 | E18: =IF('Vaste invoer leidraad'!E20<>"",'Vaste invoer leidraad'!E20,"") | F18: =IF('Vaste invoer leidraad'!F20<>"",'Vaste invoer leidraad'!F20,"") -> 450000 | G18: =IF('Vaste invoer leidraad'!G20<>"",'Vaste invoer leidraad'!G20,"") -> 500000 | H18: =IF('Vaste invoer leidraad'!H20<>"",'Vaste invoer leidraad'!H20,"") -> 0.0537 | I18: =IF('Vaste invoer leidraad'!I20<>"",'Vaste invoer leidraad'!I20,"")
A19: =IF('Vaste invoer leidraad'!A21<>"",'Vaste invoer leidraad'!A21,"") | B19: =IF('Vaste invoer leidraad'!B21<>"",'Vaste invoer leidraad'!B21,"") -> 500000 | C19: =IF('Vaste invoer leidraad'!C21<>"",'Vaste invoer leidraad'!C21,"") -> 550000 | D19: =IF('Vaste invoer leidraad'!D21<>"",'Vaste invoer leidraad'!D21,"") -> 0.0229 | E19: =IF('Vaste invoer leidraad'!E21<>"",'Vaste invoer leidraad'!E21,"") | F19: =IF('Vaste invoer leidraad'!F21<>"",'Vaste invoer leidraad'!F21,"") -> 500000 | G19: =IF('Vaste invoer leidraad'!G21<>"",'Vaste invoer leidraad'!G21,"") -> 550000 | H19: =IF('Vaste invoer leidraad'!H21<>"",'Vaste invoer leidraad'!H21,"") -> 0.0524 | I19: =IF('Vaste invoer leidraad'!I21<>"",'Vaste invoer leidraad'!I21,"")
... A50: =IF('Vaste invoer leidraad'!A52<>"",'Vaste invoer leidraad'!A52,"") | B50: =IF('Vaste invoer leidraad'!B52<>"",'Vaste invoer leidraad'!B52,"") | C50: =IF('Vaste invoer leidraad'!C52<>"",'Vaste invoer leidraad'!C52,"") | D50: =IF('Vaste invoer leidraad'!D52<>"",'Vaste invoer leidraad'!D52,"") | E50: =IF('Vaste invoer leidraad'!E52<>"",'Vaste invoer leidraad'!E52,"") | F50: =IF('Vaste invoer leidraad'!F52<>"",'Vaste invoer leidraad'!F52,"") | G50: =IF('Vaste invoer leidraad'!G52<>"",'Vaste invoer leidraad'!G52,"") | H50: =IF('Vaste invoer leidraad'!H52<>"",'Vaste invoer leidraad'!H52,"") | I50: =IF('Vaste invoer leidraad'!I52<>"",'Vaste invoer leidraad'!I52,"")
A51: =IF('Vaste invoer leidraad'!A53<>"",'Vaste invoer leidraad'!A53,"") | B51: =IF('Vaste invoer leidraad'!B53<>"",'Vaste invoer leidraad'!B53,"") -> bron: | C51: =HYPERLINK(IF('Vaste invoer leidraad'!C53<>"",'Vaste invoer leidraad'!C53,"")) -> https://wetten.overheid.nl/BWBR0032075/#Bijlage | I51: =IF('Vaste invoer leidraad'!I53<>"",'Vaste invoer leidraad'!I53,"")
A52: =IF('Vaste invoer leidraad'!A54<>"",'Vaste invoer leidraad'!A54,"") | B52: =IF('Vaste invoer leidraad'!B54<>"",'Vaste invoer leidraad'!B54,"") | C52: =IF('Vaste invoer leidraad'!C54<>"",'Vaste invoer leidraad'!C54,"") | D52: =IF('Vaste invoer leidraad'!D54<>"",'Vaste invoer leidraad'!D54,"") | E52: =IF('Vaste invoer leidraad'!E54<>"",'Vaste invoer leidraad'!E54,"") | F52: =IF('Vaste invoer leidraad'!F54<>"",'Vaste invoer leidraad'!F54,"") | G52: =IF('Vaste invoer leidraad'!G54<>"",'Vaste invoer leidraad'!G54,"") | H52: =IF('Vaste invoer leidraad'!H54<>"",'Vaste invoer leidraad'!H54,"") | I52: =IF('Vaste invoer leidraad'!I54<>"",'Vaste invoer leidraad'!I54,"")

Sheet Standaard invulgegevens
A1: STANDAARD INVULGEGEVENS
A2: jaarlijks te controleren
A4: eerste planjaar: | B4: 2027
A7: kosten hoogwerker in groen: | B7: 200 | C7: per dag | D7: LET OP: bij aanpassing ook tekstballon aanpassen ('gegevensvallidatie' 2 tabbladen)
A10: vaste eenheden
A11: strekkende meter | B11: m1
A12: vierkante meter | B12: m2
A13: kubieke meter | B13: m3
A14: post | B14: post
A15: stuks | B15: st
A16: stelpost | B16: stpst
A17: dag | B17: dag
A18: week | B18: wk
A19: vracht | B19: vr
A20: offerte | B20: off
A21: are | B21: are
A22: hectare | B22: ha

Sheet Vaste invoer leidraad
A1: VASTE INVOER VANUIT LEIDRAAD
A3: Honorariumpercentages | K3: Standaard staartkosten (maximale bedragen/percentages)
B4: Tabel voor de berekening van het honorarium inzake het opstellen van een instandhoudingsplan. | F4: Tabel voor de berekening van het honorarium inzake de planbegeleiding. | L4: Indirecte kosten
L5: Algemene bouwplaatskosten | M5: 0.09
L6: Algemene kosten | M6: 0.07
B7: Overzicht van honorariumpercentages gerelateerd aan de totale instandhoudingskosten: | F7: Overzicht van honorariumpercentages gerelateerd aan de totale instandhoudingskosten: | L7: Winst en risico | M7: 0.03
L8: Bovenstaand tot een maximum van | M8: 0.2
B9: Instandhoudingskosten | D9: Percentage | F9: Instandhoudingskosten | H9: Percentage
B10: van | C10: tot | F10: van | G10: tot | L10: Werken buiten de aanneemsom
B11: 0 | C11: 50000 | D11: 0.0343 | F11: 0 | G11: 50000 | H11: 0.0786 | L11: Coördinatievergoeding en ABK | M11: 0.03
B12: 50000 | C12: 100000 | D12: 0.0322 | F12: 50000 | G12: 100000 | H12: 0.0736
B13: 100000 | C13: 150000 | D13: 0.0304 | F13: 100000 | G13: 150000 | H13: 0.0695 | L13: Onvoorzien | M13: 0.05
B14: 150000 | C14: 200000 | D14: 0.0289 | F14: 150000 | G14: 200000 | H14: 0.0661
B15: 200000 | C15: 250000 | D15: 0.0276 | F15: 200000 | G15: 250000 | H15: 0.0632 | L15: Directiekosten
B16: 250000 | C16: 300000 | D16: 0.0266 | F16: 250000 | G16: 300000 | H16: 0.0608 | L16: Opstellen instandhoudingsplan | M16: zie tabel links
B17: 300000 | C17: 350000 | D17: 0.0256 | F17: 300000 | G17: 350000 | H17: 0.0586 | L17: Jaarlijkse begeleiding | M17: zie tabel links
B18: 350000 | C18: 400000 | D18: 0.0248 | F18: 350000 | G18: 400000 | H18: 0.0568
B19: 400000 | C19: 450000 | D19: 0.0241 | F19: 400000 | G19: 450000 | H19: 0.0552 | L19: Diverse adviseurs:
B20: 450000 | C20: 500000 | D20: 0.0235 | F20: 450000 | G20: 500000 | H20: 0.0537 | L20: Kosten accountant | M20: 5000
B21: 500000 | C21: 550000 | D21: 0.0229 | F21: 500000 | G21: 550000 | H21: 0.0524
B22: 550000 | C22: 600000 | D22: 0.0224 | F22: 550000 | G22: 600000 | H22: 0.0512 | L22: Leges | M22: 0.015
B23: 600000 | C23: 650000 | D23: 0.0219 | F23: 600000 | G23: 650000 | H23: 0.0502 | L23: CAR-verzekering | M23: 0.004
B24: 650000 | C24: 700000 | D24: 0.0215 | F24: 650000 | G24: 700000 | H24: 0.0492
B25: 700000 | C25: 750000 | D25: 0.0211 | F25: 700000 | G25: 750000 | H25: 0.0483 | L25: Indexeringspercentage | M25: 0.03
B26: 750000 | C26: 800000 | D26: 0.0208 | F26: 750000 | G26: 800000 | H26: 0.0475
B27: 800000 | C27: 850000 | D27: 0.0205 | F27: 800000 | G27: 850000 | H27: 0.0468 | L27: Btw | M27: 0.21
B28: 850000 | C28: 900000 | D28: 0.0202 | F28: 850000 | G28: 900000 | H28: 0.0461
B29: 900000 | C29: 950000 | D29: 0.0199 | F29: 900000 | G29: 950000 | H29: 0.0455
B30: 950000 | C30: 1000000 | D30: 0.0196 | F30: 950000 | G30: 1000000 | H30: 0.0449 | L30: Kleine rijksbeschermde gebouwde elementen (maximaal 4)
B31: 1000000 | C31: 1050000 | D31: 0.0194 | F31: 1000000 | G31: 1050000 | H31: 0.0443 | L31: Element naam/omschrijving en eventueel rijksmonumentnummer | M31: n.v.t.
B32: 1050000 | C32: 1100000 | D32: 0.0192 | F32: 1050000 | G32: 1100000 | H32: 0.0438
B33: 1100000 | C33: 1150000 | D33: 0.0189 | F33: 1100000 | G33: 1150000 | H33: 0.0433
B34: 1150000 | C34: 1200000 | D34: 0.0188 | F34: 1150000 | G34: 1200000 | H34: 0.0429
B35: 1200000 | C35: 1250000 | D35: 0.0186 | F35: 1200000 | G35: 1250000 | H35: 0.0425
B36: 1250000 | C36: 1300000 | D36: 0.0184 | F36: 1250000 | G36: 1300000 | H36: 0.0421
B37: 1300000 | C37: 1350000 | D37: 0.0182 | F37: 1300000 | G37: 1350000 | H37: 0.0417
B38: 1350000 | C38: 1400000 | D38: 0.0181 | F38: 1350000 | G38: 1400000 | H38: 0.0414
B39: 1400000 | C39: 1450000 | D39: 0.0179 | F39: 1400000 | G39: 1450000 | H39: 0.041
B40: 1450000 | C40: 1500000 | D40: 0.0178 | F40: 1450000 | G40: 1500000 | H40: 0.0407
B41: 1500000 | C41: 1550000 | D41: 0.0177 | F41: 1500000 | G41: 1550000 | H41: 0.0404
...
